Workbook

Sheet Sheet3
B2: 1.3137387 | C2: -0.17540741 | D2: 0.4318903 | E2: 1.2139754 | F2: -1.3353117
B3: 1.3684535 | C3: 0.11268347 | D3: -0.20359242 | E3: 0.51537411 | F3: 1.7342368
B4: 0.23933703 | C4: 1.5862453 | D4: -1.5498142 | E4: 0.00025076494 | F4: -0.4739404
B5: 0.031864325 | C5: 1.59968 | D5: 1.602957 | E5: -0.23258952 | F5: 0.12821674
B6: -1.2422271 | C6: 0.28527999 | D6: -0.025008743 | E6: 1.8456856 | F6: 0.41025163

Sheet Sheet2
B2: 0.211459 | C2: 1.179765 | D2: 0.61853721 | E2: -0.12139171 | F2: 0.095767355
B3: -2.6720578 | C3: 0.50065646 | D3: 0.2128083 | E3: -0.41824837 | F3: 0.46909719
B4: -1.6272095 | C4: 0.96832949 | D4: -1.1700993 | E4: 0.59142907 | F4: 0.1451958
B5: -1.6796835 | C5: 0.80652693 | D5: 0.56499466 | E5: 0.77501996 | F5: 0.84292752
B6: 1.4386176 | C6: 2.5549625 | D6: 0.82124007 | E6: 0.081244146 | F6: 0.49169723
B7: -1.2418219 | C7: 0.52916444 | D7: 0.66952909 | E7: -0.93096278 | F7: -0.20700448
B8: 0.094317262 | C8: -0.34965089 | D8: -0.98210407 | E8: 0.48333767 | F8: -0.40288408
B9: -0.97558453 | C9: -1.3529692 | D9: 0.52385753 | E9: 0.026437551 | F9: -0.63562354
B10: -2.0569802 | C10: -0.73738952 | D10: -0.080346694 | E10: 0.18067784 | F10: -0.21356015
B11: 0.69292272 | C11: -0.32002866 | D11: -0.092523069 | E11: -0.85704869 | F11: -0.45673674
B12: -0.65511772 | C12: -0.36183586 | D12: -1.0765802 | E12: -0.47725666 | F12: 0.041471055
B13: -2.4746758 | C13: -2.0703677 | D13: -0.32885465 | E13: 0.3843683 | F13: 0.67497158
... B27: 0.7909762 | C27: -0.76690677 | D27: 0.60175335 | E27: 0.51062003 | F27: -1.1044861

Sheet Sheet5
B2: 1.3208109 | C2: -0.037934349
B3: 1.3562696 | C3: 0.25486187
B4: 0.13352604 | C4: 1.6057016
B5: -0.074119319 | C5: 1.5974751
B6: -1.256818 | C6: 0.15487766

Sheet Sheet4
B2: 0.058175792 | C2: 0.98879013
B3: -1.7985471 | C3: 0.26769153
B4: -1.1410532 | C4: 0.71252385
B5: -1.1645278 | C5: 0.57562195
B6: 0.77339125 | C6: 2.1953218
B7: -0.85632545 | C7: 0.36997821
B8: 0.086395992 | C8: -0.28441541
B9: -0.55066963 | C9: -1.1742821
B10: -1.3070515 | C10: -0.72390449
B11: 0.4795289 | C11: -0.22695223
B12: -0.40751245 | C12: -0.33573276
B13: -1.4908032 | C13: -1.8509404
... B27: 0.57510155 | C27: -0.59169202

Sheet INTRO
A1: This spreadsheet was created by Nigel Marriott, Independent Statistician
A3: Version | B3: 2026 v1.0
A4: Date | B4: 46296
A5: Web | B5: www.marriott-stats.com
A6: Blog | B6: www.nigelmarriott.com
A7: Twitter | B7: Nigel Marriott (@MarriottNigel) / Twitter
A9: For more details on how to use this spreadsheet and what each sheet contains please read this blog post
B10: All Rugby Trophy Winners (Men) since 1984 (marriott-stats.com)
A12: All sheets are protected but there is no password if you wish to unprotect.
A14: Data Source
A15: All data is sourced from Wikipedia.
A17: Notes about the various competitions
A18: Following the COVID19 pandemic in 2020, the 4 South African teams who had been competing in Super Rugby switched to the URC
A19: The ranking worksheets take this into account and give credit to these teams across both leagues
A21: Up till 2002, the English Premiership was decided on league placings. Since 2003, the winners have been decided through a play off system like all other leagues.
A23: South Africa were ineligible for the 1987 and 1991 world cups due to apartheid.
A25: The Six Nations was the Five Nations between 1984 & 1999
A27: The very first Champions Cup in 1996 did not include English or Scottish clubs
A29: Up to 2005, the English cup competition was an open cup but since 2006 it has been a closed tournament.
A31: From 2026, the Rugby Championship will not be played every 4 years. This is to enable a New Zealand V South Africa tour instead

Sheet Data1988-2026England
B1: WINNERS | F1: Runners Up | L1: Doubles
B2: League | C2: Cup | D2: Champions | E2: Challenge | F2: League | G2: Cup | H2: Champions | I2: Challenge | J2: League PO1 | K2: League PO2 | L2: LgEu | M2: Lg/Cup | N2: Cup/EU
A3: 1988 | B3: Leicester | C3: Harlequins | F3: Wasps | G3: Bristol | L3: =IF(OR(B3=D3,B3=E3),B3,"") | M3: =IF(B3=C3,B3,"") | N3: =IF(OR(C3=D3,C3=E3),C3,"")
A4: 1989 | B4: Bath | C4: Bath | F4: Gloucester | G4: Leicester | L4: =IF(OR(B4=D4,B4=E4),B4,"") | M4: =IF(B4=C4,B4,"") -> Bath | N4: =IF(OR(C4=D4,C4=E4),C4,"")
A5: 1990 | B5: Wasps | C5: Bath | F5: Gloucester | G5: Gloucester | L5: =IF(OR(B5=D5,B5=E5),B5,"") | M5: =IF(B5=C5,B5,"") | N5: =IF(OR(C5=D5,C5=E5),C5,"")
A6: 1991 | B6: Bath | C6: Harlequins | F6: Wasps | G6: Northampton | L6: =IF(OR(B6=D6,B6=E6),B6,"") | M6: =IF(B6=C6,B6,"") | N6: =IF(OR(C6=D6,C6=E6),C6,"")
A7: 1992 | B7: Bath | C7: Bath | F7: Orrell | G7: Harlequins | L7: =IF(OR(B7=D7,B7=E7),B7,"") | M7: =IF(B7=C7,B7,"") -> Bath | N7: =IF(OR(C7=D7,C7=E7),C7,"")
A8: 1993 | B8: Bath | C8: Leicester | F8: Wasps | G8: Harlequins | L8: =IF(OR(B8=D8,B8=E8),B8,"") | M8: =IF(B8=C8,B8,"") | N8: =IF(OR(C8=D8,C8=E8),C8,"")
A9: 1994 | B9: Bath | C9: Bath | F9: Leicester | G9: Leicester | L9: =IF(OR(B9=D9,B9=E9),B9,"") | M9: =IF(B9=C9,B9,"") -> Bath | N9: =IF(OR(C9=D9,C9=E9),C9,"")
A10: 1995 | B10: Leicester | C10: Bath | F10: Bath | G10: Wasps | L10: =IF(OR(B10=D10,B10=E10),B10,"") | M10: =IF(B10=C10,B10,"") | N10: =IF(OR(C10=D10,C10=E10),C10,"")
A11: 1996 | B11: Bath | C11: Bath | F11: Leicester | G11: Leicester | L11: =IF(OR(B11=D11,B11=E11),B11,"") | M11: =IF(B11=C11,B11,"") -> Bath | N11: =IF(OR(C11=D11,C11=E11),C11,"")
A12: 1997 | B12: Wasps | C12: Leicester | F12: Bath | G12: Sale | H12: Leicester | L12: =IF(OR(B12=D12,B12=E12),B12,"") | M12: =IF(B12=C12,B12,"") | N12: =IF(OR(C12=D12,C12=E12),C12,"")
A13: 1998 | B13: Newcastle | C13: Saracens | D13: Bath | F13: Saracens | G13: Wasps | L13: =IF(OR(B13=D13,B13=E13),B13,"") | M13: =IF(B13=C13,B13,"") | N13: =IF(OR(C13=D13,C13=E13),C13,"")
A14: 1999 | B14: Leicester | C14: Wasps | F14: Northampton | G14: Newcastle | L14: =IF(OR(B14=D14,B14=E14),B14,"") | M14: =IF(B14=C14,B14,"") | N14: =IF(OR(C14=D14,C14=E14),C14,"")
A15: 2000 | B15: Leicester | C15: Wasps | D15: Northampton | F15: Bath | G15: Northampton | L15: =IF(OR(B15=D15,B15=E15),B15,"") | M15: =IF(B15=C15,B15,"") | N15: =IF(OR(C15=D15,C15=E15),C15,"")
A16: 2001 | B16: Leicester | C16: Newcastle | D16: Leicester | E16: Harlequins | F16: Wasps | G16: Harlequins | L16: =IF(OR(B16=D16,B16=E16),B16,"") -> Leicester | M16: =IF(B16=C16,B16,"") | N16: =IF(OR(C16=D16,C16=E16),C16,"")
A17: 2002 | B17: Leicester | C17: London Irish | D17: Leicester | E17: Sale | F17: Sale | G17: Northampton | L17: =IF(OR(B17=D17,B17=E17),B17,"") -> Leicester | M17: =IF(B17=C17,B17,"") | N17: =IF(OR(C17=D17,C17=E17),C17,"")
A18: 2003 | B18: Wasps | C18: Gloucester | E18: Wasps | F18: Gloucester | G18: Northampton | I18: Bath | J18: Northampton | L18: =IF(OR(B18=D18,B18=E18),B18,"") -> Wasps | M18: =IF(B18=C18,B18,"") | N18: =IF(OR(C18=D18,C18=E18),C18,"")
A19: 2004 | B19: Wasps | C19: Newcastle | D19: Wasps | E19: Harlequins | F19: Bath | G19: Sale | J19: Northampton | L19: =IF(OR(B19=D19,B19=E19),B19,"") -> Wasps | M19: =IF(B19=C19,B19,"") | N19: =IF(OR(C19=D19,C19=E19),C19,"")
A20: 2005 | B20: Wasps | C20: Leeds | E20: Sale | F20: Leicester | G20: Bath | J20: Sale | L20: =IF(OR(B20=D20,B20=E20),B20,"") | M20: =IF(B20=C20,B20,"") | N20: =IF(OR(C20=D20,C20=E20),C20,"")
A21: 2006 | B21: Sale | C21: Wasps | E21: Gloucester | F21: Leicester | G21: Scarlets | I21: London Irish | J21: Wasps | K21: London Irish | L21: =IF(OR(B21=D21,B21=E21),B21,"") | M21: =IF(B21=C21,B21,"") | N21: =IF(OR(C21=D21,C21=E21),C21,"")
A22: 2007 | B22: Leicester | C22: Leicester | D22: Wasps | F22: Gloucester | G22: Ospreys | H22: Leicester | I22: Bath | J22: Bristol | K22: Saracens | L22: =IF(OR(B22=D22,B22=E22),B22,"") | M22: =IF(B22=C22,B22,"") -> Leicester | N22: =IF(OR(C22=D22,C22=E22),C22,"")
A23: 2008 | B23: Wasps | C23: Ospreys | E23: Bath | F23: Leicester | G23: Leicester | I23: Worcester | J23: Bath | K23: Gloucester | L23: =IF(OR(B23=D23,B23=E23),B23,"") | M23: =IF(B23=C23,B23,"") | N23: =IF(OR(C23=D23,C23=E23),C23,"")
A24: 2009 | B24: Leicester | C24: Cardiff | E24: Northampton | F24: London Irish | G24: Gloucester | H24: Leicester | J24: Bath | K24: Harlequins | L24: =IF(OR(B24=D24,B24=E24),B24,"") | M24: =IF(B24=C24,B24,"") | N24: =IF(OR(C24=D24,C24=E24),C24,"")
A25: 2010 | B25: Leicester | C25: Northampton | F25: Saracens | G25: Gloucester | J25: Bath | K25: Northampton | L25: =IF(OR(B25=D25,B25=E25),B25,"") | M25: =IF(B25=C25,B25,"") | N25: =IF(OR(C25=D25,C25=E25),C25,"")
A26: 2011 | B26: Saracens | C26: Gloucester | E26: Harlequins | F26: Leicester | G26: Newcastle | H26: Northampton | J26: Gloucester | K26: Northampton | L26: =IF(OR(B26=D26,B26=E26),B26,"") | M26: =IF(B26=C26,B26,"") | N26: =IF(OR(C26=D26,C26=E26),C26,"")
A27: 2012 | B27: Harlequins | C27: Leicester | F27: Leicester | G27: Northampton | J27: Saracens | K27: Northampton | L27: =IF(OR(B27=D27,B27=E27),B27,"") | M27: =IF(B27=C27,B27,"") | N27: =IF(OR(C27=D27,C27=E27),C27,"")
A28: 2013 | B28: Leicester | C28: Harlequins | F28: Northampton | G28: Sale | J28: Harlequins | K28: Saracens | L28: =IF(OR(B28=D28,B28=E28),B28,"") | M28: =IF(B28=C28,B28,"") | N28: =IF(OR(C28=D28,C28=E28),C28,"")
A29: 2014 | B29: Northampton | C29: Exeter | E29: Northampton | F29: Saracens | G29: Northampton | H29: Saracens | I29: Bath | J29: Leicester | K29: Harlequins | L29: =IF(OR(B29=D29,B29=E29),B29,"") -> Northampton | M29: =IF(B29=C29,B29,"") | N29: =IF(OR(C29=D29,C29=E29),C29,"")
A30: 2015 | B30: Saracens | C30: Saracens | E30: Gloucester | F30: Bath | G30: Exeter | J30: Leicester | K30: Northampton | L30: =IF(OR(B30=D30,B30=E30),B30,"") | M30: =IF(B30=C30,B30,"") -> Saracens | N30: =IF(OR(C30=D30,C30=E30),C30,"")
A31: 2016 | B31: Saracens | C31: ******* | D31: Saracens | F31: Exeter | G31: ******* | I31: Harlequins | J31: Leicester | K31: Wasps | L31: =IF(OR(B31=D31,B31=E31),B31,"") -> Saracens | M31: =IF(B31=C31,B31,"") | N31: =IF(OR(C31=D31,C31=E31),C31,"")
A32: 2017 | B32: Exeter | C32: Leicester | D32: Saracens | F32: Wasps | G32: Exeter | I32: Gloucester | J32: Leicester | K32: Saracens | L32: =IF(OR(B32=D32,B32=E32),B32,"") | M32: =IF(B32=C32,B32,"") | N32: =IF(OR(C32=D32,C32=E32),C32,"")
A33: 2018 | B33: Saracens | C33: Exeter | F33: Exeter | G33: Bath | I33: Gloucester | J33: Wasps | K33: Newcastle | L33: =IF(OR(B33=D33,B33=E33),B33,"") | M33: =IF(B33=C33,B33,"") | N33: =IF(OR(C33=D33,C33=E33),C33,"")
A34: 2019 | B34: Saracens | C34: Northampton | D34: Saracens | F34: Exeter | G34: Saracens | J34: Gloucester | K34: Northampton | L34: =IF(OR(B34=D34,B34=E34),B34,"") -> Saracens | M34: =IF(B34=C34,B34,"") | N34: =IF(OR(C34=D34,C34=E34),C34,"")
A35: 2020 | B35: Exeter | C35: Sale | D35: Exeter | E35: Bristol | F35: Wasps | G35: Harlequins | J35: Bath | K35: Bristol | L35: =IF(OR(B35=D35,B35=E35),B35,"") -> Exeter | M35: =IF(B35=C35,B35,"") | N35: =IF(OR(C35=D35,C35=E35),C35,"")
A36: 2021 | B36: Harlequins | C36: ******* | F36: Exeter | G36: ******* | I36: Leicester | J36: Sale | K36: Bristol | L36: =IF(OR(B36=D36,B36=E36),B36,"") | M36: =IF(B36=C36,B36,"") | N36: =IF(OR(C36=D36,C36=E36),C36,"")
A37: 2022 | B37: Leicester | C37: Worcester | F37: Saracens | G37: London Irish | J37: Harlequins | K37: Northampton | L37: =IF(OR(B37=D37,B37=E37),B37,"") | M37: =IF(B37=C37,B37,"") | N37: =IF(OR(C37=D37,C37=E37),C37,"")
A38: 2023 | B38: Saracens | C38: Exeter | F38: Sale | G38: London Irish | J38: Leicester | K38: Northampton | L38: =IF(OR(B38=D38,B38=E38),B38,"") | M38: =IF(B38=C38,B38,"") | N38: =IF(OR(C38=D38,C38=E38),C38,"")
A39: 2024 | B39: Northampton | C39: Gloucester | F39: Bath | G39: Leicester | J39: Sale | K39: Saracens | L39: =IF(OR(B39=D39,B39=E39),B39,"") | M39: =IF(B39=C39,B39,"") | N39: =IF(OR(C39=D39,C39=E39),C39,"")
A40: 2025 | B40: Bath | C40: Bath | E40: Bath | F40: Leicester | G40: Exeter | H40: Northampton | J40: Sale | K40: Bristol | L40: =IF(OR(B40=D40,B40=E40),B40,"") -> Bath | M40: =IF(B40=C40,B40,"") -> Bath | N40: =IF(OR(C40=D40,C40=E40),C40,"") -> Bath
...

Sheet RankingsEngland
A1: Success - ENGLAND
A2: Since | B2: 1988 | C2: Wins | H2: Runner Ups | M2: PO | N2: Combo | O2: Points
A4: Rank | B4: Team | C4: Prem | D4: Cup | E4: EU1 | F4: EU2 | G4: #Wins | H4: Prem | I4: Cup | J4: EU1 | K4: EU2 | L4: #RUs | M4: Prem | N4: TOTAL | O4: TOTAL
A5: =ROW()-4 -> 1 | B5: Leicester | C5: =COUNTIFS('Data1988-2026England'!B:B,$B5,'Data1988-2026England'!$A:$A,">="&$B$2) -> 11 | D5: =COUNTIFS('Data1988-2026England'!C:C,$B5,'Data1988-2026England'!$A:$A,">="&$B$2) -> 6 | E5: =COUNTIFS('Data1988-2026England'!D:D,$B5,'Data1988-2026England'!$A:$A,">="&$B$2) -> 2 | F5: =COUNTIFS('Data1988-2026England'!E:E,$B5,'Data1988-2026England'!$A:$A,">="&$B$2) -> 0 | G5: =SUM(C5:F5) -> 19 | H5: =COUNTIFS('Data1988-2026England'!F:F,$B5,'Data1988-2026England'!$A:$A,">="&$B$2) -> 8 | I5: =COUNTIFS('Data1988-2026England'!G:G,$B5,'Data1988-2026England'!$A:$A,">="&$B$2) -> 5 | J5: =COUNTIFS('Data1988-2026England'!H:H,$B5,'Data1988-2026England'!$A:$A,">="&$B$2) -> 3 | K5: =COUNTIFS('Data1988-2026England'!I:I,$B5,'Data1988-2026England'!$A:$A,">="&$B$2) -> 1 | L5: =SUM(H5:K5) -> 17 | M5: =COUNTIFS('Data1988-2026England'!J:J,$B5,'Data1988-2026England'!$A:$A,">="&$B$2)+COUNTIFS('Data1988-2026England'!K:K,$B5,'Data1988-2026England'!$A:$A,">="&$B$2) -> 6 | N5: =L5+G5 -> 36 | O5: =SUMPRODUCT(C5:F5,$C$21:$F$21)+SUMPRODUCT(H5:K5,$H$21:$K$21)+M5*$M$21 -> 119
A6: =ROW()-4 -> 2 | B6: Bath | C6: =COUNTIFS('Data1988-2026England'!B:B,$B6,'Data1988-2026England'!$A:$A,">="&$B$2) -> 7 | D6: =COUNTIFS('Data1988-2026England'!C:C,$B6,'Data1988-2026England'!$A:$A,">="&$B$2) -> 7 | E6: =COUNTIFS('Data1988-2026England'!D:D,$B6,'Data1988-2026England'!$A:$A,">="&$B$2) -> 1 | F6: =COUNTIFS('Data1988-2026England'!E:E,$B6,'Data1988-2026England'!$A:$A,">="&$B$2) -> 2 | G6: =SUM(C6:F6) -> 17 | H6: =COUNTIFS('Data1988-2026England'!F:F,$B6,'Data1988-2026England'!$A:$A,">="&$B$2) -> 6 | I6: =COUNTIFS('Data1988-2026England'!G:G,$B6,'Data1988-2026England'!$A:$A,">="&$B$2) -> 2 | J6: =COUNTIFS('Data1988-2026England'!H:H,$B6,'Data1988-2026England'!$A:$A,">="&$B$2) -> 0 | K6: =COUNTIFS('Data1988-2026England'!I:I,$B6,'Data1988-2026England'!$A:$A,">="&$B$2) -> 3 | L6: =SUM(H6:K6) -> 11 | M6: =COUNTIFS('Data1988-2026England'!J:J,$B6,'Data1988-2026England'!$A:$A,">="&$B$2)+COUNTIFS('Data1988-2026England'!K:K,$B6,'Data1988-2026England'!$A:$A,">="&$B$2) -> 5 | N6: =L6+G6 -> 28 | O6: =SUMPRODUCT(C6:F6,$C$21:$F$21)+SUMPRODUCT(H6:K6,$H$21:$K$21)+M6*$M$21 -> 88
A7: =ROW()-4 -> 3 | B7: Saracens | C7: =COUNTIFS('Data1988-2026England'!B:B,$B7,'Data1988-2026England'!$A:$A,">="&$B$2) -> 6 | D7: =COUNTIFS('Data1988-2026England'!C:C,$B7,'Data1988-2026England'!$A:$A,">="&$B$2) -> 2 | E7: =COUNTIFS('Data1988-2026England'!D:D,$B7,'Data1988-2026England'!$A:$A,">="&$B$2) -> 3 | F7: =COUNTIFS('Data1988-2026England'!E:E,$B7,'Data1988-2026England'!$A:$A,">="&$B$2) -> 0 | G7: =SUM(C7:F7) -> 11 | H7: =COUNTIFS('Data1988-2026England'!F:F,$B7,'Data1988-2026England'!$A:$A,">="&$B$2) -> 4 | I7: =COUNTIFS('Data1988-2026England'!G:G,$B7,'Data1988-2026England'!$A:$A,">="&$B$2) -> 1 | J7: =COUNTIFS('Data1988-2026England'!H:H,$B7,'Data1988-2026England'!$A:$A,">="&$B$2) -> 1 | K7: =COUNTIFS('Data1988-2026England'!I:I,$B7,'Data1988-2026England'!$A:$A,">="&$B$2) -> 0 | L7: =SUM(H7:K7) -> 6 | M7: =COUNTIFS('Data1988-2026England'!J:J,$B7,'Data1988-2026England'!$A:$A,">="&$B$2)+COUNTIFS('Data1988-2026England'!K:K,$B7,'Data1988-2026England'!$A:$A,">="&$B$2) -> 5 | N7: =L7+G7 -> 17 | O7: =SUMPRODUCT(C7:F7,$C$21:$F$21)+SUMPRODUCT(H7:K7,$H$21:$K$21)+M7*$M$21 -> 73
A8: =ROW()-4 -> 4 | B8: Wasps | C8: =COUNTIFS('Data1988-2026England'!B:B,$B8,'Data1988-2026England'!$A:$A,">="&$B$2) -> 6 | D8: =COUNTIFS('Data1988-2026England'!C:C,$B8,'Data1988-2026England'!$A:$A,">="&$B$2) -> 3 | E8: =COUNTIFS('Data1988-2026England'!D:D,$B8,'Data1988-2026England'!$A:$A,">="&$B$2) -> 2 | F8: =COUNTIFS('Data1988-2026England'!E:E,$B8,'Data1988-2026England'!$A:$A,">="&$B$2) -> 1 | G8: =SUM(C8:F8) -> 12 | H8: =COUNTIFS('Data1988-2026England'!F:F,$B8,'Data1988-2026England'!$A:$A,">="&$B$2) -> 6 | I8: =COUNTIFS('Data1988-2026England'!G:G,$B8,'Data1988-2026England'!$A:$A,">="&$B$2) -> 2 | J8: =COUNTIFS('Data1988-2026England'!H:H,$B8,'Data1988-2026England'!$A:$A,">="&$B$2) -> 0 | K8: =COUNTIFS('Data1988-2026England'!I:I,$B8,'Data1988-2026England'!$A:$A,">="&$B$2) -> 0 | L8: =SUM(H8:K8) -> 8 | M8: =COUNTIFS('Data1988-2026England'!J:J,$B8,'Data1988-2026England'!$A:$A,">="&$B$2)+COUNTIFS('Data1988-2026England'!K:K,$B8,'Data1988-2026England'!$A:$A,">="&$B$2) -> 3 | N8: =L8+G8 -> 20 | O8: =SUMPRODUCT(C8:F8,$C$21:$F$21)+SUMPRODUCT(H8:K8,$H$21:$K$21)+M8*$M$21 -> 72
A9: =ROW()-4 -> 5 | B9: Northampton | C9: =COUNTIFS('Data1988-2026England'!B:B,$B9,'Data1988-2026England'!$A:$A,">="&$B$2) -> 3 | D9: =COUNTIFS('Data1988-2026England'!C:C,$B9,'Data1988-2026England'!$A:$A,">="&$B$2) -> 2 | E9: =COUNTIFS('Data1988-2026England'!D:D,$B9,'Data1988-2026England'!$A:$A,">="&$B$2) -> 1 | F9: =COUNTIFS('Data1988-2026England'!E:E,$B9,'Data1988-2026England'!$A:$A,">="&$B$2) -> 2 | G9: =SUM(C9:F9) -> 8 | H9: =COUNTIFS('Data1988-2026England'!F:F,$B9,'Data1988-2026England'!$A:$A,">="&$B$2) -> 2 | I9: =COUNTIFS('Data1988-2026England'!G:G,$B9,'Data1988-2026England'!$A:$A,">="&$B$2) -> 6 | J9: =COUNTIFS('Data1988-2026England'!H:H,$B9,'Data1988-2026England'!$A:$A,">="&$B$2) -> 2 | K9: =COUNTIFS('Data1988-2026England'!I:I,$B9,'Data1988-2026England'!$A:$A,">="&$B$2) -> 0 | L9: =SUM(H9:K9) -> 10 | M9: =COUNTIFS('Data1988-2026England'!J:J,$B9,'Data1988-2026England'!$A:$A,">="&$B$2)+COUNTIFS('Data1988-2026England'!K:K,$B9,'Data1988-2026England'!$A:$A,">="&$B$2) -> 9 | N9: =L9+G9 -> 18 | O9: =SUMPRODUCT(C9:F9,$C$21:$F$21)+SUMPRODUCT(H9:K9,$H$21:$K$21)+M9*$M$21 -> 51
A10: =ROW()-4 -> 6 | B10: Exeter | C10: =COUNTIFS('Data1988-2026England'!B:B,$B10,'Data1988-2026England'!$A:$A,">="&$B$2) -> 2 | D10: =COUNTIFS('Data1988-2026England'!C:C,$B10,'Data1988-2026England'!$A:$A,">="&$B$2) -> 3 | E10: =COUNTIFS('Data1988-2026England'!D:D,$B10,'Data1988-2026England'!$A:$A,">="&$B$2) -> 1 | F10: =COUNTIFS('Data1988-2026England'!E:E,$B10,'Data1988-2026England'!$A:$A,">="&$B$2) -> 0 | G10: =SUM(C10:F10) -> 6 | H10: =COUNTIFS('Data1988-2026England'!F:F,$B10,'Data1988-2026England'!$A:$A,">="&$B$2) -> 5 | I10: =COUNTIFS('Data1988-2026England'!G:G,$B10,'Data1988-2026England'!$A:$A,">="&$B$2) -> 4 | J10: =COUNTIFS('Data1988-2026England'!H:H,$B10,'Data1988-2026England'!$A:$A,">="&$B$2) -> 0 | K10: =COUNTIFS('Data1988-2026England'!I:I,$B10,'Data1988-2026England'!$A:$A,">="&$B$2) -> 0 | L10: =SUM(H10:K10) -> 9 | M10: =COUNTIFS('Data1988-2026England'!J:J,$B10,'Data1988-2026England'!$A:$A,">="&$B$2)+COUNTIFS('Data1988-2026England'!K:K,$B10,'Data1988-2026England'!$A:$A,">="&$B$2) -> 0 | N10: =L10+G10 -> 15 | O10: =SUMPRODUCT(C10:F10,$C$21:$F$21)+SUMPRODUCT(H10:K10,$H$21:$K$21)+M10*$M$21 -> 34
A11: =ROW()-4 -> 7 | B11: Harlequins | C11: =COUNTIFS('Data1988-2026England'!B:B,$B11,'Data1988-2026England'!$A:$A,">="&$B$2) -> 2 | D11: =COUNTIFS('Data1988-2026England'!C:C,$B11,'Data1988-2026England'!$A:$A,">="&$B$2) -> 3 | E11: =COUNTIFS('Data1988-2026England'!D:D,$B11,'Data1988-2026England'!$A:$A,">="&$B$2) -> 0 | F11: =COUNTIFS('Data1988-2026England'!E:E,$B11,'Data1988-2026England'!$A:$A,">="&$B$2) -> 3 | G11: =SUM(C11:F11) -> 8 | H11: =COUNTIFS('Data1988-2026England'!F:F,$B11,'Data1988-2026England'!$A:$A,">="&$B$2) -> 0 | I11: =COUNTIFS('Data1988-2026England'!G:G,$B11,'Data1988-2026England'!$A:$A,">="&$B$2) -> 4 | J11: =COUNTIFS('Data1988-2026England'!H:H,$B11,'Data1988-2026England'!$A:$A,">="&$B$2) -> 0 | K11: =COUNTIFS('Data1988-2026England'!I:I,$B11,'Data1988-2026England'!$A:$A,">="&$B$2) -> 1 | L11: =SUM(H11:K11) -> 5 | M11: =COUNTIFS('Data1988-2026England'!J:J,$B11,'Data1988-2026England'!$A:$A,">="&$B$2)+COUNTIFS('Data1988-2026England'!K:K,$B11,'Data1988-2026England'!$A:$A,">="&$B$2) -> 4 | N11: =L11+G11 -> 13 | O11: =SUMPRODUCT(C11:F11,$C$21:$F$21)+SUMPRODUCT(H11:K11,$H$21:$K$21)+M11*$M$21 -> 32
A12: =ROW()-4 -> 8 | B12: Gloucester | C12: =COUNTIFS('Data1988-2026England'!B:B,$B12,'Data1988-2026England'!$A:$A,">="&$B$2) -> 0 | D12: =COUNTIFS('Data1988-2026England'!C:C,$B12,'Data1988-2026England'!$A:$A,">="&$B$2) -> 3 | E12: =COUNTIFS('Data1988-2026England'!D:D,$B12,'Data1988-2026England'!$A:$A,">="&$B$2) -> 0 | F12: =COUNTIFS('Data1988-2026England'!E:E,$B12,'Data1988-2026England'!$A:$A,">="&$B$2) -> 2 | G12: =SUM(C12:F12) -> 5 | H12: =COUNTIFS('Data1988-2026England'!F:F,$B12,'Data1988-2026England'!$A:$A,">="&$B$2) -> 4 | I12: =COUNTIFS('Data1988-2026England'!G:G,$B12,'Data1988-2026England'!$A:$A,">="&$B$2) -> 3 | J12: =COUNTIFS('Data1988-2026England'!H:H,$B12,'Data1988-2026England'!$A:$A,">="&$B$2) -> 0 | K12: =COUNTIFS('Data1988-2026England'!I:I,$B12,'Data1988-2026England'!$A:$A,">="&$B$2) -> 2 | L12: =SUM(H12:K12) -> 9 | M12: =COUNTIFS('Data1988-2026England'!J:J,$B12,'Data1988-2026England'!$A:$A,">="&$B$2)+COUNTIFS('Data1988-2026England'!K:K,$B12,'Data1988-2026England'!$A:$A,">="&$B$2) -> 3 | N12: =L12+G12 -> 14 | O12: =SUMPRODUCT(C12:F12,$C$21:$F$21)+SUMPRODUCT(H12:K12,$H$21:$K$21)+M12*$M$21 -> 25
A13: =ROW()-4 -> 9 | B13: Sale | C13: =COUNTIFS('Data1988-2026England'!B:B,$B13,'Data1988-2026England'!$A:$A,">="&$B$2) -> 1 | D13: =COUNTIFS('Data1988-2026England'!C:C,$B13,'Data1988-2026England'!$A:$A,">="&$B$2) -> 1 | E13: =COUNTIFS('Data1988-2026England'!D:D,$B13,'Data1988-2026England'!$A:$A,">="&$B$2) -> 0 | F13: =COUNTIFS('Data1988-2026England'!E:E,$B13,'Data1988-2026England'!$A:$A,">="&$B$2) -> 2 | G13: =SUM(C13:F13) -> 4 | H13: =COUNTIFS('Data1988-2026England'!F:F,$B13,'Data1988-2026England'!$A:$A,">="&$B$2) -> 2 | I13: =COUNTIFS('Data1988-2026England'!G:G,$B13,'Data1988-2026England'!$A:$A,">="&$B$2) -> 3 | J13: =COUNTIFS('Data1988-2026England'!H:H,$B13,'Data1988-2026England'!$A:$A,">="&$B$2) -> 0 | K13: =COUNTIFS('Data1988-2026England'!I:I,$B13,'Data1988-2026England'!$A:$A,">="&$B$2) -> 0 | L13: =SUM(H13:K13) -> 5 | M13: =COUNTIFS('Data1988-2026England'!J:J,$B13,'Data1988-2026England'!$A:$A,">="&$B$2)+COUNTIFS('Data1988-2026England'!K:K,$B13,'Data1988-2026England'!$A:$A,">="&$B$2) -> 4 | N13: =L13+G13 -> 9 | O13: =SUMPRODUCT(C13:F13,$C$21:$F$21)+SUMPRODUCT(H13:K13,$H$21:$K$21)+M13*$M$21 -> 22
A14: =ROW()-4 -> 10 | B14: Newcastle | C14: =COUNTIFS('Data1988-2026England'!B:B,$B14,'Data1988-2026England'!$A:$A,">="&$B$2) -> 1 | D14: =COUNTIFS('Data1988-2026England'!C:C,$B14,'Data1988-2026England'!$A:$A,">="&$B$2) -> 2 | E14: =COUNTIFS('Data1988-2026England'!D:D,$B14,'Data1988-2026England'!$A:$A,">="&$B$2) -> 0 | F14: =COUNTIFS('Data1988-2026England'!E:E,$B14,'Data1988-2026England'!$A:$A,">="&$B$2) -> 0 | G14: =SUM(C14:F14) -> 3 | H14: =COUNTIFS('Data1988-2026England'!F:F,$B14,'Data1988-2026England'!$A:$A,">="&$B$2) -> 0 | I14: =COUNTIFS('Data1988-2026England'!G:G,$B14,'Data1988-2026England'!$A:$A,">="&$B$2) -> 2 | J14: =COUNTIFS('Data1988-2026England'!H:H,$B14,'Data1988-2026England'!$A:$A,">="&$B$2) -> 0 | K14: =COUNTIFS('Data1988-2026England'!I:I,$B14,'Data1988-2026England'!$A:$A,">="&$B$2) -> 0 | L14: =SUM(H14:K14) -> 2 | M14: =COUNTIFS('Data1988-2026England'!J:J,$B14,'Data1988-2026England'!$A:$A,">="&$B$2)+COUNTIFS('Data1988-2026England'!K:K,$B14,'Data1988-2026England'!$A:$A,">="&$B$2) -> 1 | N14: =L14+G14 -> 5 | O14: =SUMPRODUCT(C14:F14,$C$21:$F$21)+SUMPRODUCT(H14:K14,$H$21:$K$21)+M14*$M$21 -> 11
A15: =ROW()-4 -> 11 | B15: Bristol | C15: =COUNTIFS('Data1988-2026England'!B:B,$B15,'Data1988-2026England'!$A:$A,">="&$B$2) -> 0 | D15: =COUNTIFS('Data1988-2026England'!C:C,$B15,'Data1988-2026England'!$A:$A,">="&$B$2) -> 0 | E15: =COUNTIFS('Data1988-2026England'!D:D,$B15,'Data1988-2026England'!$A:$A,">="&$B$2) -> 0 | F15: =COUNTIFS('Data1988-2026England'!E:E,$B15,'Data1988-2026England'!$A:$A,">="&$B$2) -> 1 | G15: =SUM(C15:F15) -> 1 | H15: =COUNTIFS('Data1988-2026England'!F:F,$B15,'Data1988-2026England'!$A:$A,">="&$B$2) -> 0 | I15: =COUNTIFS('Data1988-2026England'!G:G,$B15,'Data1988-2026England'!$A:$A,">="&$B$2) -> 1 | J15: =COUNTIFS('Data1988-2026England'!H:H,$B15,'Data1988-2026England'!$A:$A,">="&$B$2) -> 0 | K15: =COUNTIFS('Data1988-2026England'!I:I,$B15,'Data1988-2026England'!$A:$A,">="&$B$2) -> 0 | L15: =SUM(H15:K15) -> 1 | M15: =COUNTIFS('Data1988-2026England'!J:J,$B15,'Data1988-2026England'!$A:$A,">="&$B$2)+COUNTIFS('Data1988-2026England'!K:K,$B15,'Data1988-2026England'!$A:$A,">="&$B$2) -> 4 | N15: =L15+G15 -> 2 | O15: =SUMPRODUCT(C15:F15,$C$21:$F$21)+SUMPRODUCT(H15:K15,$H$21:$K$21)+M15*$M$21 -> 7
A16: =ROW()-4 -> 12 | B16: London Irish | C16: =COUNTIFS('Data1988-2026England'!B:B,$B16,'Data1988-2026England'!$A:$A,">="&$B$2) -> 0 | D16: =COUNTIFS('Data1988-2026England'!C:C,$B16,'Data1988-2026England'!$A:$A,">="&$B$2) -> 1 | E16: =COUNTIFS('Data1988-2026England'!D:D,$B16,'Data1988-2026England'!$A:$A,">="&$B$2) -> 0 | F16: =COUNTIFS('Data1988-2026England'!E:E,$B16,'Data1988-2026England'!$A:$A,">="&$B$2) -> 0 | G16: =SUM(C16:F16) -> 1 | H16: =COUNTIFS('Data1988-2026England'!F:F,$B16,'Data1988-2026England'!$A:$A,">="&$B$2) -> 1 | I16: =COUNTIFS('Data1988-2026England'!G:G,$B16,'Data1988-2026England'!$A:$A,">="&$B$2) -> 2 | J16: =COUNTIFS('Data1988-2026England'!H:H,$B16,'Data1988-2026England'!$A:$A,">="&$B$2) -> 0 | K16: =COUNTIFS('Data1988-2026England'!I:I,$B16,'Data1988-2026England'!$A:$A,">="&$B$2) -> 1 | L16: =SUM(H16:K16) -> 4 | M16: =COUNTIFS('Data1988-2026England'!J:J,$B16,'Data1988-2026England'!$A:$A,">="&$B$2)+COUNTIFS('Data1988-2026England'!K:K,$B16,'Data1988-2026England'!$A:$A,">="&$B$2) -> 1 | N16: =L16+G16 -> 5 | O16: =SUMPRODUCT(C16:F16,$C$21:$F$21)+SUMPRODUCT(H16:K16,$H$21:$K$21)+M16*$M$21 -> 6
... A19: =ROW()-4 -> 15 | B19: Orrell | C19: =COUNTIFS('Data1988-2026England'!B:B,$B19,'Data1988-2026England'!$A:$A,">="&$B$2) -> 0 | D19: =COUNTIFS('Data1988-2026England'!C:C,$B19,'Data1988-2026England'!$A:$A,">="&$B$2) -> 0 | E19: =COUNTIFS('Data1988-2026England'!D:D,$B19,'Data1988-2026England'!$A:$A,">="&$B$2) -> 0 | F19: =COUNTIFS('Data1988-2026England'!E:E,$B19,'Data1988-2026England'!$A:$A,">="&$B$2) -> 0 | G19: =SUM(C19:F19) -> 0 | H19: =COUNTIFS('Data1988-2026England'!F:F,$B19,'Data1988-2026England'!$A:$A,">="&$B$2) -> 1 | I19: =COUNTIFS('Data1988-2026England'!G:G,$B19,'Data1988-2026England'!$A:$A,">="&$B$2) -> 0 | J19: =COUNTIFS('Data1988-2026England'!H:H,$B19,'Data1988-2026England'!$A:$A,">="&$B$2) -> 0 | K19: =COUNTIFS('Data1988-2026England'!I:I,$B19,'Data1988-2026England'!$A:$A,">="&$B$2) -> 0 | L19: =SUM(H19:K19) -> 1 | M19: =COUNTIFS('Data1988-2026England'!J:J,$B19,'Data1988-2026England'!$A:$A,">="&$B$2)+COUNTIFS('Data1988-2026England'!K:K,$B19,'Data1988-2026England'!$A:$A,">="&$B$2) -> 0 | N19: =L19+G19 -> 1 | O19: =SUMPRODUCT(C19:F19,$C$21:$F$21)+SUMPRODUCT(H19:K19,$H$21:$K$21)+M19*$M$21 -> 2
B21: Points >>> | C21: 6 | D21: 2 | E21: 6 | F21: 3 | H21: 2 | I21: 0 | J21: 2 | K21: 1 | M21: 1

Sheet Data1984-2026World
B1: URC | D1: Prem | F1: Top 14 | I1: Champions Cup | M1: Challenge Cup | O1: Super Rugby | R1: Internationals | U1: Lions Tours | V1: WORLD CUP
B2: Winner | C2: Runner Up | D2: Winner | E2: Runner Up | F2: Winner | G2: Runner Up | I2: Winner | J2: Runner Up | K2: Semi Final 1 | L2: Semi Final 2 | M2: Winner | N2: Runner Up | O2: Winner | P2: Runner Up | R2: 6Nations | S2: RugCham | T2: NatCham | V2: Winner | W2: Runner Up | X2: Semi Finalists
A3: 1984 | F3: Beziers | G3: Agen | R3: SCOTLAND | Z3: 1984
A4: 1985 | F4: Toulouse | G4: Toulon | R4: Ireland | Z4: 1985
A5: 1986 | F5: Toulouse | G5: Agen | R5: France/Scotland | Z5: 1986
A6: 1987 | F6: Toulon | G6: Racing 92 | R6: FRANCE | V6: New Zealand | W6: France | X6: Wales | Y6: Australia | Z6: 1987
A7: 1988 | D7: ='Data1988-2026England'!B3 -> Leicester | E7: ='Data1988-2026England'!F3 -> Wasps | F7: Agen | G7: Tarbais | R7: France/Wales | Z7: 1988
A8: 1989 | D8: ='Data1988-2026England'!B4 -> Bath | E8: ='Data1988-2026England'!F4 -> Gloucester | F8: Toulouse | G8: Toulon | R8: France | U8: LIONS | Z8: 1989
A9: 1990 | D9: ='Data1988-2026England'!B5 -> Wasps | E9: ='Data1988-2026England'!F5 -> Gloucester | F9: Racing 92 | G9: Agen | R9: SCOTLAND | Z9: 1990
A10: 1991 | D10: ='Data1988-2026England'!B6 -> Bath | E10: ='Data1988-2026England'!F6 -> Wasps | F10: Bordeaux | G10: Toulouse | R10: ENGLAND | V10: Australia | W10: England | X10: New Zealand | Y10: Scotland | Z10: 1991
A11: 1992 | D11: ='Data1988-2026England'!B7 -> Bath | E11: ='Data1988-2026England'!F7 -> Orrell | F11: Toulon | G11: Biarritz | R11: ENGLAND | Z11: 1992
A12: 1993 | D12: ='Data1988-2026England'!B8 -> Bath | E12: ='Data1988-2026England'!F8 -> Wasps | F12: Castres | G12: Grenoble | R12: France | U12: All Blacks | Z12: 1993
A13: 1994 | D13: ='Data1988-2026England'!B9 -> Bath | E13: ='Data1988-2026England'!F9 -> Leicester | F13: Toulouse | G13: AS Montferrand | R13: Wales | Z13: 1994
A14: 1995 | D14: ='Data1988-2026England'!B10 -> Leicester | E14: ='Data1988-2026England'!F10 -> Bath | F14: Toulouse | G14: Castres | R14: ENGLAND | V14: South Africa | W14: New Zealand | X14: France | Y14: England | Z14: 1995
A15: Rugby Union turns professional and European competitions, Tri Nations & Super Rugby begins
A16: 1996 | D16: ='Data1988-2026England'!B11 -> Bath | E16: ='Data1988-2026England'!F11 -> Leicester | F16: Toulouse | G16: Brive | I16: Toulouse | J16: Cardiff | K16: No English or Scottish clubs | O16: Blues | P16: Sharks | R16: England | S16: New Zealand | Z16: 1996
A17: 1997 | D17: ='Data1988-2026England'!B12 -> Wasps | E17: ='Data1988-2026England'!F12 -> Bath | F17: Toulouse | G17: Bourgoin | I17: Brive | J17: Leicester | K17: Cardiff | L17: Toulouse | M17: Bourgoin | N17: Castres | O17: Blues | P17: Brumbies | R17: FRANCE | S17: New Zealand | U17: LIONS | Z17: 1997
A18: 1998 | D18: ='Data1988-2026England'!B13 -> Newcastle | E18: ='Data1988-2026England'!F13 -> Saracens | F18: Stade Francais | G18: Perpignan | I18: Bath | J18: Brive | K18: Toulouse | L18: Pau | M18: Colomiers | N18: Agen | O18: Crusaders | P18: Blues | R18: FRANCE | S18: South Africa | Z18: 1998
A19: 1999 | D19: ='Data1988-2026England'!B14 -> Leicester | E19: ='Data1988-2026England'!F14 -> Northampton | F19: Toulouse | G19: AS Montferrand | I19: Ulster | J19: Colomiers | K19: Stade Francais | L19: Perpignan | M19: AS Montferrand | N19: Bourgoin | O19: Crusaders | P19: Highlanders | R19: Scotland | S19: New Zealand | V19: Australia | W19: France | X19: New Zealand | Y19: South Africa | Z19: 1999
A20: 2000 | D20: ='Data1988-2026England'!B15 -> Leicester | E20: ='Data1988-2026England'!F15 -> Bath | F20: Stade Francais | G20: Colomiers | I20: Northampton | J20: Munster | K20: Scarlets | L20: Toulouse | M20: Pau | N20: Castres | O20: Crusaders | P20: Brumbies | R20: England | S20: Australia | Z20: 2000
A21: 2001 | D21: ='Data1988-2026England'!B16 -> Leicester | E21: ='Data1988-2026England'!F16 -> Wasps | F21: Toulouse | G21: AS Montferrand | I21: Leicester | J21: Stade Francais | K21: Gloucester | L21: Munster | M21: Harlequins | N21: Narbonne | O21: Brumbies | P21: Sharks | R21: England | S21: Australia | U21: Wallabies | Z21: 2001
A22: 2002 | B22: Leinster | C22: Munster | D22: ='Data1988-2026England'!B17 -> Leicester | E22: ='Data1988-2026England'!F17 -> Sale | F22: Biarritz | G22: Agen | I22: Leicester | J22: Munster | K22: Scarlets | L22: Castres | M22: Sale | N22: Pontypridd | O22: Crusaders | P22: Brumbies | R22: FRANCE | S22: New Zealand | Z22: 2002
A23: 2003 | B23: Munster | C23: Ospreys | D23: ='Data1988-2026England'!B18 -> Wasps | E23: ='Data1988-2026England'!F18 -> Gloucester | F23: Stade Francais | G23: Toulouse | I23: Toulouse | J23: Perpignan | K23: Leinster | L23: Munster | M23: Wasps | N23: Bath | O23: Blues | P23: Crusaders | R23: ENGLAND | S23: New Zealand | V23: England | W23: Australia | X23: New Zealand | Y23: France | Z23: 2003
A24: 2004 | B24: Scarlets | C24: Ulster | D24: ='Data1988-2026England'!B19 -> Wasps | E24: ='Data1988-2026England'!F19 -> Bath | F24: Stade Francais | G24: Perpignan | I24: Wasps | J24: Toulouse | K24: Biarritz | L24: Munster | M24: Harlequins | N24: AS Montferrand | O24: Brumbies | P24: Crusaders | R24: FRANCE | S24: South Africa | Z24: 2004
A25: 2005 | B25: Ospreys | C25: Munster | D25: ='Data1988-2026England'!B20 -> Wasps | E25: ='Data1988-2026England'!F20 -> Leicester | F25: Biarritz | G25: Stade Francais | I25: Toulouse | J25: Stade Francais | K25: Leicester | L25: Biarritz | M25: Sale | N25: Pau | O25: Crusaders | P25: Waratahs | R25: WALES | S25: New Zealand | U25: All Blacks | Z25: 2005
A26: 2006 | B26: Ulster | C26: Leinster | D26: ='Data1988-2026England'!B21 -> Sale | E26: ='Data1988-2026England'!F21 -> Leicester | F26: Biarritz | G26: Toulouse | I26: Munster | J26: Biarritz | K26: Leinster | L26: Bath | M26: Gloucester | N26: London Irish | O26: Crusaders | P26: Hurricanes | R26: France | S26: New Zealand | Z26: 2006
A27: 2007 | B27: Ospreys | C27: Cardiff | D27: ='Data1988-2026England'!B22 -> Leicester | E27: ='Data1988-2026England'!F22 -> Gloucester | F27: Stade Francais | G27: Clermont Auvergne | I27: Wasps | J27: Leicester | K27: Scarlets | L27: Northampton | M27: Clermont Auvergne | N27: Bath | O27: Bulls | P27: Sharks | R27: France | S27: New Zealand | V27: South Africa | W27: England | X27: Argentina | Y27: France | Z27: 2007
A28: 2008 | B28: Leinster | C28: Cardiff | D28: ='Data1988-2026England'!B23 -> Wasps | E28: ='Data1988-2026England'!F23 -> Leicester | F28: Toulouse | G28: Clermont Auvergne | I28: Munster | J28: Toulouse | K28: Saracens | L28: London Irish | M28: Bath | N28: Worcester | O28: Crusaders | P28: Waratahs | R28: WALES | S28: New Zealand | Z28: 2008
A29: 2009 | B29: Munster | C29: Edinburgh | D29: ='Data1988-2026England'!B24 -> Leicester | E29: ='Data1988-2026England'!F24 -> London Irish | F29: Perpignan | G29: Clermont Auvergne | I29: Leinster | J29: Leicester | K29: Cardiff | L29: Munster | M29: Northampton | N29: Bourgoin | O29: Bulls | P29: Chiefs | R29: IRELAND | S29: South Africa | U29: Springboks | Z29: 2009
A30: 2010 | B30: Ospreys | C30: Leinster | D30: ='Data1988-2026England'!B25 -> Leicester | E30: ='Data1988-2026England'!F25 -> Saracens | F30: Clermont Auvergne | G30: Perpignan | I30: Toulouse | J30: Biarritz | K30: Leinster | L30: Munster | M30: Cardiff | N30: Toulon | O30: Bulls | P30: Stormers | R30: FRANCE | S30: New Zealand | Z30: 2010
A31: 2011 | B31: Munster | C31: Leinster | D31: ='Data1988-2026England'!B26 -> Saracens | E31: ='Data1988-2026England'!F26 -> Leicester | F31: Toulouse | G31: Montpellier | I31: Leinster | J31: Northampton | K31: Toulouse | L31: Perpignan | M31: Harlequins | N31: Stade Francais | O31: Reds | P31: Crusaders | R31: England | S31: Australia | V31: New Zealand | W31: France | X31: Australia | Y31: Wales | Z31: 2011
A32: 2012 | B32: Ospreys | C32: Leinster | D32: ='Data1988-2026England'!B27 -> Harlequins | E32: ='Data1988-2026England'!F27 -> Leicester | F32: Toulouse | G32: Toulon | I32: Leinster | J32: Ulster | K32: Clermont Auvergne | L32: Edinburgh | M32: Biarritz | N32: Toulon | O32: Chiefs | P32: Sharks | R32: WALES | S32: New Zealand | Z32: 2012
A33: 2013 | B33: Leinster | C33: Ulster | D33: ='Data1988-2026England'!B28 -> Leicester | E33: ='Data1988-2026England'!F28 -> Northampton | F33: Castres | G33: Toulon | I33: Toulon | J33: Clermont Auvergne | K33: Saracens | L33: Munster | M33: Leinster | N33: Stade Francais | O33: Chiefs | P33: Brumbies | R33: Wales | S33: New Zealand | U33: LIONS | Z33: 2013
A34: 2014 | B34: Leinster | C34: Glasgow | D34: ='Data1988-2026England'!B29 -> Northampton | E34: ='Data1988-2026England'!F29 -> Saracens | F34: Toulon | G34: Castres | I34: Toulon | J34: Saracens | K34: Clermont Auvergne | L34: Munster | M34: Northampton | N34: Bath | O34: Waratahs | P34: Crusaders | R34: Ireland | S34: New Zealand | Z34: 2014
A35: 2015 | B35: Glasgow | C35: Munster | D35: ='Data1988-2026England'!B30 -> Saracens | E35: ='Data1988-2026England'!F30 -> Bath | F35: Stade Francais | G35: Clermont Auvergne | I35: Toulon | J35: Clermont Auvergne | K35: Leinster | L35: Saracens | M35: Gloucester | N35: Edinburgh | O35: Highlanders | P35: Hurricanes | R35: Ireland | S35: Australia | V35: New Zealand | W35: Australia | X35: South Africa | Y35: Argentina | Z35: 2015
A36: 2016 | B36: Connacht | C36: Leinster | D36: ='Data1988-2026England'!B31 -> Saracens | E36: ='Data1988-2026England'!F31 -> Exeter | F36: Racing 92 | G36: Toulon | I36: Saracens | J36: Racing 92 | K36: Leicester | L36: Wasps | M36: Montpellier | N36: Harlequins | O36: Hurricanes | P36: Lions | R36: ENGLAND | S36: New Zealand | Z36: 2016
A37: 2017 | B37: Scarlets | C37: Munster | D37: ='Data1988-2026England'!B32 -> Exeter | E37: ='Data1988-2026England'!F32 -> Wasps | F37: Clermont Auvergne | G37: Toulon | I37: Saracens | J37: Clermont Auvergne | K37: Leinster | L37: Munster | M37: Stade Francais | N37: Gloucester | O37: Crusaders | P37: Lions | R37: England | S37: New Zealand | U37: **Drawn** | Z37: 2017
A38: 2018 | B38: Leinster | C38: Scarlets | D38: ='Data1988-2026England'!B33 -> Saracens | E38: ='Data1988-2026England'!F33 -> Exeter | F38: Castres | G38: Montpellier | I38: Leinster | J38: Racing 92 | K38: Scarlets | L38: Munster | M38: Cardiff | N38: Gloucester | O38: Crusaders | P38: Lions | R38: IRELAND | S38: New Zealand | Z38: 2018
A39: 2019 | B39: Leinster | C39: Glasgow | D39: ='Data1988-2026England'!B34 -> Saracens | E39: ='Data1988-2026England'!F34 -> Exeter | F39: Toulouse | G39: Clermont Auvergne | I39: Saracens | J39: Leinster | K39: Toulouse | L39: Munster | M39: Clermont Auvergne | N39: La Rochelle | O39: Crusaders | P39: Jaguares | R39: WALES | S39: South Africa | V39: South Africa | W39: England | X39: New Zealand | Y39: Wales | Z39: 2019
A40: 2020 | B40: Leinster | C40: Ulster | D40: ='Data1988-2026England'!B35 -> Exeter | E40: ='Data1988-2026England'!F35 -> Wasps | F40: Season Abandoned | I40: Exeter | J40: Racing 92 | K40: Toulouse | L40: Saracens | M40: Bristol | N40: Toulon | O40: Season Abandoned | R40: England | S40: New Zealand | Z40: 2020
...

Sheet RankingsWorld
B1: All Rankings by League from 1984 to today | V1: Euro Club Rankings
B3: Since 1984 | G3: Since 1988 | L3: Since 2002 | Q3: Since 1996 | V3: Since 1996 | W3: 1996 | Y3: Points | Z3: 6 | AA3: 6 | AB3: 3 | AD3: 2 | AE3: 2 | AF3: 1 | AH3: 1
B4: Top14 | G4: Premiership | L4: URC | Q4: Super Rugby | Y4: ^^^ You can change these points if you wish ^^^ | AD4: South African sides credited with Super Rugby outcomes | AM4: Top Euro Teams since 96 when game went professional
B6: Team | C6: Ch | D6: ru | E6: Pts | G6: Team | H6: Ch | I6: ru | J6: Pts | L6: Team | M6: Ch | N6: ru | O6: Pts | Q6: Team | R6: Ch | S6: ru | T6: Pts | V6: Rank | W6: League | X6: Ntn | Y6: Team | Z6: L-W | AA6: EU1-W | AB6: EU2-W | AC6: WINS | AD6: L-RU | AE6: EU1-RU | AF6: EU2-RU | AG6: RU | AH6: EU1-SF | AI6: Top2 | AJ6: Points | AL6: Rank | AM6: Team | AN6: Wins | AO6: Team | AP6: Top2 | AQ6: Team | AR6: Points | AS6: Rank
B7: Toulouse | C7: =COUNTIF('Data1984-2026World'!F:F,$B7) -> 18 | D7: =COUNTIF('Data1984-2026World'!G:G,$B7) -> 3 | E7: =C7*$R$24+D7*$S$24 -> 57 | G7: Leicester | H7: =COUNTIF('Data1984-2026World'!D:D,$G7) -> 11 | I7: =COUNTIF('Data1984-2026World'!E:E,$G7) -> 8 | J7: =H7*$R$24+I7*$S$24 -> 41 | L7: Leinster | M7: =COUNTIF('Data1984-2026World'!B:B,$L7) -> 10 | N7: =COUNTIF('Data1984-2026World'!C:C,$L7) -> 5 | O7: =M7*$R$24+N7*$S$24 -> 35 | Q7: Crusaders | R7: =COUNTIF('Data1984-2026World'!O:O,$Q7) -> 13 | S7: =COUNTIF('Data1984-2026World'!P:P,$Q7) -> 4 | T7: =R7*$R$24+S7 -> 43 | V7: =ROW()-6 -> 1 | W7: TOP14 | X7: Fra | Y7: Toulouse | Z7: =COUNTIFS('Data1984-2026World'!B$3:B$99,$Y7,'Data1984-2026World'!$A$3:$A$99,">="&$W$3)+COUNTIFS('Data1984-2026World'!D$3:D$99,$Y7,'Data1984-2026World'!$A$3:$A$99,">="&$W$3)+COUNTIFS('Data1984-2026World'!F$3:F$99,$Y7,'Data1984-2026World'!$A$3:$A$99,">="&$W$3)+COUNTIFS('Data1984-2026World'!O$3:O$99,$Y7,'Data1984-2026World'!$A$3:$A$99,">="&$W$3) -> 13 | AA7: =COUNTIFS('Data1984-2026World'!I$3:I$99,$Y7,'Data1984-2026World'!$A$3:$A$99,">="&$W$3) -> 6 | AB7: =COUNTIFS('Data1984-2026World'!M$3:M$99,$Y7,'Data1984-2026World'!$A$3:$A$99,">="&$W$3) -> 0 | AC7: =SUM(Z7:AB7) -> 19 | AD7: =COUNTIFS('Data1984-2026World'!C$3:C$99,$Y7,'Data1984-2026World'!$A$3:$A$99,">="&$W$3)+COUNTIFS('Data1984-2026World'!E$3:E$99,$Y7,'Data1984-2026World'!$A$3:$A$99,">="&$W$3)+COUNTIFS('Data1984-2026World'!G$3:G$99,$Y7,'Data1984-2026World'!$A$3:$A$99,">="&$W$3)+COUNTIFS('Data1984-2026World'!P$3:P$99,$Y7,'Data1984-2026World'!$A$3:$A$99,">="&$W$3) -> 2 | AE7: =COUNTIFS('Data1984-2026World'!J$3:J$99,$Y7,'Data1984-2026World'!$A$3:$A$99,">="&$W$3) -> 2 | AF7: =COUNTIFS('Data1984-2026World'!N$3:N$99,$Y7,'Data1984-2026World'!$A$3:$A$99,">="&$W$3) -> 0 | AG7: =SUM(AD7:AF7) -> 4 | AH7: =COUNTIFS('Data1984-2026World'!K$3:K$99,$Y7,'Data1984-2026World'!$A$3:$A$99,">="&$W$3)+COUNTIFS('Data1984-2026World'!L$3:L$99,$Y7,'Data1984-2026World'!$A$3:$A$99,">="&$W$3) -> 9 | AI7: =AG7+AC7 -> 23 | AJ7: =SUMPRODUCT($Z$3:$AB$3,Z7:AB7)+SUMPRODUCT($AD$3:$AF$3,AD7:AF7)+AH7 -> 131 | AL7: =ROW()-6 -> 1 | AM7: Toulouse | AN7: 19 | AO7: Leinster | AP7: 25 | AQ7: Toulouse | AR7: 131 | AS7: =ROW()-6 -> 1
B8: Stade Francais | C8: =COUNTIF('Data1984-2026World'!F:F,$B8) -> 6 | D8: =COUNTIF('Data1984-2026World'!G:G,$B8) -> 1 | E8: =C8*$R$24+D8*$S$24 -> 19 | G8: Bath | H8: =COUNTIF('Data1984-2026World'!D:D,$G8) -> 7 | I8: =COUNTIF('Data1984-2026World'!E:E,$G8) -> 6 | J8: =H8*$R$24+I8*$S$24 -> 27 | L8: Munster | M8: =COUNTIF('Data1984-2026World'!B:B,$L8) -> 4 | N8: =COUNTIF('Data1984-2026World'!C:C,$L8) -> 5 | O8: =M8*$R$24+N8*$S$24 -> 17 | Q8: Blues | R8: =COUNTIF('Data1984-2026World'!O:O,$Q8) -> 5 | S8: =COUNTIF('Data1984-2026World'!P:P,$Q8) -> 2 | T8: =R8*$R$24+S8 -> 17 | V8: =ROW()-6 -> 2 | W8: URC | X8: Ire | Y8: Leinster | Z8: =COUNTIFS('Data1984-2026World'!B$3:B$99,$Y8,'Data1984-2026World'!$A$3:$A$99,">="&$W$3)+COUNTIFS('Data1984-2026World'!D$3:D$99,$Y8,'Data1984-2026World'!$A$3:$A$99,">="&$W$3)+COUNTIFS('Data1984-2026World'!F$3:F$99,$Y8,'Data1984-2026World'!$A$3:$A$99,">="&$W$3)+COUNTIFS('Data1984-2026World'!O$3:O$99,$Y8,'Data1984-2026World'!$A$3:$A$99,">="&$W$3) -> 10 | AA8: =COUNTIFS('Data1984-2026World'!I$3:I$99,$Y8,'Data1984-2026World'!$A$3:$A$99,">="&$W$3) -> 4 | AB8: =COUNTIFS('Data1984-2026World'!M$3:M$99,$Y8,'Data1984-2026World'!$A$3:$A$99,">="&$W$3) -> 1 | AC8: =SUM(Z8:AB8) -> 15 | AD8: =COUNTIFS('Data1984-2026World'!C$3:C$99,$Y8,'Data1984-2026World'!$A$3:$A$99,">="&$W$3)+COUNTIFS('Data1984-2026World'!E$3:E$99,$Y8,'Data1984-2026World'!$A$3:$A$99,">="&$W$3)+COUNTIFS('Data1984-2026World'!G$3:G$99,$Y8,'Data1984-2026World'!$A$3:$A$99,">="&$W$3)+COUNTIFS('Data1984-2026World'!P$3:P$99,$Y8,'Data1984-2026World'!$A$3:$A$99,">="&$W$3) -> 5 | AE8: =COUNTIFS('Data1984-2026World'!J$3:J$99,$Y8,'Data1984-2026World'!$A$3:$A$99,">="&$W$3) -> 5 | AF8: =COUNTIFS('Data1984-2026World'!N$3:N$99,$Y8,'Data1984-2026World'!$A$3:$A$99,">="&$W$3) -> 0 | AG8: =SUM(AD8:AF8) -> 10 | AH8: =COUNTIFS('Data1984-2026World'!K$3:K$99,$Y8,'Data1984-2026World'!$A$3:$A$99,">="&$W$3)+COUNTIFS('Data1984-2026World'!L$3:L$99,$Y8,'Data1984-2026World'!$A$3:$A$99,">="&$W$3) -> 7 | AI8: =AG8+AC8 -> 25 | AJ8: =SUMPRODUCT($Z$3:$AB$3,Z8:AB8)+SUMPRODUCT($AD$3:$AF$3,AD8:AF8)+AH8 -> 114 | AL8: =ROW()-6 -> 2 | AM8: Leinster | AN8: 15 | AO8: Toulouse | AP8: 23 | AQ8: Leinster | AR8: 114 | AS8: =ROW()-6 -> 2
B9: Toulon | C9: =COUNTIF('Data1984-2026World'!F:F,$B9) -> 3 | D9: =COUNTIF('Data1984-2026World'!G:G,$B9) -> 6 | E9: =C9*$R$24+D9*$S$24 -> 15 | G9: Wasps | H9: =COUNTIF('Data1984-2026World'!D:D,$G9) -> 6 | I9: =COUNTIF('Data1984-2026World'!E:E,$G9) -> 6 | J9: =H9*$R$24+I9*$S$24 -> 24 | L9: Ospreys | M9: =COUNTIF('Data1984-2026World'!B:B,$L9) -> 4 | N9: =COUNTIF('Data1984-2026World'!C:C,$L9) -> 1 | O9: =M9*$R$24+N9*$S$24 -> 13 | Q9: Chiefs | R9: =COUNTIF('Data1984-2026World'!O:O,$Q9) -> 2 | S9: =COUNTIF('Data1984-2026World'!P:P,$Q9) -> 5 | T9: =R9*$R$24+S9 -> 11 | V9: =ROW()-6 -> 3 | W9: Prem | X9: Eng | Y9: Leicester | Z9: =COUNTIFS('Data1984-2026World'!B$3:B$99,$Y9,'Data1984-2026World'!$A$3:$A$99,">="&$W$3)+COUNTIFS('Data1984-2026World'!D$3:D$99,$Y9,'Data1984-2026World'!$A$3:$A$99,">="&$W$3)+COUNTIFS('Data1984-2026World'!F$3:F$99,$Y9,'Data1984-2026World'!$A$3:$A$99,">="&$W$3)+COUNTIFS('Data1984-2026World'!O$3:O$99,$Y9,'Data1984-2026World'!$A$3:$A$99,">="&$W$3) -> 9 | AA9: =COUNTIFS('Data1984-2026World'!I$3:I$99,$Y9,'Data1984-2026World'!$A$3:$A$99,">="&$W$3) -> 2 | AB9: =COUNTIFS('Data1984-2026World'!M$3:M$99,$Y9,'Data1984-2026World'!$A$3:$A$99,">="&$W$3) -> 0 | AC9: =SUM(Z9:AB9) -> 11 | AD9: =COUNTIFS('Data1984-2026World'!C$3:C$99,$Y9,'Data1984-2026World'!$A$3:$A$99,">="&$W$3)+COUNTIFS('Data1984-2026World'!E$3:E$99,$Y9,'Data1984-2026World'!$A$3:$A$99,">="&$W$3)+COUNTIFS('Data1984-2026World'!G$3:G$99,$Y9,'Data1984-2026World'!$A$3:$A$99,">="&$W$3)+COUNTIFS('Data1984-2026World'!P$3:P$99,$Y9,'Data1984-2026World'!$A$3:$A$99,">="&$W$3) -> 7 | AE9: =COUNTIFS('Data1984-2026World'!J$3:J$99,$Y9,'Data1984-2026World'!$A$3:$A$99,">="&$W$3) -> 3 | AF9: =COUNTIFS('Data1984-2026World'!N$3:N$99,$Y9,'Data1984-2026World'!$A$3:$A$99,">="&$W$3) -> 1 | AG9: =SUM(AD9:AF9) -> 11 | AH9: =COUNTIFS('Data1984-2026World'!K$3:K$99,$Y9,'Data1984-2026World'!$A$3:$A$99,">="&$W$3)+COUNTIFS('Data1984-2026World'!L$3:L$99,$Y9,'Data1984-2026World'!$A$3:$A$99,">="&$W$3) -> 2 | AI9: =AG9+AC9 -> 22 | AJ9: =SUMPRODUCT($Z$3:$AB$3,Z9:AB9)+SUMPRODUCT($AD$3:$AF$3,AD9:AF9)+AH9 -> 89 | AL9: =ROW()-6 -> 3 | AM9: Leicester | AN9: 11 | AO9: Leicester | AP9: 22 | AQ9: Leicester | AR9: 89 | AS9: =ROW()-6 -> 3
B10: Castres | C10: =COUNTIF('Data1984-2026World'!F:F,$B10) -> 3 | D10: =COUNTIF('Data1984-2026World'!G:G,$B10) -> 3 | E10: =C10*$R$24+D10*$S$24 -> 12 | G10: Saracens | H10: =COUNTIF('Data1984-2026World'!D:D,$G10) -> 6 | I10: =COUNTIF('Data1984-2026World'!E:E,$G10) -> 4 | J10: =H10*$R$24+I10*$S$24 -> 22 | L10: Glasgow | M10: =COUNTIF('Data1984-2026World'!B:B,$L10) -> 2 | N10: =COUNTIF('Data1984-2026World'!C:C,$L10) -> 2 | O10: =M10*$R$24+N10*$S$24 -> 8 | Q10: Brumbies | R10: =COUNTIF('Data1984-2026World'!O:O,$Q10) -> 2 | S10: =COUNTIF('Data1984-2026World'!P:P,$Q10) -> 4 | T10: =R10*$R$24+S10 -> 10 | V10: =ROW()-6 -> 4 | W10: Prem | X10: Eng | Y10: Saracens | Z10: =COUNTIFS('Data1984-2026World'!B$3:B$99,$Y10,'Data1984-2026World'!$A$3:$A$99,">="&$W$3)+COUNTIFS('Data1984-2026World'!D$3:D$99,$Y10,'Data1984-2026World'!$A$3:$A$99,">="&$W$3)+COUNTIFS('Data1984-2026World'!F$3:F$99,$Y10,'Data1984-2026World'!$A$3:$A$99,">="&$W$3)+COUNTIFS('Data1984-2026World'!O$3:O$99,$Y10,'Data1984-2026World'!$A$3:$A$99,">="&$W$3) -> 6 | AA10: =COUNTIFS('Data1984-2026World'!I$3:I$99,$Y10,'Data1984-2026World'!$A$3:$A$99,">="&$W$3) -> 3 | AB10: =COUNTIFS('Data1984-2026World'!M$3:M$99,$Y10,'Data1984-2026World'!$A$3:$A$99,">="&$W$3) -> 0 | AC10: =SUM(Z10:AB10) -> 9 | AD10: =COUNTIFS('Data1984-2026World'!C$3:C$99,$Y10,'Data1984-2026World'!$A$3:$A$99,">="&$W$3)+COUNTIFS('Data1984-2026World'!E$3:E$99,$Y10,'Data1984-2026World'!$A$3:$A$99,">="&$W$3)+COUNTIFS('Data1984-2026World'!G$3:G$99,$Y10,'Data1984-2026World'!$A$3:$A$99,">="&$W$3)+COUNTIFS('Data1984-2026World'!P$3:P$99,$Y10,'Data1984-2026World'!$A$3:$A$99,">="&$W$3) -> 4 | AE10: =COUNTIFS('Data1984-2026World'!J$3:J$99,$Y10,'Data1984-2026World'!$A$3:$A$99,">="&$W$3) -> 1 | AF10: =COUNTIFS('Data1984-2026World'!N$3:N$99,$Y10,'Data1984-2026World'!$A$3:$A$99,">="&$W$3) -> 0 | AG10: =SUM(AD10:AF10) -> 5 | AH10: =COUNTIFS('Data1984-2026World'!K$3:K$99,$Y10,'Data1984-2026World'!$A$3:$A$99,">="&$W$3)+COUNTIFS('Data1984-2026World'!L$3:L$99,$Y10,'Data1984-2026World'!$A$3:$A$99,">="&$W$3) -> 4 | AI10: =AG10+AC10 -> 14 | AJ10: =SUMPRODUCT($Z$3:$AB$3,Z10:AB10)+SUMPRODUCT($AD$3:$AF$3,AD10:AF10)+AH10 -> 68 | AL10: =ROW()-6 -> 4 | AM10: Saracens | AN10: 9 | AO10: Saracens | AP10: 14 | AQ10: Saracens | AR10: 68 | AS10: =ROW()-6 -> 4
B11: Clermont Auvergne | C11: =COUNTIF('Data1984-2026World'!F:F,$B11) -> 2 | D11: =COUNTIF('Data1984-2026World'!G:G,$B11) -> 5 | E11: =C11*$R$24+D11*$S$24 -> 11 | G11: Northampton | H11: =COUNTIF('Data1984-2026World'!D:D,$G11) -> 3 | I11: =COUNTIF('Data1984-2026World'!E:E,$G11) -> 2 | J11: =H11*$R$24+I11*$S$24 -> 11 | L11: Scarlets | M11: =COUNTIF('Data1984-2026World'!B:B,$L11) -> 2 | N11: =COUNTIF('Data1984-2026World'!C:C,$L11) -> 1 | O11: =M11*$R$24+N11*$S$24 -> 7 | Q11: Bulls | R11: =COUNTIF('Data1984-2026World'!O:O,$Q11) -> 3 | S11: =COUNTIF('Data1984-2026World'!P:P,$Q11) -> 0 | T11: =R11*$R$24+S11 -> 9 | V11: =ROW()-6 -> 5 | W11: URC | X11: Ire | Y11: Munster | Z11: =COUNTIFS('Data1984-2026World'!B$3:B$99,$Y11,'Data1984-2026World'!$A$3:$A$99,">="&$W$3)+COUNTIFS('Data1984-2026World'!D$3:D$99,$Y11,'Data1984-2026World'!$A$3:$A$99,">="&$W$3)+COUNTIFS('Data1984-2026World'!F$3:F$99,$Y11,'Data1984-2026World'!$A$3:$A$99,">="&$W$3)+COUNTIFS('Data1984-2026World'!O$3:O$99,$Y11,'Data1984-2026World'!$A$3:$A$99,">="&$W$3) -> 4 | AA11: =COUNTIFS('Data1984-2026World'!I$3:I$99,$Y11,'Data1984-2026World'!$A$3:$A$99,">="&$W$3) -> 2 | AB11: =COUNTIFS('Data1984-2026World'!M$3:M$99,$Y11,'Data1984-2026World'!$A$3:$A$99,">="&$W$3) -> 0 | AC11: =SUM(Z11:AB11) -> 6 | AD11: =COUNTIFS('Data1984-2026World'!C$3:C$99,$Y11,'Data1984-2026World'!$A$3:$A$99,">="&$W$3)+COUNTIFS('Data1984-2026World'!E$3:E$99,$Y11,'Data1984-2026World'!$A$3:$A$99,">="&$W$3)+COUNTIFS('Data1984-2026World'!G$3:G$99,$Y11,'Data1984-2026World'!$A$3:$A$99,">="&$W$3)+COUNTIFS('Data1984-2026World'!P$3:P$99,$Y11,'Data1984-2026World'!$A$3:$A$99,">="&$W$3) -> 5 | AE11: =COUNTIFS('Data1984-2026World'!J$3:J$99,$Y11,'Data1984-2026World'!$A$3:$A$99,">="&$W$3) -> 2 | AF11: =COUNTIFS('Data1984-2026World'!N$3:N$99,$Y11,'Data1984-2026World'!$A$3:$A$99,">="&$W$3) -> 0 | AG11: =SUM(AD11:AF11) -> 7 | AH11: =COUNTIFS('Data1984-2026World'!K$3:K$99,$Y11,'Data1984-2026World'!$A$3:$A$99,">="&$W$3)+COUNTIFS('Data1984-2026World'!L$3:L$99,$Y11,'Data1984-2026World'!$A$3:$A$99,">="&$W$3) -> 10 | AI11: =AG11+AC11 -> 13 | AJ11: =SUMPRODUCT($Z$3:$AB$3,Z11:AB11)+SUMPRODUCT($AD$3:$AF$3,AD11:AF11)+AH11 -> 60 | AL11: =ROW()-6 -> 5 | AM11: Wasps | AN11: 8 | AO11: Munster | AP11: 13 | AQ11: Munster | AR11: 60 | AS11: =ROW()-6 -> 5
B12: Biarritz | C12: =COUNTIF('Data1984-2026World'!F:F,$B12) -> 3 | D12: =COUNTIF('Data1984-2026World'!G:G,$B12) -> 1 | E12: =C12*$R$24+D12*$S$24 -> 10 | G12: Exeter | H12: =COUNTIF('Data1984-2026World'!D:D,$G12) -> 2 | I12: =COUNTIF('Data1984-2026World'!E:E,$G12) -> 5 | J12: =H12*$R$24+I12*$S$24 -> 11 | L12: Ulster | M12: =COUNTIF('Data1984-2026World'!B:B,$L12) -> 1 | N12: =COUNTIF('Data1984-2026World'!C:C,$L12) -> 3 | O12: =M12*$R$24+N12*$S$24 -> 6 | Q12: Hurricanes | R12: =COUNTIF('Data1984-2026World'!O:O,$Q12) -> 2 | S12: =COUNTIF('Data1984-2026World'!P:P,$Q12) -> 2 | T12: =R12*$R$24+S12 -> 8 | V12: =ROW()-6 -> 6 | W12: Prem | X12: Eng | Y12: Wasps | Z12: =COUNTIFS('Data1984-2026World'!B$3:B$99,$Y12,'Data1984-2026World'!$A$3:$A$99,">="&$W$3)+COUNTIFS('Data1984-2026World'!D$3:D$99,$Y12,'Data1984-2026World'!$A$3:$A$99,">="&$W$3)+COUNTIFS('Data1984-2026World'!F$3:F$99,$Y12,'Data1984-2026World'!$A$3:$A$99,">="&$W$3)+COUNTIFS('Data1984-2026World'!O$3:O$99,$Y12,'Data1984-2026World'!$A$3:$A$99,">="&$W$3) -> 5 | AA12: =COUNTIFS('Data1984-2026World'!I$3:I$99,$Y12,'Data1984-2026World'!$A$3:$A$99,">="&$W$3) -> 2 | AB12: =COUNTIFS('Data1984-2026World'!M$3:M$99,$Y12,'Data1984-2026World'!$A$3:$A$99,">="&$W$3) -> 1 | AC12: =SUM(Z12:AB12) -> 8 | AD12: =COUNTIFS('Data1984-2026World'!C$3:C$99,$Y12,'Data1984-2026World'!$A$3:$A$99,">="&$W$3)+COUNTIFS('Data1984-2026World'!E$3:E$99,$Y12,'Data1984-2026World'!$A$3:$A$99,">="&$W$3)+COUNTIFS('Data1984-2026World'!G$3:G$99,$Y12,'Data1984-2026World'!$A$3:$A$99,">="&$W$3)+COUNTIFS('Data1984-2026World'!P$3:P$99,$Y12,'Data1984-2026World'!$A$3:$A$99,">="&$W$3) -> 3 | AE12: =COUNTIFS('Data1984-2026World'!J$3:J$99,$Y12,'Data1984-2026World'!$A$3:$A$99,">="&$W$3) -> 0 | AF12: =COUNTIFS('Data1984-2026World'!N$3:N$99,$Y12,'Data1984-2026World'!$A$3:$A$99,">="&$W$3) -> 0 | AG12: =SUM(AD12:AF12) -> 3 | AH12: =COUNTIFS('Data1984-2026World'!K$3:K$99,$Y12,'Data1984-2026World'!$A$3:$A$99,">="&$W$3)+COUNTIFS('Data1984-2026World'!L$3:L$99,$Y12,'Data1984-2026World'!$A$3:$A$99,">="&$W$3) -> 1 | AI12: =AG12+AC12 -> 11 | AJ12: =SUMPRODUCT($Z$3:$AB$3,Z12:AB12)+SUMPRODUCT($AD$3:$AF$3,AD12:AF12)+AH12 -> 52 | AL12: =ROW()-6 -> 6 | AM12: Stade Francais | AN12: 7 | AO12: Toulon | AP12: 13 | AQ12: Wasps | AR12: 52 | AS12: =ROW()-6 -> 6
B13: Racing 92 | C13: =COUNTIF('Data1984-2026World'!F:F,$B13) -> 2 | D13: =COUNTIF('Data1984-2026World'!G:G,$B13) -> 1 | E13: =C13*$R$24+D13*$S$24 -> 7 | G13: Harlequins | H13: =COUNTIF('Data1984-2026World'!D:D,$G13) -> 2 | I13: =COUNTIF('Data1984-2026World'!E:E,$G13) -> 0 | J13: =H13*$R$24+I13*$S$24 -> 6 | L13: Stormers | M13: =COUNTIF('Data1984-2026World'!B:B,$L13) -> 1 | N13: =COUNTIF('Data1984-2026World'!C:C,$L13) -> 1 | O13: =M13*$R$24+N13*$S$24 -> 4 | Q13: Waratahs | R13: =COUNTIF('Data1984-2026World'!O:O,$Q13) -> 1 | S13: =COUNTIF('Data1984-2026World'!P:P,$Q13) -> 2 | T13: =R13*$R$24+S13 -> 5 | V13: =ROW()-6 -> 7 | W13: TOP14 | X13: Fra | Y13: Stade Francais | Z13: =COUNTIFS('Data1984-2026World'!B$3:B$99,$Y13,'Data1984-2026World'!$A$3:$A$99,">="&$W$3)+COUNTIFS('Data1984-2026World'!D$3:D$99,$Y13,'Data1984-2026World'!$A$3:$A$99,">="&$W$3)+COUNTIFS('Data1984-2026World'!F$3:F$99,$Y13,'Data1984-2026World'!$A$3:$A$99,">="&$W$3)+COUNTIFS('Data1984-2026World'!O$3:O$99,$Y13,'Data1984-2026World'!$A$3:$A$99,">="&$W$3) -> 6 | AA13: =COUNTIFS('Data1984-2026World'!I$3:I$99,$Y13,'Data1984-2026World'!$A$3:$A$99,">="&$W$3) -> 0 | AB13: =COUNTIFS('Data1984-2026World'!M$3:M$99,$Y13,'Data1984-2026World'!$A$3:$A$99,">="&$W$3) -> 1 | AC13: =SUM(Z13:AB13) -> 7 | AD13: =COUNTIFS('Data1984-2026World'!C$3:C$99,$Y13,'Data1984-2026World'!$A$3:$A$99,">="&$W$3)+COUNTIFS('Data1984-2026World'!E$3:E$99,$Y13,'Data1984-2026World'!$A$3:$A$99,">="&$W$3)+COUNTIFS('Data1984-2026World'!G$3:G$99,$Y13,'Data1984-2026World'!$A$3:$A$99,">="&$W$3)+COUNTIFS('Data1984-2026World'!P$3:P$99,$Y13,'Data1984-2026World'!$A$3:$A$99,">="&$W$3) -> 1 | AE13: =COUNTIFS('Data1984-2026World'!J$3:J$99,$Y13,'Data1984-2026World'!$A$3:$A$99,">="&$W$3) -> 2 | AF13: =COUNTIFS('Data1984-2026World'!N$3:N$99,$Y13,'Data1984-2026World'!$A$3:$A$99,">="&$W$3) -> 2 | AG13: =SUM(AD13:AF13) -> 5 | AH13: =COUNTIFS('Data1984-2026World'!K$3:K$99,$Y13,'Data1984-2026World'!$A$3:$A$99,">="&$W$3)+COUNTIFS('Data1984-2026World'!L$3:L$99,$Y13,'Data1984-2026World'!$A$3:$A$99,">="&$W$3) -> 1 | AI13: =AG13+AC13 -> 12 | AJ13: =SUMPRODUCT($Z$3:$AB$3,Z13:AB13)+SUMPRODUCT($AD$3:$AF$3,AD13:AF13)+AH13 -> 48 | AL13: =ROW()-6 -> 7 | AM13: Munster | AN13: 6 | AO13: Bath | AP13: 13 | AQ13: Stade Francais | AR13: 48 | AS13: =ROW()-6 -> 7
B14: Agen | C14: =COUNTIF('Data1984-2026World'!F:F,$B14) -> 1 | D14: =COUNTIF('Data1984-2026World'!G:G,$B14) -> 4 | E14: =C14*$R$24+D14*$S$24 -> 7 | G14: Sale | H14: =COUNTIF('Data1984-2026World'!D:D,$G14) -> 1 | I14: =COUNTIF('Data1984-2026World'!E:E,$G14) -> 2 | J14: =H14*$R$24+I14*$S$24 -> 5 | L14: Bulls | M14: =COUNTIF('Data1984-2026World'!B:B,$L14) -> 0 | N14: =COUNTIF('Data1984-2026World'!C:C,$L14) -> 4 | O14: =M14*$R$24+N14*$S$24 -> 4 | Q14: Highlanders | R14: =COUNTIF('Data1984-2026World'!O:O,$Q14) -> 1 | S14: =COUNTIF('Data1984-2026World'!P:P,$Q14) -> 2 | T14: =R14*$R$24+S14 -> 5 | V14: =ROW()-6 -> 8 | W14: Prem | X14: Eng | Y14: Northampton | Z14: =COUNTIFS('Data1984-2026World'!B$3:B$99,$Y14,'Data1984-2026World'!$A$3:$A$99,">="&$W$3)+COUNTIFS('Data1984-2026World'!D$3:D$99,$Y14,'Data1984-2026World'!$A$3:$A$99,">="&$W$3)+COUNTIFS('Data1984-2026World'!F$3:F$99,$Y14,'Data1984-2026World'!$A$3:$A$99,">="&$W$3)+COUNTIFS('Data1984-2026World'!O$3:O$99,$Y14,'Data1984-2026World'!$A$3:$A$99,">="&$W$3) -> 3 | AA14: =COUNTIFS('Data1984-2026World'!I$3:I$99,$Y14,'Data1984-2026World'!$A$3:$A$99,">="&$W$3) -> 1 | AB14: =COUNTIFS('Data1984-2026World'!M$3:M$99,$Y14,'Data1984-2026World'!$A$3:$A$99,">="&$W$3) -> 2 | AC14: =SUM(Z14:AB14) -> 6 | AD14: =COUNTIFS('Data1984-2026World'!C$3:C$99,$Y14,'Data1984-2026World'!$A$3:$A$99,">="&$W$3)+COUNTIFS('Data1984-2026World'!E$3:E$99,$Y14,'Data1984-2026World'!$A$3:$A$99,">="&$W$3)+COUNTIFS('Data1984-2026World'!G$3:G$99,$Y14,'Data1984-2026World'!$A$3:$A$99,">="&$W$3)+COUNTIFS('Data1984-2026World'!P$3:P$99,$Y14,'Data1984-2026World'!$A$3:$A$99,">="&$W$3) -> 2 | AE14: =COUNTIFS('Data1984-2026World'!J$3:J$99,$Y14,'Data1984-2026World'!$A$3:$A$99,">="&$W$3) -> 2 | AF14: =COUNTIFS('Data1984-2026World'!N$3:N$99,$Y14,'Data1984-2026World'!$A$3:$A$99,">="&$W$3) -> 0 | AG14: =SUM(AD14:AF14) -> 4 | AH14: =COUNTIFS('Data1984-2026World'!K$3:K$99,$Y14,'Data1984-2026World'!$A$3:$A$99,">="&$W$3)+COUNTIFS('Data1984-2026World'!L$3:L$99,$Y14,'Data1984-2026World'!$A$3:$A$99,">="&$W$3) -> 2 | AI14: =AG14+AC14 -> 10 | AJ14: =SUMPRODUCT($Z$3:$AB$3,Z14:AB14)+SUMPRODUCT($AD$3:$AF$3,AD14:AF14)+AH14 -> 40 | AL14: =ROW()-6 -> 8 | AM14: Northampton | AN14: 6 | AO14: Stade Francais | AP14: 12 | AQ14: Toulon | AR14: 40 | AS14: =ROW()-6 -> 8
B15: Perpignan | C15: =COUNTIF('Data1984-2026World'!F:F,$B15) -> 1 | D15: =COUNTIF('Data1984-2026World'!G:G,$B15) -> 3 | E15: =C15*$R$24+D15*$S$24 -> 6 | G15: Gloucester | H15: =COUNTIF('Data1984-2026World'!D:D,$G15) -> 0 | I15: =COUNTIF('Data1984-2026World'!E:E,$G15) -> 4 | J15: =H15*$R$24+I15*$S$24 -> 4 | L15: Connacht | M15: =COUNTIF('Data1984-2026World'!B:B,$L15) -> 1 | N15: =COUNTIF('Data1984-2026World'!C:C,$L15) -> 0 | O15: =M15*$R$24+N15*$S$24 -> 3 | Q15: Sharks | R15: =COUNTIF('Data1984-2026World'!O:O,$Q15) -> 0 | S15: =COUNTIF('Data1984-2026World'!P:P,$Q15) -> 4 | T15: =R15*$R$24+S15 -> 4 | V15: =ROW()-6 -> 9 | W15: TOP14 | X15: Fra | Y15: Toulon | Z15: =COUNTIFS('Data1984-2026World'!B$3:B$99,$Y15,'Data1984-2026World'!$A$3:$A$99,">="&$W$3)+COUNTIFS('Data1984-2026World'!D$3:D$99,$Y15,'Data1984-2026World'!$A$3:$A$99,">="&$W$3)+COUNTIFS('Data1984-2026World'!F$3:F$99,$Y15,'Data1984-2026World'!$A$3:$A$99,">="&$W$3)+COUNTIFS('Data1984-2026World'!O$3:O$99,$Y15,'Data1984-2026World'!$A$3:$A$99,">="&$W$3) -> 1 | AA15: =COUNTIFS('Data1984-2026World'!I$3:I$99,$Y15,'Data1984-2026World'!$A$3:$A$99,">="&$W$3) -> 3 | AB15: =COUNTIFS('Data1984-2026World'!M$3:M$99,$Y15,'Data1984-2026World'!$A$3:$A$99,">="&$W$3) -> 1 | AC15: =SUM(Z15:AB15) -> 5 | AD15: =COUNTIFS('Data1984-2026World'!C$3:C$99,$Y15,'Data1984-2026World'!$A$3:$A$99,">="&$W$3)+COUNTIFS('Data1984-2026World'!E$3:E$99,$Y15,'Data1984-2026World'!$A$3:$A$99,">="&$W$3)+COUNTIFS('Data1984-2026World'!G$3:G$99,$Y15,'Data1984-2026World'!$A$3:$A$99,">="&$W$3)+COUNTIFS('Data1984-2026World'!P$3:P$99,$Y15,'Data1984-2026World'!$A$3:$A$99,">="&$W$3) -> 4 | AE15: =COUNTIFS('Data1984-2026World'!J$3:J$99,$Y15,'Data1984-2026World'!$A$3:$A$99,">="&$W$3) -> 0 | AF15: =COUNTIFS('Data1984-2026World'!N$3:N$99,$Y15,'Data1984-2026World'!$A$3:$A$99,">="&$W$3) -> 4 | AG15: =SUM(AD15:AF15) -> 8 | AH15: =COUNTIFS('Data1984-2026World'!K$3:K$99,$Y15,'Data1984-2026World'!$A$3:$A$99,">="&$W$3)+COUNTIFS('Data1984-2026World'!L$3:L$99,$Y15,'Data1984-2026World'!$A$3:$A$99,">="&$W$3) -> 1 | AI15: =AG15+AC15 -> 13 | AJ15: =SUMPRODUCT($Z$3:$AB$3,Z15:AB15)+SUMPRODUCT($AD$3:$AF$3,AD15:AF15)+AH15 -> 40 | AL15: =ROW()-6 -> 9 | AM15: Toulon | AN15: 5 | AO15: Clermont Auvergne | AP15: 12 | AQ15: Northampton | AR15: 40 | AS15: =ROW()-6 -> 9
