Workbook

Sheet Sheet3
B2: 1.3137387 | C2: -0.17540741 | D2: 0.4318903 | E2: 1.2139754 | F2: -1.3353117
B3: 1.3684535 | C3: 0.11268347 | D3: -0.20359242 | E3: 0.51537411 | F3: 1.7342368
B4: 0.23933703 | C4: 1.5862453 | D4: -1.5498142 | E4: 0.00025076494 | F4: -0.4739404
B5: 0.031864325 | C5: 1.59968 | D5: 1.602957 | E5: -0.23258952 | F5: 0.12821674
B6: -1.2422271 | C6: 0.28527999 | D6: -0.025008743 | E6: 1.8456856 | F6: 0.41025163

Sheet Sheet2
B2: 0.211459 | C2: 1.179765 | D2: 0.61853721 | E2: -0.12139171 | F2: 0.095767355
B3: -2.6720578 | C3: 0.50065646 | D3: 0.2128083 | E3: -0.41824837 | F3: 0.46909719
B4: -1.6272095 | C4: 0.96832949 | D4: -1.1700993 | E4: 0.59142907 | F4: 0.1451958
B5: -1.6796835 | C5: 0.80652693 | D5: 0.56499466 | E5: 0.77501996 | F5: 0.84292752
B6: 1.4386176 | C6: 2.5549625 | D6: 0.82124007 | E6: 0.081244146 | F6: 0.49169723
B7: -1.2418219 | C7: 0.52916444 | D7: 0.66952909 | E7: -0.93096278 | F7: -0.20700448
B8: 0.094317262 | C8: -0.34965089 | D8: -0.98210407 | E8: 0.48333767 | F8: -0.40288408
B9: -0.97558453 | C9: -1.3529692 | D9: 0.52385753 | E9: 0.026437551 | F9: -0.63562354
B10: -2.0569802 | C10: -0.73738952 | D10: -0.080346694 | E10: 0.18067784 | F10: -0.21356015
B11: 0.69292272 | C11: -0.32002866 | D11: -0.092523069 | E11: -0.85704869 | F11: -0.45673674
B12: -0.65511772 | C12: -0.36183586 | D12: -1.0765802 | E12: -0.47725666 | F12: 0.041471055
B13: -2.4746758 | C13: -2.0703677 | D13: -0.32885465 | E13: 0.3843683 | F13: 0.67497158
... B27: 0.7909762 | C27: -0.76690677 | D27: 0.60175335 | E27: 0.51062003 | F27: -1.1044861

Sheet Sheet5
B2: 1.3208109 | C2: -0.037934349
B3: 1.3562696 | C3: 0.25486187
B4: 0.13352604 | C4: 1.6057016
B5: -0.074119319 | C5: 1.5974751
B6: -1.256818 | C6: 0.15487766

Sheet Sheet4
B2: 0.058175792 | C2: 0.98879013
B3: -1.7985471 | C3: 0.26769153
B4: -1.1410532 | C4: 0.71252385
B5: -1.1645278 | C5: 0.57562195
B6: 0.77339125 | C6: 2.1953218
B7: -0.85632545 | C7: 0.36997821
B8: 0.086395992 | C8: -0.28441541
B9: -0.55066963 | C9: -1.1742821
B10: -1.3070515 | C10: -0.72390449
B11: 0.4795289 | C11: -0.22695223
B12: -0.40751245 | C12: -0.33573276
B13: -1.4908032 | C13: -1.8509404
... B27: 0.57510155 | C27: -0.59169202

Sheet INTRO
A1: This spreadsheet was created by Nigel Marriott, Independent Statistician
A3: Version | B3: 2026 v1.0
A4: Date | B4: 46296
A5: Web | B5: www.marriott-stats.com
A6: Blog | B6: www.nigelmarriott.com
A7: Twitter | B7: Nigel Marriott (@MarriottNigel) / Twitter
A9: For more details on how to use this spreadsheet and what each sheet contains please read this blog post
B10: All Rugby Trophy Winners (Men) since 1984 (marriott-stats.com)
A12: All sheets are protected but there is no password if you wish to unprotect.
A14: Data Source
A15: All data is sourced from Wikipedia.
A17: Notes about the various competitions
A18: Following the COVID19 pandemic in 2020, the 4 South African teams who had been competing in Super Rugby switched to the URC
A19: The ranking worksheets take this into account and give credit to these teams across both leagues
A21: Up till 2002, the English Premiership was decided on league placings. Since 2003, the winners have been decided through a play off system like all other leagues.
A23: South Africa were ineligible for the 1987 and 1991 world cups due to apartheid.
A25: The Six Nations was the Five Nations between 1984 & 1999
A27: The very first Champions Cup in 1996 did not include English or Scottish clubs
A29: Up to 2005, the English cup competition was an open cup but since 2006 it has been a closed tournament.
A31: From 2026, the Rugby Championship will not be played every 4 years. This is to enable a New Zealand V South Africa tour instead

Sheet Data1988-2026England
B1: WINNERS | F1: Runners Up | L1: Doubles
B2: League | C2: Cup | D2: Champions | E2: Challenge | F2: League | G2: Cup | H2: Champions | I2: Challenge | J2: League PO1 | K2: League PO2 | L2: LgEu | M2: Lg/Cup | N2: Cup/EU
A3: 1988 | B3: Leicester | C3: Harlequins | F3: Wasps | G3: Bristol | L3: =IF(OR(B3=D3,B3=E3),B3,"") | M3: =IF(B3=C3,B3,"") | N3: =IF(OR(C3=D3,C3=E3),C3,"")
A4: 1989 | B4: Bath | C4: Bath | F4: Gloucester | G4: Leicester | L4: =IF(OR(B4=D4,B4=E4),B4,"") | M4: =IF(B4=C4,B4,"") -> Bath | N4: =IF(OR(C4=D4,C4=E4),C4,"")
A5: 1990 | B5: Wasps | C5: Bath | F5: Gloucester | G5: Gloucester | L5: =IF(OR(B5=D5,B5=E5),B5,"") | M5: =IF(B5=C5,B5,"") | N5: =IF(OR(C5=D5,C5=E5),C5,"")
A6: 1991 | B6: Bath | C6: Harlequins | F6: Wasps | G6: Northampton | L6: =IF(OR(B6=D6,B6=E6),B6,"") | M6: =IF(B6=C6,B6,"") | N6: =IF(OR(C6=D6,C6=E6),C6,"")
A7: 1992 | B7: Bath | C7: Bath | F7: Orrell | G7: Harlequins | L7: =IF(OR(B7=D7,B7=E7),B7,"") | M7: =IF(B7=C7,B7,"") -> Bath | N7: =IF(OR(C7=D7,C7=E7),C7,"")
A8: 1993 | B8: Bath | C8: Leicester | F8: Wasps | G8: Harlequins | L8: =IF(OR(B8=D8,B8=E8),B8,"") | M8: =IF(B8=C8,B8,"") | N8: =IF(OR(C8=D8,C8=E8),C8,"")
A9: 1994 | B9: Bath | C9: Bath | F9: Leicester | G9: Leicester | L9: =IF(OR(B9=D9,B9=E9),B9,"") | M9: =IF(B9=C9,B9,"") -> Bath | N9: =IF(OR(C9=D9,C9=E9),C9,"")
A10: 1995 | B10: Leicester | C10: Bath | F10: Bath | G10: Wasps | L10: =IF(OR(B10=D10,B10=E10),B10,"") | M10: =IF(B10=C10,B10,"") | N10: =IF(OR(C10=D10,C10=E10),C10,"")
A11: 1996 | B11: Bath | C11: Bath | F11: Leicester | G11: Leicester | L11: =IF(OR(B11=D11,B11=E11),B11,"") | M11: =IF(B11=C11,B11,"") -> Bath | N11: =IF(OR(C11=D11,C11=E11),C11,"")
A12: 1997 | B12: Wasps | C12: Leicester | F12: Bath | G12: Sale | H12: Leicester | L12: =IF(OR(B12=D12,B12=E12),B12,"") | M12: =IF(B12=C12,B12,"") | N12: =IF(OR(C12=D12,C12=E12),C12,"")
A13: 1998 | B13: Newcastle | C13: Saracens | D13: Bath | F13: Saracens | G13: Wasps | L13: =IF(OR(B13=D13,B13=E13),B13,"") | M13: =IF(B13=C13,B13,"") | N13: =IF(OR(C13=D13,C13=E13),C13,"")
A14: 1999 | B14: Leicester | C14: Wasps | F14: Northampton | G14: Newcastle | L14: =IF(OR(B14=D14,B14=E14),B14,"") | M14: =IF(B14=C14,B14,"") | N14: =IF(OR(C14=D14,C14=E14),C14,"")
A15: 2000 | B15: Leicester | C15: Wasps | D15: Northampton | F15: Bath | G15: Northampton | L15: =IF(OR(B15=D15,B15=E15),B15,"") | M15: =IF(B15=C15,B15,"") | N15: =IF(OR(C15=D15,C15=E15),C15,"")
A16: 2001 | B16: Leicester | C16: Newcastle | D16: Leicester | E16: Harlequins | F16: Wasps | G16: Harlequins | L16: =IF(OR(B16=D16,B16=E16),B16,"") -> Leicester | M16: =IF(B16=C16,B16,"") | N16: =IF(OR(C16=D16,C16=E16),C16,"")
A17: 2002 | B17: Leicester | C17: London Irish | D17: Leicester | E17: Sale | F17: Sale | G17: Northampton | L17: =IF(OR(B17=D17,B17=E17),B17,"") -> Leicester | M17: =IF(B17=C17,B17,"") | N17: =IF(OR(C17=D17,C17=E17),C17,"")
A18: 2003 | B18: Wasps | C18: Gloucester | E18: Wasps | F18: Gloucester | G18: Northampton | I18: Bath | J18: Northampton | L18: =IF(OR(B18=D18,B18=E18),B18,"") -> Wasps | M18: =IF(B18=C18,B18,"") | N18: =IF(OR(C18=D18,C18=E18),C18,"")
A19: 2004 | B19: Wasps | C19: Newcastle | D19: Wasps | E19: Harlequins | F19: Bath | G19: Sale | J19: Northampton | L19: =IF(OR(B19=D19,B19=E19),B19,"") -> Wasps | M19: =IF(B19=C19,B19,"") | N19: =IF(OR(C19=D19,C19=E19),C19,"")
A20: 2005 | B20: Wasps | C20: Leeds | E20: Sale | F20: Leicester | G20: Bath | J20: Sale | L20: =IF(OR(B20=D20,B20=E20),B20,"") | M20: =IF(B20=C20,B20,"") | N20: =IF(OR(C20=D20,C20=E20),C20,"")
A21: 2006 | B21: Sale | C21: Wasps | E21: Gloucester | F21: Leicester | G21: Scarlets | I21: London Irish | J21: Wasps | K21: London Irish | L21: =IF(OR(B21=D21,B21=E21),B21,"") | M21: =IF(B21=C21,B21,"") | N21: =IF(OR(C21=D21,C21=E21),C21,"")
A22: 2007 | B22: Leicester | C22: Leicester | D22: Wasps | F22: Gloucester | G22: Ospreys | H22: Leicester | I22: Bath | J22: Bristol | K22: Saracens | L22: =IF(OR(B22=D22,B22=E22),B22,"") | M22: =IF(B22=C22,B22,"") -> Leicester | N22: =IF(OR(C22=D22,C22=E22),C22,"")
A23: 2008 | B23: Wasps | C23: Ospreys | E23: Bath | F23: Leicester | G23: Leicester | I23: Worcester | J23: Bath | K23: Gloucester | L23: =IF(OR(B23=D23,B23=E23),B23,"") | M23: =IF(B23=C23,B23,"") | N23: =IF(OR(C23=D23,C23=E23),C23,"")
A24: 2009 | B24: Leicester | C24: Cardiff | E24: Northampton | F24: London Irish | G24: Gloucester | H24: Leicester | J24: Bath | K24: Harlequins | L24: =IF(OR(B24=D24,B24=E24),B24,"") | M24: =IF(B24=C24,B24,"") | N24: =IF(OR(C24=D24,C24=E24),C24,"")
A25: 2010 | B25: Leicester | C25: Northampton | F25: Saracens | G25: Gloucester | J25: Bath | K25: Northampton | L25: =IF(OR(B25=D25,B25=E25),B25,"") | M25: =IF(B25=C25,B25,"") | N25: =IF(OR(C25=D25,C25=E25),C25,"")
A26: 2011 | B26: Saracens | C26: Gloucester | E26: Harlequins | F26: Leicester | G26: Newcastle | H26: Northampton | J26: Gloucester | K26: Northampton | L26: =IF(OR(B26=D26,B26=E26),B26,"") | M26: =IF(B26=C26,B26,"") | N26: =IF(OR(C26=D26,C26=E26),C26,"")
A27: 2012 | B27: Harlequins | C27: Leicester | F27: Leicester | G27: Northampton | J27: Saracens | K27: Northampton | L27: =IF(OR(B27=D27,B27=E27),B27,"") | M27: =IF(B27=C27,B27,"") | N27: =IF(OR(C27=D27,C27=E27),C27,"")
A28: 2013 | B28: Leicester | C28: Harlequins | F28: Northampton | G28: Sale | J28: Harlequins | K28: Saracens | L28: =IF(OR(B28=D28,B28=E28),B28,"") | M28: =IF(B28=C28,B28,"") | N28: =IF(OR(C28=D28,C28=E28),C28,"")
A29: 2014 | B29: Northampton | C29: Exeter | E29: Northampton | F29: Saracens | G29: Northampton | H29: Saracens | I29: Bath | J29: Leicester | K29: Harlequins | L29: =IF(OR(B29=D29,B29=E29),B29,"") -> Northampton | M29: =IF(B29=C29,B29,"") | N29: =IF(OR(C29=D29,C29=E29),C29,"")
A30: 2015 | B30: Saracens | C30: Saracens | E30: Gloucester | F30: Bath | G30: Exeter | J30: Leicester | K30: Northampton | L30: =IF(OR(B30=D30,B30=E30),B30,"") | M30: =IF(B30=C30,B30,"") -> Saracens | N30: =IF(OR(C30=D30,C30=E30),C30,"")
A31: 2016 | B31: Saracens | C31: ******* | D31: Saracens | F31: Exeter | G31: ******* | I31: Harlequins | J31: Leicester | K31: Wasps | L31: =IF(OR(B31=D31,B31=E31),B31,"") -> Saracens | M31: =IF(B31=C31,B31,"") | N31: =IF(OR(C31=D31,C31=E31),C31,"")
A32: 2017 | B32: Exeter | C32: Leicester | D32: Saracens | F32: Wasps | G32: Exeter | I32: Gloucester | J32: Leicester | K32: Saracens | L32: =IF(OR(B32=D32,B32=E32),B32,"") | M32: =IF(B32=C32,B32,"") | N32: =IF(OR(C32=D32,C32=E32),C32,"")
A33: 2018 | B33: Saracens | C33: Exeter | F33: Exeter | G33: Bath | I33: Gloucester | J33: Wasps | K33: Newcastle | L33: =IF(OR(B33=D33,B33=E33),B33,"") | M33: =IF(B33=C33,B33,"") | N33: =IF(OR(C33=D33,C33=E33),C33,"")
A34: 2019 | B34: Saracens | C34: Northampton | D34: Saracens | F34: Exeter | G34: Saracens | J34: Gloucester | K34: Northampton | L34: =IF(OR(B34=D34,B34=E34),B34,"") -> Saracens | M34: =IF(B34=C34,B34,"") | N34: =IF(OR(C34=D34,C34=E34),C34,"")
A35: 2020 | B35: Exeter | C35: Sale | D35: Exeter | E35: Bristol | F35: Wasps | G35: Harlequins | J35: Bath | K35: Bristol | L35: =IF(OR(B35=D35,B35=E35),B35,"") -> Exeter | M35: =IF(B35=C35,B35,"") | N35: =IF(OR(C35=D35,C35=E35),C35,"")
A36: 2021 | B36: Harlequins | C36: ******* | F36: Exeter | G36: ******* | I36: Leicester | J36: Sale | K36: Bristol | L36: =IF(OR(B36=D36,B36=E36),B36,"") | M36: =IF(B36=C36,B36,"") | N36: =IF(OR(C36=D36,C36=E36),C36,"")
A37: 2022 | B37: Leicester | C37: Worcester | F37: Saracens | G37: London Irish | J37: Harlequins | K37: Northampton | L37: =IF(OR(B37=D37,B37=E37),B37,"") | M37: =IF(B37=C37,B37,"") | N37: =IF(OR(C37=D37,C37=E37),C37,"")
A38: 2023 | B38: Saracens | C38: Exeter | F38: Sale | G38: London Irish | J38: Leicester | K38: Northampton | L38: =IF(OR(B38=D38,B38=E38),B38,"") | M38: =IF(B38=C38,B38,"") | N38: =IF(OR(C38=D38,C38=E38),C38,"")
A39: 2024 | B39: Northampton | C39: Gloucester | F39: Bath | G39: Leicester | J39: Sale | K39: Saracens | L39: =IF(OR(B39=D39,B39=E39),B39,"") | M39: =IF(B39=C39,B39,"") | N39: =IF(OR(C39=D39,C39=E39),C39,"")
A40: 2025 | B40: Bath | C40: Bath | E40: Bath | F40: Leicester | G40: Exeter | H40: Northampton | J40: Sale | K40: Bristol | L40: =IF(OR(B40=D40,B40=E40),B40,"") -> Bath | M40: =IF(B40=C40,B40,"") -> Bath | N40: =IF(OR(C40=D40,C40=E40),C40,"") -> Bath
A41: 2026 | B41: Northampton | C41: Leicester | F41: Exeter | G41: Exeter | J41: Bath | K41: Leicester | M41: =IF(B41=C41,B41,"")

Sheet RankingsEngland
A1: Success - ENGLAND
A2: Since | B2: 1988 | C2: Wins | H2: Runner Ups | M2: PO | N2: Combo | O2: Points
A4: Rank | B4: Team | C4: Prem | D4: Cup | E4: EU1 | F4: EU2 | G4: #Wins | H4: Prem | I4: Cup | J4: EU1 | K4: EU2 | L4: #RUs | M4: Prem | N4: TOTAL | O4: TOTAL
A5: =ROW()-4 -> 1 | B5: Leicester | C5: =COUNTIFS('Data1988-2026England'!B:B,$B5,'Data1988-2026England'!$A:$A,">="&$B$2) -> 11 | D5: =COUNTIFS('Data1988-2026England'!C:C,$B5,'Data1988-2026England'!$A:$A,">="&$B$2) -> 6 | E5: =COUNTIFS('Data1988-2026England'!D:D,$B5,'Data1988-2026England'!$A:$A,">="&$B$2) -> 2 | F5: =COUNTIFS('Data1988-2026England'!E:E,$B5,'Data1988-2026England'!$A:$A,">="&$B$2) -> 0 | G5: =SUM(C5:F5) -> 19 | H5: =COUNTIFS('Data1988-2026England'!F:F,$B5,'Data1988-2026England'!$A:$A,">="&$B$2) -> 8 | I5: =COUNTIFS('Data1988-2026England'!G:G,$B5,'Data1988-2026England'!$A:$A,">="&$B$2) -> 5 | J5: =COUNTIFS('Data1988-2026England'!H:H,$B5,'Data1988-2026England'!$A:$A,">="&$B$2) -> 3 | K5: =COUNTIFS('Data1988-2026England'!I:I,$B5,'Data1988-2026England'!$A:$A,">="&$B$2) -> 1 | L5: =SUM(H5:K5) -> 17 | M5: =COUNTIFS('Data1988-2026England'!J:J,$B5,'Data1988-2026England'!$A:$A,">="&$B$2)+COUNTIFS('Data1988-2026England'!K:K,$B5,'Data1988-2026England'!$A:$A,">="&$B$2) -> 6 | N5: =L5+G5 -> 36 | O5: =SUMPRODUCT(C5:F5,$C$21:$F$21)+SUMPRODUCT(H5:K5,$H$21:$K$21)+M5*$M$21 -> 119
A6: =ROW()-4 -> 2 | B6: Bath | C6: =COUNTIFS('Data1988-2026England'!B:B,$B6,'Data1988-2026England'!$A:$A,">="&$B$2) -> 7 | D6: =COUNTIFS('Data1988-2026England'!C:C,$B6,'Data1988-2026England'!$A:$A,">="&$B$2) -> 7 | E6: =COUNTIFS('Data1988-2026England'!D:D,$B6,'Data1988-2026England'!$A:$A,">="&$B$2) -> 1 | F6: =COUNTIFS('Data1988-2026England'!E:E,$B6,'Data1988-2026England'!$A:$A,">="&$B$2) -> 2 | G6: =SUM(C6:F6) -> 17 | H6: =COUNTIFS('Data1988-2026England'!F:F,$B6,'Data1988-2026England'!$A:$A,">="&$B$2) -> 6 | I6: =COUNTIFS('Data1988-2026England'!G:G,$B6,'Data1988-2026England'!$A:$A,">="&$B$2) -> 2 | J6: =COUNTIFS('Data1988-2026England'!H:H,$B6,'Data1988-2026England'!$A:$A,">="&$B$2) -> 0 | K6: =COUNTIFS('Data1988-2026England'!I:I,$B6,'Data1988-2026England'!$A:$A,">="&$B$2) -> 3 | L6: =SUM(H6:K6) -> 11 | M6: =COUNTIFS('Data1988-2026England'!J:J,$B6,'Data1988-2026England'!$A:$A,">="&$B$2)+COUNTIFS('Data1988-2026England'!K:K,$B6,'Data1988-2026England'!$A:$A,">="&$B$2) -> 5 | N6: =L6+G6 -> 28 | O6: =SUMPRODUCT(C6:F6,$C$21:$F$21)+SUMPRODUCT(H6:K6,$H$21:$K$21)+M6*$M$21 -> 88
A7: =ROW()-4 -> 3 | B7: Saracens | C7: =COUNTIFS('Data1988-2026England'!B:B,$B7,'Data1988-2026England'!$A:$A,">="&$B$2) -> 6 | D7: =COUNTIFS('Data1988-2026England'!C:C,$B7,'Data1988-2026England'!$A:$A,">="&$B$2) -> 2 | E7: =COUNTIFS('Data1988-2026England'!D:D,$B7,'Data1988-2026England'!$A:$A,">="&$B$2) -> 3 | F7: =COUNTIFS('Data1988-2026England'!E:E,$B7,'Data1988-2026England'!$A:$A,">="&$B$2) -> 0 | G7: =SUM(C7:F7) -> 11 | H7: =COUNTIFS('Data1988-2026England'!F:F,$B7,'Data1988-2026England'!$A:$A,">="&$B$2) -> 4 | I7: =COUNTIFS('Data1988-2026England'!G:G,$B7,'Data1988-2026England'!$A:$A,">="&$B$2) -> 1 | J7: =COUNTIFS('Data1988-2026England'!H:H,$B7,'Data1988-2026England'!$A:$A,">="&$B$2) -> 1 | K7: =COUNTIFS('Data1988-2026England'!I:I,$B7,'Data1988-2026England'!$A:$A,">="&$B$2) -> 0 | L7: =SUM(H7:K7) -> 6 | M7: =COUNTIFS('Data1988-2026England'!J:J,$B7,'Data1988-2026England'!$A:$A,">="&$B$2)+COUNTIFS('Data1988-2026England'!K:K,$B7,'Data1988-2026England'!$A:$A,">="&$B$2) -> 5 | N7: =L7+G7 -> 17 | O7: =SUMPRODUCT(C7:F7,$C$21:$F$21)+SUMPRODUCT(H7:K7,$H$21:$K$21)+M7*$M$21 -> 73
A8: =ROW()-4 -> 4 | B8: Wasps | C8: =COUNTIFS('Data1988-2026England'!B:B,$B8,'Data1988-2026England'!$A:$A,">="&$B$2) -> 6 | D8: =COUNTIFS('Data1988-2026England'!C:C,$B8,'Data1988-2026England'!$A:$A,">="&$B$2) -> 3 | E8: =COUNTIFS('Data1988-2026England'!D:D,$B8,'Data1988-2026England'!$A:$A,">="&$B$2) -> 2 | F8: =COUNTIFS('Data1988-2026England'!E:E,$B8,'Data1988-2026England'!$A:$A,">="&$B$2) -> 1 | G8: =SUM(C8:F8) -> 12 | H8: =COUNTIFS('Data1988-2026England'!F:F,$B8,'Data1988-2026England'!$A:$A,">="&$B$2) -> 6 | I8: =COUNTIFS('Data1988-2026England'!G:G,$B8,'Data1988-2026England'!$A:$A,">="&$B$2) -> 2 | J8: =COUNTIFS('Data1988-2026England'!H:H,$B8,'Data1988-2026England'!$A:$A,">="&$B$2) -> 0 | K8: =COUNTIFS('Data1988-2026England'!I:I,$B8,'Data1988-2026England'!$A:$A,">="&$B$2) -> 0 | L8: =SUM(H8:K8) -> 8 | M8: =COUNTIFS('Data1988-2026England'!J:J,$B8,'Data1988-2026England'!$A:$A,">="&$B$2)+COUNTIFS('Data1988-2026England'!K:K,$B8,'Data1988-2026England'!$A:$A,">="&$B$2) -> 3 | N8: =L8+G8 -> 20 | O8: =SUMPRODUCT(C8:F8,$C$21:$F$21)+SUMPRODUCT(H8:K8,$H$21:$K$21)+M8*$M$21 -> 72
A9: =ROW()-4 -> 5 | B9: Northampton | C9: =COUNTIFS('Data1988-2026England'!B:B,$B9,'Data1988-2026England'!$A:$A,">="&$B$2) -> 3 | D9: =COUNTIFS('Data1988-2026England'!C:C,$B9,'Data1988-2026England'!$A:$A,">="&$B$2) -> 2 | E9: =COUNTIFS('Data1988-2026England'!D:D,$B9,'Data1988-2026England'!$A:$A,">="&$B$2) -> 1 | F9: =COUNTIFS('Data1988-2026England'!E:E,$B9,'Data1988-2026England'!$A:$A,">="&$B$2) -> 2 | G9: =SUM(C9:F9) -> 8 | H9: =COUNTIFS('Data1988-2026England'!F:F,$B9,'Data1988-2026England'!$A:$A,">="&$B$2) -> 2 | I9: =COUNTIFS('Data1988-2026England'!G:G,$B9,'Data1988-2026England'!$A:$A,">="&$B$2) -> 6 | J9: =COUNTIFS('Data1988-2026England'!H:H,$B9,'Data1988-2026England'!$A:$A,">="&$B$2) -> 2 | K9: =COUNTIFS('Data1988-2026England'!I:I,$B9,'Data1988-2026England'!$A:$A,">="&$B$2) -> 0 | L9: =SUM(H9:K9) -> 10 | M9: =COUNTIFS('Data1988-2026England'!J:J,$B9,'Data1988-2026England'!$A:$A,">="&$B$2)+COUNTIFS('Data1988-2026England'!K:K,$B9,'Data1988-2026England'!$A:$A,">="&$B$2) -> 9 | N9: =L9+G9 -> 18 | O9: =SUMPRODUCT(C9:F9,$C$21:$F$21)+SUMPRODUCT(H9:K9,$H$21:$K$21)+M9*$M$21 -> 51
A10: =ROW()-4 -> 6 | B10: Exeter | C10: =COUNTIFS('Data1988-2026England'!B:B,$B10,'Data1988-2026England'!$A:$A,">="&$B$2) -> 2 | D10: =COUNTIFS('Data1988-2026England'!C:C,$B10,'Data1988-2026England'!$A:$A,">="&$B$2) -> 3 | E10: =COUNTIFS('Data1988-2026England'!D:D,$B10,'Data1988-2026England'!$A:$A,">="&$B$2) -> 1 | F10: =COUNTIFS('Data1988-2026England'!E:E,$B10,'Data1988-2026England'!$A:$A,">="&$B$2) -> 0 | G10: =SUM(C10:F10) -> 6 | H10: =COUNTIFS('Data1988-2026England'!F:F,$B10,'Data1988-2026England'!$A:$A,">="&$B$2) -> 5 | I10: =COUNTIFS('Data1988-2026England'!G:G,$B10,'Data1988-2026England'!$A:$A,">="&$B$2) -> 4 | J10: =COUNTIFS('Data1988-2026England'!H:H,$B10,'Data1988-2026England'!$A:$A,">="&$B$2) -> 0 | K10: =COUNTIFS('Data1988-2026England'!I:I,$B10,'Data1988-2026England'!$A:$A,">="&$B$2) -> 0 | L10: =SUM(H10:K10) -> 9 | M10: =COUNTIFS('Data1988-2026England'!J:J,$B10,'Data1988-2026England'!$A:$A,">="&$B$2)+COUNTIFS('Data1988-2026England'!K:K,$B10,'Data1988-2026England'!$A:$A,">="&$B$2) -> 0 | N10: =L10+G10 -> 15 | O10: =SUMPRODUCT(C10:F10,$C$21:$F$21)+SUMPRODUCT(H10:K10,$H$21:$K$21)+M10*$M$21 -> 34
A11: =ROW()-4 -> 7 | B11: Harlequins | C11: =COUNTIFS('Data1988-2026England'!B:B,$B11,'Data1988-2026England'!$A:$A,">="&$B$2) -> 2 | D11: =COUNTIFS('Data1988-2026England'!C:C,$B11,'Data1988-2026England'!$A:$A,">="&$B$2) -> 3 | E11: =COUNTIFS('Data1988-2026England'!D:D,$B11,'Data1988-2026England'!$A:$A,">="&$B$2) -> 0 | F11: =COUNTIFS('Data1988-2026England'!E:E,$B11,'Data1988-2026England'!$A:$A,">="&$B$2) -> 3 | G11: =SUM(C11:F11) -> 8 | H11: =COUNTIFS('Data1988-2026England'!F:F,$B11,'Data1988-2026England'!$A:$A,">="&$B$2) -> 0 | I11: =COUNTIFS('Data1988-2026England'!G:G,$B11,'Data1988-2026England'!$A:$A,">="&$B$2) -> 4 | J11: =COUNTIFS('Data1988-2026England'!H:H,$B11,'Data1988-2026England'!$A:$A,">="&$B$2) -> 0 | K11: =COUNTIFS('Data1988-2026England'!I:I,$B11,'Data1988-2026England'!$A:$A,">="&$B$2) -> 1 | L11: =SUM(H11:K11) -> 5 | M11: =COUNTIFS('Data1988-2026England'!J:J,$B11,'Data1988-2026England'!$A:$A,">="&$B$2)+COUNTIFS('Data1988-2026England'!K:K,$B11,'Data1988-2026England'!$A:$A,">="&$B$2) -> 4 | N11: =L11+G11 -> 13 | O11: =SUMPRODUCT(C11:F11,$C$21:$F$21)+SUMPRODUCT(H11:K11,$H$21:$K$21)+M11*$M$21 -> 32
A12: =ROW()-4 -> 8 | B12: Gloucester | C12: =COUNTIFS('Data1988-2026England'!B:B,$B12,'Data1988-2026England'!$A:$A,">="&$B$2) -> 0 | D12: =COUNTIFS('Data1988-2026England'!C:C,$B12,'Data1988-2026England'!$A:$A,">="&$B$2) -> 3 | E12: =COUNTIFS('Data1988-2026England'!D:D,$B12,'Data1988-2026England'!$A:$A,">="&$B$2) -> 0 | F12: =COUNTIFS('Data1988-2026England'!E:E,$B12,'Data1988-2026England'!$A:$A,">="&$B$2) -> 2 | G12: =SUM(C12:F12) -> 5 | H12: =COUNTIFS('Data1988-2026England'!F:F,$B12,'Data1988-2026England'!$A:$A,">="&$B$2) -> 4 | I12: =COUNTIFS('Data1988-2026England'!G:G,$B12,'Data1988-2026England'!$A:$A,">="&$B$2) -> 3 | J12: =COUNTIFS('Data1988-2026England'!H:H,$B12,'Data1988-2026England'!$A:$A,">="&$B$2) -> 0 | K12: =COUNTIFS('Data1988-2026England'!I:I,$B12,'Data1988-2026England'!$A:$A,">="&$B$2) -> 2 | L12: =SUM(H12:K12) -> 9 | M12: =COUNTIFS('Data1988-2026England'!J:J,$B12,'Data1988-2026England'!$A:$A,">="&$B$2)+COUNTIFS('Data1988-2026England'!K:K,$B12,'Data1988-2026England'!$A:$A,">="&$B$2) -> 3 | N12: =L12+G12 -> 14 | O12: =SUMPRODUCT(C12:F12,$C$21:$F$21)+SUMPRODUCT(H12:K12,$H$21:$K$21)+M12*$M$21 -> 25
A13: =ROW()-4 -> 9 | B13: Sale | C13: =COUNTIFS('Data1988-2026England'!B:B,$B13,'Data1988-2026England'!$A:$A,">="&$B$2) -> 1 | D13: =COUNTIFS('Data1988-2026England'!C:C,$B13,'Data1988-2026England'!$A:$A,">="&$B$2) -> 1 | E13: =COUNTIFS('Data1988-2026England'!D:D,$B13,'Data1988-2026England'!$A:$A,">="&$B$2) -> 0 | F13: =COUNTIFS('Data1988-2026England'!E:E,$B13,'Data1988-2026England'!$A:$A,">="&$B$2) -> 2 | G13: =SUM(C13:F13) -> 4 | H13: =COUNTIFS('Data1988-2026England'!F:F,$B13,'Data1988-2026England'!$A:$A,">="&$B$2) -> 2 | I13: =COUNTIFS('Data1988-2026England'!G:G,$B13,'Data1988-2026England'!$A:$A,">="&$B$2) -> 3 | J13: =COUNTIFS('Data1988-2026England'!H:H,$B13,'Data1988-2026England'!$A:$A,">="&$B$2) -> 0 | K13: =COUNTIFS('Data1988-2026England'!I:I,$B13,'Data1988-2026England'!$A:$A,">="&$B$2) -> 0 | L13: =SUM(H13:K13) -> 5 | M13: =COUNTIFS('Data1988-2026England'!J:J,$B13,'Data1988-2026England'!$A:$A,">="&$B$2)+COUNTIFS('Data1988-2026England'!K:K,$B13,'Data1988-2026England'!$A:$A,">="&$B$2) -> 4 | N13: =L13+G13 -> 9 | O13: =SUMPRODUCT(C13:F13,$C$21:$F$21)+SUMPRODUCT(H13:K13,$H$21:$K$21)+M13*$M$21 -> 22
A14: =ROW()-4 -> 10 | B14: Newcastle | C14: =COUNTIFS('Data1988-2026England'!B:B,$B14,'Data1988-2026England'!$A:$A,">="&$B$2) -> 1 | D14: =COUNTIFS('Data1988-2026England'!C:C,$B14,'Data1988-2026England'!$A:$A,">="&$B$2) -> 2 | E14: =COUNTIFS('Data1988-2026England'!D:D,$B14,'Data1988-2026England'!$A:$A,">="&$B$2) -> 0 | F14: =COUNTIFS('Data1988-2026England'!E:E,$B14,'Data1988-2026England'!$A:$A,">="&$B$2) -> 0 | G14: =SUM(C14:F14) -> 3 | H14: =COUNTIFS('Data1988-2026England'!F:F,$B14,'Data1988-2026England'!$A:$A,">="&$B$2) -> 0 | I14: =COUNTIFS('Data1988-2026England'!G:G,$B14,'Data1988-2026England'!$A:$A,">="&$B$2) -> 2 | J14: =COUNTIFS('Data1988-2026England'!H:H,$B14,'Data1988-2026England'!$A:$A,">="&$B$2) -> 0 | K14: =COUNTIFS('Data1988-2026England'!I:I,$B14,'Data1988-2026England'!$A:$A,">="&$B$2) -> 0 | L14: =SUM(H14:K14) -> 2 | M14: =COUNTIFS('Data1988-2026England'!J:J,$B14,'Data1988-2026England'!$A:$A,">="&$B$2)+COUNTIFS('Data1988-2026England'!K:K,$B14,'Data1988-2026England'!$A:$A,">="&$B$2) -> 1 | N14: =L14+G14 -> 5 | O14: =SUMPRODUCT(C14:F14,$C$21:$F$21)+SUMPRODUCT(H14:K14,$H$21:$K$21)+M14*$M$21 -> 11
A15: =ROW()-4 -> 11 | B15: Bristol | C15: =COUNTIFS('Data1988-2026England'!B:B,$B15,'Data1988-2026England'!$A:$A,">="&$B$2) -> 0 | D15: =COUNTIFS('Data1988-2026England'!C:C,$B15,'Data1988-2026England'!$A:$A,">="&$B$2) -> 0 | E15: =COUNTIFS('Data1988-2026England'!D:D,$B15,'Data1988-2026England'!$A:$A,">="&$B$2) -> 0 | F15: =COUNTIFS('Data1988-2026England'!E:E,$B15,'Data1988-2026England'!$A:$A,">="&$B$2) -> 1 | G15: =SUM(C15:F15) -> 1 | H15: =COUNTIFS('Data1988-2026England'!F:F,$B15,'Data1988-2026England'!$A:$A,">="&$B$2) -> 0 | I15: =COUNTIFS('Data1988-2026England'!G:G,$B15,'Data1988-2026England'!$A:$A,">="&$B$2) -> 1 | J15: =COUNTIFS('Data1988-2026England'!H:H,$B15,'Data1988-2026England'!$A:$A,">="&$B$2) -> 0 | K15: =COUNTIFS('Data1988-2026England'!I:I,$B15,'Data1988-2026England'!$A:$A,">="&$B$2) -> 0 | L15: =SUM(H15:K15) -> 1 | M15: =COUNTIFS('Data1988-2026England'!J:J,$B15,'Data1988-2026England'!$A:$A,">="&$B$2)+COUNTIFS('Data1988-2026England'!K:K,$B15,'Data1988-2026England'!$A:$A,">="&$B$2) -> 4 | N15: =L15+G15 -> 2 | O15: =SUMPRODUCT(C15:F15,$C$21:$F$21)+SUMPRODUCT(H15:K15,$H$21:$K$21)+M15*$M$21 -> 7
A16: =ROW()-4 -> 12 | B16: London Irish | C16: =COUNTIFS('Data1988-2026England'!B:B,$B16,'Data1988-2026England'!$A:$A,">="&$B$2) -> 0 | D16: =COUNTIFS('Data1988-2026England'!C:C,$B16,'Data1988-2026England'!$A:$A,">="&$B$2) -> 1 | E16: =COUNTIFS('Data1988-2026England'!D:D,$B16,'Data1988-2026England'!$A:$A,">="&$B$2) -> 0 | F16: =COUNTIFS('Data1988-2026England'!E:E,$B16,'Data1988-2026England'!$A:$A,">="&$B$2) -> 0 | G16: =SUM(C16:F16) -> 1 | H16: =COUNTIFS('Data1988-2026England'!F:F,$B16,'Data1988-2026England'!$A:$A,">="&$B$2) -> 1 | I16: =COUNTIFS('Data1988-2026England'!G:G,$B16,'Data1988-2026England'!$A:$A,">="&$B$2) -> 2 | J16: =COUNTIFS('Data1988-2026England'!H:H,$B16,'Data1988-2026England'!$A:$A,">="&$B$2) -> 0 | K16: =COUNTIFS('Data1988-2026England'!I:I,$B16,'Data1988-2026England'!$A:$A,">="&$B$2) -> 1 | L16: =SUM(H16:K16) -> 4 | M16: =COUNTIFS('Data1988-2026England'!J:J,$B16,'Data1988-2026England'!$A:$A,">="&$B$2)+COUNTIFS('Data1988-2026England'!K:K,$B16,'Data1988-2026England'!$A:$A,">="&$B$2) -> 1 | N16: =L16+G16 -> 5 | O16: =SUMPRODUCT(C16:F16,$C$21:$F$21)+SUMPRODUCT(H16:K16,$H$21:$K$21)+M16*$M$21 -> 6
... A19: =ROW()-4 -> 15 | B19: Orrell | C19: =COUNTIFS('Data1988-2026England'!B:B,$B19,'Data1988-2026England'!$A:$A,">="&$B$2) -> 0 | D19: =COUNTIFS('Data1988-2026England'!C:C,$B19,'Data1988-2026England'!$A:$A,">="&$B$2) -> 0 | E19: =COUNTIFS('Data1988-2026England'!D:D,$B19,'Data1988-2026England'!$A:$A,">="&$B$2) -> 0 | F19: =COUNTIFS('Data1988-2026England'!E:E,$B19,'Data1988-2026England'!$A:$A,">="&$B$2) -> 0 | G19: =SUM(C19:F19) -> 0 | H19: =COUNTIFS('Data1988-2026England'!F:F,$B19,'Data1988-2026England'!$A:$A,">="&$B$2) -> 1 | I19: =COUNTIFS('Data1988-2026England'!G:G,$B19,'Data1988-2026England'!$A:$A,">="&$B$2) -> 0 | J19: =COUNTIFS('Data1988-2026England'!H:H,$B19,'Data1988-2026England'!$A:$A,">="&$B$2) -> 0 | K19: =COUNTIFS('Data1988-2026England'!I:I,$B19,'Data1988-2026England'!$A:$A,">="&$B$2) -> 0 | L19: =SUM(H19:K19) -> 1 | M19: =COUNTIFS('Data1988-2026England'!J:J,$B19,'Data1988-2026England'!$A:$A,">="&$B$2)+COUNTIFS('Data1988-2026England'!K:K,$B19,'Data1988-2026England'!$A:$A,">="&$B$2) -> 0 | N19: =L19+G19 -> 1 | O19: =SUMPRODUCT(C19:F19,$C$21:$F$21)+SUMPRODUCT(H19:K19,$H$21:$K$21)+M19*$M$21 -> 2
B21: Points >>> | C21: 6 | D21: 2 | E21: 6 | F21: 3 | H21: 2 | I21: 0 | J21: 2 | K21: 1 | M21: 1

Sheet Data1984-2026World
B1: URC | D1: Prem | F1: Top 14 | I1: Champions Cup | M1: Challenge Cup | O1: Super Rugby | R1: Internationals | U1: Lions Tours | V1: WORLD CUP
B2: Winner | C2: Runner Up | D2: Winner | E2: Runner Up | F2: Winner | G2: Runner Up | I2: Winner | J2: Runner Up | K2: Semi Final 1 | L2: Semi Final 2 | M2: Winner | N2: Runner Up | O2: Winner | P2: Runner Up | R2: 6Nations | S2: RugCham | T2: NatCham | V2: Winner | W2: Runner Up | X2: Semi Finalists
A3: 1984 | F3: Beziers | G3: Agen | R3: SCOTLAND | Z3: 1984
A4: 1985 | F4: Toulouse | G4: Toulon | R4: Ireland | Z4: 1985
A5: 1986 | F5: Toulouse | G5: Agen | R5: France/Scotland | Z5: 1986
A6: 1987 | F6: Toulon | G6: Racing 92 | R6: FRANCE | V6: New Zealand | W6: France | X6: Wales | Y6: Australia | Z6: 1987
A7: 1988 | D7: ='Data1988-2026England'!B3 -> Leicester | E7: ='Data1988-2026England'!F3 -> Wasps | F7: Agen | G7: Tarbais | R7: France/Wales | Z7: 1988
A8: 1989 | D8: ='Data1988-2026England'!B4 -> Bath | E8: ='Data1988-2026England'!F4 -> Gloucester | F8: Toulouse | G8: Toulon | R8: France | U8: LIONS | Z8: 1989
A9: 1990 | D9: ='Data1988-2026England'!B5 -> Wasps | E9: ='Data1988-2026England'!F5 -> Gloucester | F9: Racing 92 | G9: Agen | R9: SCOTLAND | Z9: 1990
A10: 1991 | D10: ='Data1988-2026England'!B6 -> Bath | E10: ='Data1988-2026England'!F6 -> Wasps | F10: Bordeaux | G10: Toulouse | R10: ENGLAND | V10: Australia | W10: England | X10: New Zealand | Y10: Scotland | Z10: 1991
A11: 1992 | D11: ='Data1988-2026England'!B7 -> Bath | E11: ='Data1988-2026England'!F7 -> Orrell | F11: Toulon | G11: Biarritz | R11: ENGLAND | Z11: 1992
A12: 1993 | D12: ='Data1988-2026England'!B8 -> Bath | E12: ='Data1988-2026England'!F8 -> Wasps | F12: Castres | G12: Grenoble | R12: France | U12: All Blacks | Z12: 1993
A13: 1994 | D13: ='Data1988-2026England'!B9 -> Bath | E13: ='Data1988-2026England'!F9 -> Leicester | F13: Toulouse | G13: AS Montferrand | R13: Wales | Z13: 1994
A14: 1995 | D14: ='Data1988-2026England'!B10 -> Leicester | E14: ='Data1988-2026England'!F10 -> Bath | F14: Toulouse | G14: Castres | R14: ENGLAND | V14: South Africa | W14: New Zealand | X14: France | Y14: England | Z14: 1995
A15: Rugby Union turns professional and European competitions, Tri Nations & Super Rugby begins
A16: 1996 | D16: ='Data1988-2026England'!B11 -> Bath | E16: ='Data1988-2026England'!F11 -> Leicester | F16: Toulouse | G16: Brive | I16: Toulouse | J16: Cardiff | K16: No English or Scottish clubs | O16: Blues | P16: Sharks | R16: England | S16: New Zealand | Z16: 1996
A17: 1997 | D17: ='Data1988-2026England'!B12 -> Wasps | E17: ='Data1988-2026England'!F12 -> Bath | F17: Toulouse | G17: Bourgoin | I17: Brive | J17: Leicester | K17: Cardiff | L17: Toulouse | M17: Bourgoin | N17: Castres | O17: Blues | P17: Brumbies | R17: FRANCE | S17: New Zealand | U17: LIONS | Z17: 1997
A18: 1998 | D18: ='Data1988-2026England'!B13 -> Newcastle | E18: ='Data1988-2026England'!F13 -> Saracens | F18: Stade Francais | G18: Perpignan | I18: Bath | J18: Brive | K18: Toulouse | L18: Pau | M18: Colomiers | N18: Agen | O18: Crusaders | P18: Blues | R18: FRANCE | S18: South Africa | Z18: 1998
A19: 1999 | D19: ='Data1988-2026England'!B14 -> Leicester | E19: ='Data1988-2026England'!F14 -> Northampton | F19: Toulouse | G19: AS Montferrand | I19: Ulster | J19: Colomiers | K19: Stade Francais | L19: Perpignan | M19: AS Montferrand | N19: Bourgoin | O19: Crusaders | P19: Highlanders | R19: Scotland | S19: New Zealand | V19: Australia | W19: France | X19: New Zealand | Y19: South Africa | Z19: 1999
A20: 2000 | D20: ='Data1988-2026England'!B15 -> Leicester | E20: ='Data1988-2026England'!F15 -> Bath | F20: Stade Francais | G20: Colomiers | I20: Northampton | J20: Munster | K20: Scarlets | L20: Toulouse | M20: Pau | N20: Castres | O20: Crusaders | P20: Brumbies | R20: England | S20: Australia | Z20: 2000
A21: 2001 | D21: ='Data1988-2026England'!B16 -> Leicester | E21: ='Data1988-2026England'!F16 -> Wasps | F21: Toulouse | G21: AS Montferrand | I21: Leicester | J21: Stade Francais | K21: Gloucester | L21: Munster | M21: Harlequins | N21: Narbonne | O21: Brumbies | P21: Sharks | R21: England | S21: Australia | U21: Wallabies | Z21: 2001
A22: 2002 | B22: Leinster | C22: Munster | D22: ='Data1988-2026England'!B17 -> Leicester | E22: ='Data1988-2026England'!F17 -> Sale | F22: Biarritz | G22: Agen | I22: Leicester | J22: Munster | K22: Scarlets | L22: Castres | M22: Sale | N22: Pontypridd | O22: Crusaders | P22: Brumbies | R22: FRANCE | S22: New Zealand | Z22: 2002
A23: 2003 | B23: Munster | C23: Ospreys | D23: ='Data1988-2026England'!B18 -> Wasps | E23: ='Data1988-2026England'!F18 -> Gloucester | F23: Stade Francais | G23: Toulouse | I23: Toulouse | J23: Perpignan | K23: Leinster | L23: Munster | M23: Wasps | N23: Bath | O23: Blues | P23: Crusaders | R23: ENGLAND | S23: New Zealand | V23: England | W23: Australia | X23: New Zealand | Y23: France | Z23: 2003
A24: 2004 | B24: Scarlets | C24: Ulster | D24: ='Data1988-2026England'!B19 -> Wasps | E24: ='Data1988-2026England'!F19 -> Bath | F24: Stade Francais | G24: Perpignan | I24: Wasps | J24: Toulouse | K24: Biarritz | L24: Munster | M24: Harlequins | N24: AS Montferrand | O24: Brumbies | P24: Crusaders | R24: FRANCE | S24: South Africa | Z24: 2004
A25: 2005 | B25: Ospreys | C25: Munster | D25: ='Data1988-2026England'!B20 -> Wasps | E25: ='Data1988-2026England'!F20 -> Leicester | F25: Biarritz | G25: Stade Francais | I25: Toulouse | J25: Stade Francais | K25: Leicester | L25: Biarritz | M25: Sale | N25: Pau | O25: Crusaders | P25: Waratahs | R25: WALES | S25: New Zealand | U25: All Blacks | Z25: 2005
A26: 2006 | B26: Ulster | C26: Leinster | D26: ='Data1988-2026England'!B21 -> Sale | E26: ='Data1988-2026England'!F21 -> Leicester | F26: Biarritz | G26: Toulouse | I26: Munster | J26: Biarritz | K26: Leinster | L26: Bath | M26: Gloucester | N26: London Irish | O26: Crusaders | P26: Hurricanes | R26: France | S26: New Zealand | Z26: 2006
A27: 2007 | B27: Ospreys | C27: Cardiff | D27: ='Data1988-2026England'!B22 -> Leicester | E27: ='Data1988-2026England'!F22 -> Gloucester | F27: Stade Francais | G27: Clermont Auvergne | I27: Wasps | J27: Leicester | K27: Scarlets | L27: Northampton | M27: Clermont Auvergne | N27: Bath | O27: Bulls | P27: Sharks | R27: France | S27: New Zealand | V27: South Africa | W27: England | X27: Argentina | Y27: France | Z27: 2007
A28: 2008 | B28: Leinster | C28: Cardiff | D28: ='Data1988-2026England'!B23 -> Wasps | E28: ='Data1988-2026England'!F23 -> Leicester | F28: Toulouse | G28: Clermont Auvergne | I28: Munster | J28: Toulouse | K28: Saracens | L28: London Irish | M28: Bath | N28: Worcester | O28: Crusaders | P28: Waratahs | R28: WALES | S28: New Zealand | Z28: 2008
A29: 2009 | B29: Munster | C29: Edinburgh | D29: ='Data1988-2026England'!B24 -> Leicester | E29: ='Data1988-2026England'!F24 -> London Irish | F29: Perpignan | G29: Clermont Auvergne | I29: Leinster | J29: Leicester | K29: Cardiff | L29: Munster | M29: Northampton | N29: Bourgoin | O29: Bulls | P29: Chiefs | R29: IRELAND | S29: South Africa | U29: Springboks | Z29: 2009
A30: 2010 | B30: Ospreys | C30: Leinster | D30: ='Data1988-2026England'!B25 -> Leicester | E30: ='Data1988-2026England'!F25 -> Saracens | F30: Clermont Auvergne | G30: Perpignan | I30: Toulouse | J30: Biarritz | K30: Leinster | L30: Munster | M30: Cardiff | N30: Toulon | O30: Bulls | P30: Stormers | R30: FRANCE | S30: New Zealand | Z30: 2010
A31: 2011 | B31: Munster | C31: Leinster | D31: ='Data1988-2026England'!B26 -> Saracens | E31: ='Data1988-2026England'!F26 -> Leicester | F31: Toulouse | G31: Montpellier | I31: Leinster | J31: Northampton | K31: Toulouse | L31: Perpignan | M31: Harlequins | N31: Stade Francais | O31: Reds | P31: Crusaders | R31: England | S31: Australia | V31: New Zealand | W31: France | X31: Australia | Y31: Wales | Z31: 2011
A32: 2012 | B32: Ospreys | C32: Leinster | D32: ='Data1988-2026England'!B27 -> Harlequins | E32: ='Data1988-2026England'!F27 -> Leicester | F32: Toulouse | G32: Toulon | I32: Leinster | J32: Ulster | K32: Clermont Auvergne | L32: Edinburgh | M32: Biarritz | N32: Toulon | O32: Chiefs | P32: Sharks | R32: WALES | S32: New Zealand | Z32: 2012
A33: 2013 | B33: Leinster | C33: Ulster | D33: ='Data1988-2026England'!B28 -> Leicester | E33: ='Data1988-2026England'!F28 -> Northampton | F33: Castres | G33: Toulon | I33: Toulon | J33: Clermont Auvergne | K33: Saracens | L33: Munster | M33: Leinster | N33: Stade Francais | O33: Chiefs | P33: Brumbies | R33: Wales | S33: New Zealand | U33: LIONS | Z33: 2013
A34: 2014 | B34: Leinster | C34: Glasgow | D34: ='Data1988-2026England'!B29 -> Northampton | E34: ='Data1988-2026England'!F29 -> Saracens | F34: Toulon | G34: Castres | I34: Toulon | J34: Saracens | K34: Clermont Auvergne | L34: Munster | M34: Northampton | N34: Bath | O34: Waratahs | P34: Crusaders | R34: Ireland | S34: New Zealand | Z34: 2014
A35: 2015 | B35: Glasgow | C35: Munster | D35: ='Data1988-2026England'!B30 -> Saracens | E35: ='Data1988-2026England'!F30 -> Bath | F35: Stade Francais | G35: Clermont Auvergne | I35: Toulon | J35: Clermont Auvergne | K35: Leinster | L35: Saracens | M35: Gloucester | N35: Edinburgh | O35: Highlanders | P35: Hurricanes | R35: Ireland | S35: Australia | V35: New Zealand | W35: Australia | X35: South Africa | Y35: Argentina | Z35: 2015
A36: 2016 | B36: Connacht | C36: Leinster | D36: ='Data1988-2026England'!B31 -> Saracens | E36: ='Data1988-2026England'!F31 -> Exeter | F36: Racing 92 | G36: Toulon | I36: Saracens | J36: Racing 92 | K36: Leicester | L36: Wasps | M36: Montpellier | N36: Harlequins | O36: Hurricanes | P36: Lions | R36: ENGLAND | S36: New Zealand | Z36: 2016
A37: 2017 | B37: Scarlets | C37: Munster | D37: ='Data1988-2026England'!B32 -> Exeter | E37: ='Data1988-2026England'!F32 -> Wasps | F37: Clermont Auvergne | G37: Toulon | I37: Saracens | J37: Clermont Auvergne | K37: Leinster | L37: Munster | M37: Stade Francais | N37: Gloucester | O37: Crusaders | P37: Lions | R37: England | S37: New Zealand | U37: **Drawn** | Z37: 2017
A38: 2018 | B38: Leinster | C38: Scarlets | D38: ='Data1988-2026England'!B33 -> Saracens | E38: ='Data1988-2026England'!F33 -> Exeter | F38: Castres | G38: Montpellier | I38: Leinster | J38: Racing 92 | K38: Scarlets | L38: Munster | M38: Cardiff | N38: Gloucester | O38: Crusaders | P38: Lions | R38: IRELAND | S38: New Zealand | Z38: 2018
A39: 2019 | B39: Leinster | C39: Glasgow | D39: ='Data1988-2026England'!B34 -> Saracens | E39: ='Data1988-2026England'!F34 -> Exeter | F39: Toulouse | G39: Clermont Auvergne | I39: Saracens | J39: Leinster | K39: Toulouse | L39: Munster | M39: Clermont Auvergne | N39: La Rochelle | O39: Crusaders | P39: Jaguares | R39: WALES | S39: South Africa | V39: South Africa | W39: England | X39: New Zealand | Y39: Wales | Z39: 2019
A40: 2020 | B40: Leinster | C40: Ulster | D40: ='Data1988-2026England'!B35 -> Exeter | E40: ='Data1988-2026England'!F35 -> Wasps | F40: Season Abandoned | I40: Exeter | J40: Racing 92 | K40: Toulouse | L40: Saracens | M40: Bristol | N40: Toulon | O40: Season Abandoned | R40: England | S40: New Zealand | Z40: 2020
A41: Coronavirus pandemic leads to abandonments & structural changes. South African sides leave Super Rugby & join URC, Fijian & Samoan sides join Super Rugby.
A42: 2021 | B42: Leinster | C42: Munster | D42: ='Data1988-2026England'!B36 -> Harlequins | E42: ='Data1988-2026England'!F36 -> Exeter | F42: Toulouse | G42: La Rochelle | I42: Toulouse | J42: La Rochelle | K42: Leinster | L42: Bordeaux | M42: Montpellier | N42: Leicester | O42: Blues | P42: Highlanders | R42: Wales | S42: New Zealand | U42: Springboks | Z42: 2021
A43: 2022 | B43: Stormers | C43: Bulls | D43: ='Data1988-2026England'!B37 -> Leicester | E43: ='Data1988-2026England'!F37 -> Saracens | F43: Montpellier | G43: Castres | I43: La Rochelle | J43: Leinster | K43: Toulouse | L43: Racing 92 | M43: Lyon | N43: Toulon | O43: Crusaders | P43: Blues | R43: FRANCE | S43: New Zealand | Z43: 2022
A44: 2023 | B44: Munster | C44: Stormers | D44: ='Data1988-2026England'!B38 -> Saracens | E44: ='Data1988-2026England'!F38 -> Sale | F44: Toulouse | G44: La Rochelle | I44: La Rochelle | J44: Leinster | K44: Toulouse | L44: Exeter | M44: Toulon | N44: Glasgow | O44: Crusaders | P44: Chiefs | R44: IRELAND | S44: New Zealand | V44: South Africa | W44: New Zealand | X44: England | Y44: Argentina | Z44: 2023
A45: 2024 | B45: Glasgow | C45: Bulls | D45: ='Data1988-2026England'!B39 -> Northampton | E45: ='Data1988-2026England'!F39 -> Bath | F45: Toulouse | G45: Bordeaux | I45: Toulouse | J45: Leinster | K45: Harlequins | L45: Northampton | M45: Sharks | N45: Gloucester | O45: Blues | P45: Chiefs | R45: Ireland | S45: South Africa | Z45: 2024
A46: 2025 | B46: Leinster | C46: Bulls | D46: ='Data1988-2026England'!B40 -> Bath | E46: ='Data1988-2026England'!F40 -> Leicester | F46: Toulouse | G46: Bordeaux | I46: Bordeaux | J46: Northampton | K46: Leinster | L46: Toulouse | M46: Bath | N46: Lyon | O46: Crusaders | P46: Chiefs | R46: France | S46: South Africa | U46: LIONS | Z46: 2025
A47: 2026 | B47: Leinster | C47: Bulls | D47: ='Data1988-2026England'!B41 -> Northampton | E47: ='Data1988-2026England'!F41 -> Exeter | F47: Toulouse | G47: Montpellier | I47: Bordeaux | J47: Leinster | K47: Toulon | L47: Bath | M47: Montpellier | N47: Ulster | O47: Hurricanes | P47: Chiefs | R47: France | S47: **not played** | Z47: 2026
A48: 2027 | Z48: 2027
A49: 2028 | Z49: 2028
A50: 2029 | Z50: 2029
A51: 2030 | S51: **not played** | Z51: 2030
A52: 2031 | Z52: 2031
A53: 2032 | Z53: 2032
A54: 2033 | Z54: 2033
A55: 2034 | S55: **not played** | Z55: 2034

Sheet RankingsWorld
B1: All Rankings by League from 1984 to today | V1: Euro Club Rankings
B3: Since 1984 | G3: Since 1988 | L3: Since 2002 | Q3: Since 1996 | V3: Since 1996 | W3: 1996 | Y3: Points | Z3: 6 | AA3: 6 | AB3: 3 | AD3: 2 | AE3: 2 | AF3: 1 | AH3: 1
B4: Top14 | G4: Premiership | L4: URC | Q4: Super Rugby | Y4: ^^^ You can change these points if you wish ^^^ | AD4: South African sides credited with Super Rugby outcomes | AM4: Top Euro Teams since 96 when game went professional
B6: Team | C6: Ch | D6: ru | E6: Pts | G6: Team | H6: Ch | I6: ru | J6: Pts | L6: Team | M6: Ch | N6: ru | O6: Pts | Q6: Team | R6: Ch | S6: ru | T6: Pts | V6: Rank | W6: League | X6: Ntn | Y6: Team | Z6: L-W | AA6: EU1-W | AB6: EU2-W | AC6: WINS | AD6: L-RU | AE6: EU1-RU | AF6: EU2-RU | AG6: RU | AH6: EU1-SF | AI6: Top2 | AJ6: Points | AL6: Rank | AM6: Team | AN6: Wins | AO6: Team | AP6: Top2 | AQ6: Team | AR6: Points | AS6: Rank
B7: Toulouse | C7: =COUNTIF('Data1984-2026World'!F:F,$B7) -> 18 | D7: =COUNTIF('Data1984-2026World'!G:G,$B7) -> 3 | E7: =C7*$R$24+D7*$S$24 -> 57 | G7: Leicester | H7: =COUNTIF('Data1984-2026World'!D:D,$G7) -> 11 | I7: =COUNTIF('Data1984-2026World'!E:E,$G7) -> 8 | J7: =H7*$R$24+I7*$S$24 -> 41 | L7: Leinster | M7: =COUNTIF('Data1984-2026World'!B:B,$L7) -> 10 | N7: =COUNTIF('Data1984-2026World'!C:C,$L7) -> 5 | O7: =M7*$R$24+N7*$S$24 -> 35 | Q7: Crusaders | R7: =COUNTIF('Data1984-2026World'!O:O,$Q7) -> 13 | S7: =COUNTIF('Data1984-2026World'!P:P,$Q7) -> 4 | T7: =R7*$R$24+S7 -> 43 | V7: =ROW()-6 -> 1 | W7: TOP14 | X7: Fra | Y7: Toulouse | Z7: =COUNTIFS('Data1984-2026World'!B$3:B$99,$Y7,'Data1984-2026World'!$A$3:$A$99,">="&$W$3)+COUNTIFS('Data1984-2026World'!D$3:D$99,$Y7,'Data1984-2026World'!$A$3:$A$99,">="&$W$3)+COUNTIFS('Data1984-2026World'!F$3:F$99,$Y7,'Data1984-2026World'!$A$3:$A$99,">="&$W$3)+COUNTIFS('Data1984-2026World'!O$3:O$99,$Y7,'Data1984-2026World'!$A$3:$A$99,">="&$W$3) -> 13 | AA7: =COUNTIFS('Data1984-2026World'!I$3:I$99,$Y7,'Data1984-2026World'!$A$3:$A$99,">="&$W$3) -> 6 | AB7: =COUNTIFS('Data1984-2026World'!M$3:M$99,$Y7,'Data1984-2026World'!$A$3:$A$99,">="&$W$3) -> 0 | AC7: =SUM(Z7:AB7) -> 19 | AD7: =COUNTIFS('Data1984-2026World'!C$3:C$99,$Y7,'Data1984-2026World'!$A$3:$A$99,">="&$W$3)+COUNTIFS('Data1984-2026World'!E$3:E$99,$Y7,'Data1984-2026World'!$A$3:$A$99,">="&$W$3)+COUNTIFS('Data1984-2026World'!G$3:G$99,$Y7,'Data1984-2026World'!$A$3:$A$99,">="&$W$3)+COUNTIFS('Data1984-2026World'!P$3:P$99,$Y7,'Data1984-2026World'!$A$3:$A$99,">="&$W$3) -> 2 | AE7: =COUNTIFS('Data1984-2026World'!J$3:J$99,$Y7,'Data1984-2026World'!$A$3:$A$99,">="&$W$3) -> 2 | AF7: =COUNTIFS('Data1984-2026World'!N$3:N$99,$Y7,'Data1984-2026World'!$A$3:$A$99,">="&$W$3) -> 0 | AG7: =SUM(AD7:AF7) -> 4 | AH7: =COUNTIFS('Data1984-2026World'!K$3:K$99,$Y7,'Data1984-2026World'!$A$3:$A$99,">="&$W$3)+COUNTIFS('Data1984-2026World'!L$3:L$99,$Y7,'Data1984-2026World'!$A$3:$A$99,">="&$W$3) -> 9 | AI7: =AG7+AC7 -> 23 | AJ7: =SUMPRODUCT($Z$3:$AB$3,Z7:AB7)+SUMPRODUCT($AD$3:$AF$3,AD7:AF7)+AH7 -> 131 | AL7: =ROW()-6 -> 1 | AM7: Toulouse | AN7: 19 | AO7: Leinster | AP7: 25 | AQ7: Toulouse | AR7: 131 | AS7: =ROW()-6 -> 1
B8: Stade Francais | C8: =COUNTIF('Data1984-2026World'!F:F,$B8) -> 6 | D8: =COUNTIF('Data1984-2026World'!G:G,$B8) -> 1 | E8: =C8*$R$24+D8*$S$24 -> 19 | G8: Bath | H8: =COUNTIF('Data1984-2026World'!D:D,$G8) -> 7 | I8: =COUNTIF('Data1984-2026World'!E:E,$G8) -> 6 | J8: =H8*$R$24+I8*$S$24 -> 27 | L8: Munster | M8: =COUNTIF('Data1984-2026World'!B:B,$L8) -> 4 | N8: =COUNTIF('Data1984-2026World'!C:C,$L8) -> 5 | O8: =M8*$R$24+N8*$S$24 -> 17 | Q8: Blues | R8: =COUNTIF('Data1984-2026World'!O:O,$Q8) -> 5 | S8: =COUNTIF('Data1984-2026World'!P:P,$Q8) -> 2 | T8: =R8*$R$24+S8 -> 17 | V8: =ROW()-6 -> 2 | W8: URC | X8: Ire | Y8: Leinster | Z8: =COUNTIFS('Data1984-2026World'!B$3:B$99,$Y8,'Data1984-2026World'!$A$3:$A$99,">="&$W$3)+COUNTIFS('Data1984-2026World'!D$3:D$99,$Y8,'Data1984-2026World'!$A$3:$A$99,">="&$W$3)+COUNTIFS('Data1984-2026World'!F$3:F$99,$Y8,'Data1984-2026World'!$A$3:$A$99,">="&$W$3)+COUNTIFS('Data1984-2026World'!O$3:O$99,$Y8,'Data1984-2026World'!$A$3:$A$99,">="&$W$3) -> 10 | AA8: =COUNTIFS('Data1984-2026World'!I$3:I$99,$Y8,'Data1984-2026World'!$A$3:$A$99,">="&$W$3) -> 4 | AB8: =COUNTIFS('Data1984-2026World'!M$3:M$99,$Y8,'Data1984-2026World'!$A$3:$A$99,">="&$W$3) -> 1 | AC8: =SUM(Z8:AB8) -> 15 | AD8: =COUNTIFS('Data1984-2026World'!C$3:C$99,$Y8,'Data1984-2026World'!$A$3:$A$99,">="&$W$3)+COUNTIFS('Data1984-2026World'!E$3:E$99,$Y8,'Data1984-2026World'!$A$3:$A$99,">="&$W$3)+COUNTIFS('Data1984-2026World'!G$3:G$99,$Y8,'Data1984-2026World'!$A$3:$A$99,">="&$W$3)+COUNTIFS('Data1984-2026World'!P$3:P$99,$Y8,'Data1984-2026World'!$A$3:$A$99,">="&$W$3) -> 5 | AE8: =COUNTIFS('Data1984-2026World'!J$3:J$99,$Y8,'Data1984-2026World'!$A$3:$A$99,">="&$W$3) -> 5 | AF8: =COUNTIFS('Data1984-2026World'!N$3:N$99,$Y8,'Data1984-2026World'!$A$3:$A$99,">="&$W$3) -> 0 | AG8: =SUM(AD8:AF8) -> 10 | AH8: =COUNTIFS('Data1984-2026World'!K$3:K$99,$Y8,'Data1984-2026World'!$A$3:$A$99,">="&$W$3)+COUNTIFS('Data1984-2026World'!L$3:L$99,$Y8,'Data1984-2026World'!$A$3:$A$99,">="&$W$3) -> 7 | AI8: =AG8+AC8 -> 25 | AJ8: =SUMPRODUCT($Z$3:$AB$3,Z8:AB8)+SUMPRODUCT($AD$3:$AF$3,AD8:AF8)+AH8 -> 114 | AL8: =ROW()-6 -> 2 | AM8: Leinster | AN8: 15 | AO8: Toulouse | AP8: 23 | AQ8: Leinster | AR8: 114 | AS8: =ROW()-6 -> 2
B9: Toulon | C9: =COUNTIF('Data1984-2026World'!F:F,$B9) -> 3 | D9: =COUNTIF('Data1984-2026World'!G:G,$B9) -> 6 | E9: =C9*$R$24+D9*$S$24 -> 15 | G9: Wasps | H9: =COUNTIF('Data1984-2026World'!D:D,$G9) -> 6 | I9: =COUNTIF('Data1984-2026World'!E:E,$G9) -> 6 | J9: =H9*$R$24+I9*$S$24 -> 24 | L9: Ospreys | M9: =COUNTIF('Data1984-2026World'!B:B,$L9) -> 4 | N9: =COUNTIF('Data1984-2026World'!C:C,$L9) -> 1 | O9: =M9*$R$24+N9*$S$24 -> 13 | Q9: Chiefs | R9: =COUNTIF('Data1984-2026World'!O:O,$Q9) -> 2 | S9: =COUNTIF('Data1984-2026World'!P:P,$Q9) -> 5 | T9: =R9*$R$24+S9 -> 11 | V9: =ROW()-6 -> 3 | W9: Prem | X9: Eng | Y9: Leicester | Z9: =COUNTIFS('Data1984-2026World'!B$3:B$99,$Y9,'Data1984-2026World'!$A$3:$A$99,">="&$W$3)+COUNTIFS('Data1984-2026World'!D$3:D$99,$Y9,'Data1984-2026World'!$A$3:$A$99,">="&$W$3)+COUNTIFS('Data1984-2026World'!F$3:F$99,$Y9,'Data1984-2026World'!$A$3:$A$99,">="&$W$3)+COUNTIFS('Data1984-2026World'!O$3:O$99,$Y9,'Data1984-2026World'!$A$3:$A$99,">="&$W$3) -> 9 | AA9: =COUNTIFS('Data1984-2026World'!I$3:I$99,$Y9,'Data1984-2026World'!$A$3:$A$99,">="&$W$3) -> 2 | AB9: =COUNTIFS('Data1984-2026World'!M$3:M$99,$Y9,'Data1984-2026World'!$A$3:$A$99,">="&$W$3) -> 0 | AC9: =SUM(Z9:AB9) -> 11 | AD9: =COUNTIFS('Data1984-2026World'!C$3:C$99,$Y9,'Data1984-2026World'!$A$3:$A$99,">="&$W$3)+COUNTIFS('Data1984-2026World'!E$3:E$99,$Y9,'Data1984-2026World'!$A$3:$A$99,">="&$W$3)+COUNTIFS('Data1984-2026World'!G$3:G$99,$Y9,'Data1984-2026World'!$A$3:$A$99,">="&$W$3)+COUNTIFS('Data1984-2026World'!P$3:P$99,$Y9,'Data1984-2026World'!$A$3:$A$99,">="&$W$3) -> 7 | AE9: =COUNTIFS('Data1984-2026World'!J$3:J$99,$Y9,'Data1984-2026World'!$A$3:$A$99,">="&$W$3) -> 3 | AF9: =COUNTIFS('Data1984-2026World'!N$3:N$99,$Y9,'Data1984-2026World'!$A$3:$A$99,">="&$W$3) -> 1 | AG9: =SUM(AD9:AF9) -> 11 | AH9: =COUNTIFS('Data1984-2026World'!K$3:K$99,$Y9,'Data1984-2026World'!$A$3:$A$99,">="&$W$3)+COUNTIFS('Data1984-2026World'!L$3:L$99,$Y9,'Data1984-2026World'!$A$3:$A$99,">="&$W$3) -> 2 | AI9: =AG9+AC9 -> 22 | AJ9: =SUMPRODUCT($Z$3:$AB$3,Z9:AB9)+SUMPRODUCT($AD$3:$AF$3,AD9:AF9)+AH9 -> 89 | AL9: =ROW()-6 -> 3 | AM9: Leicester | AN9: 11 | AO9: Leicester | AP9: 22 | AQ9: Leicester | AR9: 89 | AS9: =ROW()-6 -> 3
B10: Castres | C10: =COUNTIF('Data1984-2026World'!F:F,$B10) -> 3 | D10: =COUNTIF('Data1984-2026World'!G:G,$B10) -> 3 | E10: =C10*$R$24+D10*$S$24 -> 12 | G10: Saracens | H10: =COUNTIF('Data1984-2026World'!D:D,$G10) -> 6 | I10: =COUNTIF('Data1984-2026World'!E:E,$G10) -> 4 | J10: =H10*$R$24+I10*$S$24 -> 22 | L10: Glasgow | M10: =COUNTIF('Data1984-2026World'!B:B,$L10) -> 2 | N10: =COUNTIF('Data1984-2026World'!C:C,$L10) -> 2 | O10: =M10*$R$24+N10*$S$24 -> 8 | Q10: Brumbies | R10: =COUNTIF('Data1984-2026World'!O:O,$Q10) -> 2 | S10: =COUNTIF('Data1984-2026World'!P:P,$Q10) -> 4 | T10: =R10*$R$24+S10 -> 10 | V10: =ROW()-6 -> 4 | W10: Prem | X10: Eng | Y10: Saracens | Z10: =COUNTIFS('Data1984-2026World'!B$3:B$99,$Y10,'Data1984-2026World'!$A$3:$A$99,">="&$W$3)+COUNTIFS('Data1984-2026World'!D$3:D$99,$Y10,'Data1984-2026World'!$A$3:$A$99,">="&$W$3)+COUNTIFS('Data1984-2026World'!F$3:F$99,$Y10,'Data1984-2026World'!$A$3:$A$99,">="&$W$3)+COUNTIFS('Data1984-2026World'!O$3:O$99,$Y10,'Data1984-2026World'!$A$3:$A$99,">="&$W$3) -> 6 | AA10: =COUNTIFS('Data1984-2026World'!I$3:I$99,$Y10,'Data1984-2026World'!$A$3:$A$99,">="&$W$3) -> 3 | AB10: =COUNTIFS('Data1984-2026World'!M$3:M$99,$Y10,'Data1984-2026World'!$A$3:$A$99,">="&$W$3) -> 0 | AC10: =SUM(Z10:AB10) -> 9 | AD10: =COUNTIFS('Data1984-2026World'!C$3:C$99,$Y10,'Data1984-2026World'!$A$3:$A$99,">="&$W$3)+COUNTIFS('Data1984-2026World'!E$3:E$99,$Y10,'Data1984-2026World'!$A$3:$A$99,">="&$W$3)+COUNTIFS('Data1984-2026World'!G$3:G$99,$Y10,'Data1984-2026World'!$A$3:$A$99,">="&$W$3)+COUNTIFS('Data1984-2026World'!P$3:P$99,$Y10,'Data1984-2026World'!$A$3:$A$99,">="&$W$3) -> 4 | AE10: =COUNTIFS('Data1984-2026World'!J$3:J$99,$Y10,'Data1984-2026World'!$A$3:$A$99,">="&$W$3) -> 1 | AF10: =COUNTIFS('Data1984-2026World'!N$3:N$99,$Y10,'Data1984-2026World'!$A$3:$A$99,">="&$W$3) -> 0 | AG10: =SUM(AD10:AF10) -> 5 | AH10: =COUNTIFS('Data1984-2026World'!K$3:K$99,$Y10,'Data1984-2026World'!$A$3:$A$99,">="&$W$3)+COUNTIFS('Data1984-2026World'!L$3:L$99,$Y10,'Data1984-2026World'!$A$3:$A$99,">="&$W$3) -> 4 | AI10: =AG10+AC10 -> 14 | AJ10: =SUMPRODUCT($Z$3:$AB$3,Z10:AB10)+SUMPRODUCT($AD$3:$AF$3,AD10:AF10)+AH10 -> 68 | AL10: =ROW()-6 -> 4 | AM10: Saracens | AN10: 9 | AO10: Saracens | AP10: 14 | AQ10: Saracens | AR10: 68 | AS10: =ROW()-6 -> 4
B11: Clermont Auvergne | C11: =COUNTIF('Data1984-2026World'!F:F,$B11) -> 2 | D11: =COUNTIF('Data1984-2026World'!G:G,$B11) -> 5 | E11: =C11*$R$24+D11*$S$24 -> 11 | G11: Northampton | H11: =COUNTIF('Data1984-2026World'!D:D,$G11) -> 3 | I11: =COUNTIF('Data1984-2026World'!E:E,$G11) -> 2 | J11: =H11*$R$24+I11*$S$24 -> 11 | L11: Scarlets | M11: =COUNTIF('Data1984-2026World'!B:B,$L11) -> 2 | N11: =COUNTIF('Data1984-2026World'!C:C,$L11) -> 1 | O11: =M11*$R$24+N11*$S$24 -> 7 | Q11: Bulls | R11: =COUNTIF('Data1984-2026World'!O:O,$Q11) -> 3 | S11: =COUNTIF('Data1984-2026World'!P:P,$Q11) -> 0 | T11: =R11*$R$24+S11 -> 9 | V11: =ROW()-6 -> 5 | W11: URC | X11: Ire | Y11: Munster | Z11: =COUNTIFS('Data1984-2026World'!B$3:B$99,$Y11,'Data1984-2026World'!$A$3:$A$99,">="&$W$3)+COUNTIFS('Data1984-2026World'!D$3:D$99,$Y11,'Data1984-2026World'!$A$3:$A$99,">="&$W$3)+COUNTIFS('Data1984-2026World'!F$3:F$99,$Y11,'Data1984-2026World'!$A$3:$A$99,">="&$W$3)+COUNTIFS('Data1984-2026World'!O$3:O$99,$Y11,'Data1984-2026World'!$A$3:$A$99,">="&$W$3) -> 4 | AA11: =COUNTIFS('Data1984-2026World'!I$3:I$99,$Y11,'Data1984-2026World'!$A$3:$A$99,">="&$W$3) -> 2 | AB11: =COUNTIFS('Data1984-2026World'!M$3:M$99,$Y11,'Data1984-2026World'!$A$3:$A$99,">="&$W$3) -> 0 | AC11: =SUM(Z11:AB11) -> 6 | AD11: =COUNTIFS('Data1984-2026World'!C$3:C$99,$Y11,'Data1984-2026World'!$A$3:$A$99,">="&$W$3)+COUNTIFS('Data1984-2026World'!E$3:E$99,$Y11,'Data1984-2026World'!$A$3:$A$99,">="&$W$3)+COUNTIFS('Data1984-2026World'!G$3:G$99,$Y11,'Data1984-2026World'!$A$3:$A$99,">="&$W$3)+COUNTIFS('Data1984-2026World'!P$3:P$99,$Y11,'Data1984-2026World'!$A$3:$A$99,">="&$W$3) -> 5 | AE11: =COUNTIFS('Data1984-2026World'!J$3:J$99,$Y11,'Data1984-2026World'!$A$3:$A$99,">="&$W$3) -> 2 | AF11: =COUNTIFS('Data1984-2026World'!N$3:N$99,$Y11,'Data1984-2026World'!$A$3:$A$99,">="&$W$3) -> 0 | AG11: =SUM(AD11:AF11) -> 7 | AH11: =COUNTIFS('Data1984-2026World'!K$3:K$99,$Y11,'Data1984-2026World'!$A$3:$A$99,">="&$W$3)+COUNTIFS('Data1984-2026World'!L$3:L$99,$Y11,'Data1984-2026World'!$A$3:$A$99,">="&$W$3) -> 10 | AI11: =AG11+AC11 -> 13 | AJ11: =SUMPRODUCT($Z$3:$AB$3,Z11:AB11)+SUMPRODUCT($AD$3:$AF$3,AD11:AF11)+AH11 -> 60 | AL11: =ROW()-6 -> 5 | AM11: Wasps | AN11: 8 | AO11: Munster | AP11: 13 | AQ11: Munster | AR11: 60 | AS11: =ROW()-6 -> 5
B12: Biarritz | C12: =COUNTIF('Data1984-2026World'!F:F,$B12) -> 3 | D12: =COUNTIF('Data1984-2026World'!G:G,$B12) -> 1 | E12: =C12*$R$24+D12*$S$24 -> 10 | G12: Exeter | H12: =COUNTIF('Data1984-2026World'!D:D,$G12) -> 2 | I12: =COUNTIF('Data1984-2026World'!E:E,$G12) -> 5 | J12: =H12*$R$24+I12*$S$24 -> 11 | L12: Ulster | M12: =COUNTIF('Data1984-2026World'!B:B,$L12) -> 1 | N12: =COUNTIF('Data1984-2026World'!C:C,$L12) -> 3 | O12: =M12*$R$24+N12*$S$24 -> 6 | Q12: Hurricanes | R12: =COUNTIF('Data1984-2026World'!O:O,$Q12) -> 2 | S12: =COUNTIF('Data1984-2026World'!P:P,$Q12) -> 2 | T12: =R12*$R$24+S12 -> 8 | V12: =ROW()-6 -> 6 | W12: Prem | X12: Eng | Y12: Wasps | Z12: =COUNTIFS('Data1984-2026World'!B$3:B$99,$Y12,'Data1984-2026World'!$A$3:$A$99,">="&$W$3)+COUNTIFS('Data1984-2026World'!D$3:D$99,$Y12,'Data1984-2026World'!$A$3:$A$99,">="&$W$3)+COUNTIFS('Data1984-2026World'!F$3:F$99,$Y12,'Data1984-2026World'!$A$3:$A$99,">="&$W$3)+COUNTIFS('Data1984-2026World'!O$3:O$99,$Y12,'Data1984-2026World'!$A$3:$A$99,">="&$W$3) -> 5 | AA12: =COUNTIFS('Data1984-2026World'!I$3:I$99,$Y12,'Data1984-2026World'!$A$3:$A$99,">="&$W$3) -> 2 | AB12: =COUNTIFS('Data1984-2026World'!M$3:M$99,$Y12,'Data1984-2026World'!$A$3:$A$99,">="&$W$3) -> 1 | AC12: =SUM(Z12:AB12) -> 8 | AD12: =COUNTIFS('Data1984-2026World'!C$3:C$99,$Y12,'Data1984-2026World'!$A$3:$A$99,">="&$W$3)+COUNTIFS('Data1984-2026World'!E$3:E$99,$Y12,'Data1984-2026World'!$A$3:$A$99,">="&$W$3)+COUNTIFS('Data1984-2026World'!G$3:G$99,$Y12,'Data1984-2026World'!$A$3:$A$99,">="&$W$3)+COUNTIFS('Data1984-2026World'!P$3:P$99,$Y12,'Data1984-2026World'!$A$3:$A$99,">="&$W$3) -> 3 | AE12: =COUNTIFS('Data1984-2026World'!J$3:J$99,$Y12,'Data1984-2026World'!$A$3:$A$99,">="&$W$3) -> 0 | AF12: =COUNTIFS('Data1984-2026World'!N$3:N$99,$Y12,'Data1984-2026World'!$A$3:$A$99,">="&$W$3) -> 0 | AG12: =SUM(AD12:AF12) -> 3 | AH12: =COUNTIFS('Data1984-2026World'!K$3:K$99,$Y12,'Data1984-2026World'!$A$3:$A$99,">="&$W$3)+COUNTIFS('Data1984-2026World'!L$3:L$99,$Y12,'Data1984-2026World'!$A$3:$A$99,">="&$W$3) -> 1 | AI12: =AG12+AC12 -> 11 | AJ12: =SUMPRODUCT($Z$3:$AB$3,Z12:AB12)+SUMPRODUCT($AD$3:$AF$3,AD12:AF12)+AH12 -> 52 | AL12: =ROW()-6 -> 6 | AM12: Stade Francais | AN12: 7 | AO12: Toulon | AP12: 13 | AQ12: Wasps | AR12: 52 | AS12: =ROW()-6 -> 6
B13: Racing 92 | C13: =COUNTIF('Data1984-2026World'!F:F,$B13) -> 2 | D13: =COUNTIF('Data1984-2026World'!G:G,$B13) -> 1 | E13: =C13*$R$24+D13*$S$24 -> 7 | G13: Harlequins | H13: =COUNTIF('Data1984-2026World'!D:D,$G13) -> 2 | I13: =COUNTIF('Data1984-2026World'!E:E,$G13) -> 0 | J13: =H13*$R$24+I13*$S$24 -> 6 | L13: Stormers | M13: =COUNTIF('Data1984-2026World'!B:B,$L13) -> 1 | N13: =COUNTIF('Data1984-2026World'!C:C,$L13) -> 1 | O13: =M13*$R$24+N13*$S$24 -> 4 | Q13: Waratahs | R13: =COUNTIF('Data1984-2026World'!O:O,$Q13) -> 1 | S13: =COUNTIF('Data1984-2026World'!P:P,$Q13) -> 2 | T13: =R13*$R$24+S13 -> 5 | V13: =ROW()-6 -> 7 | W13: TOP14 | X13: Fra | Y13: Stade Francais | Z13: =COUNTIFS('Data1984-2026World'!B$3:B$99,$Y13,'Data1984-2026World'!$A$3:$A$99,">="&$W$3)+COUNTIFS('Data1984-2026World'!D$3:D$99,$Y13,'Data1984-2026World'!$A$3:$A$99,">="&$W$3)+COUNTIFS('Data1984-2026World'!F$3:F$99,$Y13,'Data1984-2026World'!$A$3:$A$99,">="&$W$3)+COUNTIFS('Data1984-2026World'!O$3:O$99,$Y13,'Data1984-2026World'!$A$3:$A$99,">="&$W$3) -> 6 | AA13: =COUNTIFS('Data1984-2026World'!I$3:I$99,$Y13,'Data1984-2026World'!$A$3:$A$99,">="&$W$3) -> 0 | AB13: =COUNTIFS('Data1984-2026World'!M$3:M$99,$Y13,'Data1984-2026World'!$A$3:$A$99,">="&$W$3) -> 1 | AC13: =SUM(Z13:AB13) -> 7 | AD13: =COUNTIFS('Data1984-2026World'!C$3:C$99,$Y13,'Data1984-2026World'!$A$3:$A$99,">="&$W$3)+COUNTIFS('Data1984-2026World'!E$3:E$99,$Y13,'Data1984-2026World'!$A$3:$A$99,">="&$W$3)+COUNTIFS('Data1984-2026World'!G$3:G$99,$Y13,'Data1984-2026World'!$A$3:$A$99,">="&$W$3)+COUNTIFS('Data1984-2026World'!P$3:P$99,$Y13,'Data1984-2026World'!$A$3:$A$99,">="&$W$3) -> 1 | AE13: =COUNTIFS('Data1984-2026World'!J$3:J$99,$Y13,'Data1984-2026World'!$A$3:$A$99,">="&$W$3) -> 2 | AF13: =COUNTIFS('Data1984-2026World'!N$3:N$99,$Y13,'Data1984-2026World'!$A$3:$A$99,">="&$W$3) -> 2 | AG13: =SUM(AD13:AF13) -> 5 | AH13: =COUNTIFS('Data1984-2026World'!K$3:K$99,$Y13,'Data1984-2026World'!$A$3:$A$99,">="&$W$3)+COUNTIFS('Data1984-2026World'!L$3:L$99,$Y13,'Data1984-2026World'!$A$3:$A$99,">="&$W$3) -> 1 | AI13: =AG13+AC13 -> 12 | AJ13: =SUMPRODUCT($Z$3:$AB$3,Z13:AB13)+SUMPRODUCT($AD$3:$AF$3,AD13:AF13)+AH13 -> 48 | AL13: =ROW()-6 -> 7 | AM13: Munster | AN13: 6 | AO13: Bath | AP13: 13 | AQ13: Stade Francais | AR13: 48 | AS13: =ROW()-6 -> 7
B14: Agen | C14: =COUNTIF('Data1984-2026World'!F:F,$B14) -> 1 | D14: =COUNTIF('Data1984-2026World'!G:G,$B14) -> 4 | E14: =C14*$R$24+D14*$S$24 -> 7 | G14: Sale | H14: =COUNTIF('Data1984-2026World'!D:D,$G14) -> 1 | I14: =COUNTIF('Data1984-2026World'!E:E,$G14) -> 2 | J14: =H14*$R$24+I14*$S$24 -> 5 | L14: Bulls | M14: =COUNTIF('Data1984-2026World'!B:B,$L14) -> 0 | N14: =COUNTIF('Data1984-2026World'!C:C,$L14) -> 4 | O14: =M14*$R$24+N14*$S$24 -> 4 | Q14: Highlanders | R14: =COUNTIF('Data1984-2026World'!O:O,$Q14) -> 1 | S14: =COUNTIF('Data1984-2026World'!P:P,$Q14) -> 2 | T14: =R14*$R$24+S14 -> 5 | V14: =ROW()-6 -> 8 | W14: Prem | X14: Eng | Y14: Northampton | Z14: =COUNTIFS('Data1984-2026World'!B$3:B$99,$Y14,'Data1984-2026World'!$A$3:$A$99,">="&$W$3)+COUNTIFS('Data1984-2026World'!D$3:D$99,$Y14,'Data1984-2026World'!$A$3:$A$99,">="&$W$3)+COUNTIFS('Data1984-2026World'!F$3:F$99,$Y14,'Data1984-2026World'!$A$3:$A$99,">="&$W$3)+COUNTIFS('Data1984-2026World'!O$3:O$99,$Y14,'Data1984-2026World'!$A$3:$A$99,">="&$W$3) -> 3 | AA14: =COUNTIFS('Data1984-2026World'!I$3:I$99,$Y14,'Data1984-2026World'!$A$3:$A$99,">="&$W$3) -> 1 | AB14: =COUNTIFS('Data1984-2026World'!M$3:M$99,$Y14,'Data1984-2026World'!$A$3:$A$99,">="&$W$3) -> 2 | AC14: =SUM(Z14:AB14) -> 6 | AD14: =COUNTIFS('Data1984-2026World'!C$3:C$99,$Y14,'Data1984-2026World'!$A$3:$A$99,">="&$W$3)+COUNTIFS('Data1984-2026World'!E$3:E$99,$Y14,'Data1984-2026World'!$A$3:$A$99,">="&$W$3)+COUNTIFS('Data1984-2026World'!G$3:G$99,$Y14,'Data1984-2026World'!$A$3:$A$99,">="&$W$3)+COUNTIFS('Data1984-2026World'!P$3:P$99,$Y14,'Data1984-2026World'!$A$3:$A$99,">="&$W$3) -> 2 | AE14: =COUNTIFS('Data1984-2026World'!J$3:J$99,$Y14,'Data1984-2026World'!$A$3:$A$99,">="&$W$3) -> 2 | AF14: =COUNTIFS('Data1984-2026World'!N$3:N$99,$Y14,'Data1984-2026World'!$A$3:$A$99,">="&$W$3) -> 0 | AG14: =SUM(AD14:AF14) -> 4 | AH14: =COUNTIFS('Data1984-2026World'!K$3:K$99,$Y14,'Data1984-2026World'!$A$3:$A$99,">="&$W$3)+COUNTIFS('Data1984-2026World'!L$3:L$99,$Y14,'Data1984-2026World'!$A$3:$A$99,">="&$W$3) -> 2 | AI14: =AG14+AC14 -> 10 | AJ14: =SUMPRODUCT($Z$3:$AB$3,Z14:AB14)+SUMPRODUCT($AD$3:$AF$3,AD14:AF14)+AH14 -> 40 | AL14: =ROW()-6 -> 8 | AM14: Northampton | AN14: 6 | AO14: Stade Francais | AP14: 12 | AQ14: Toulon | AR14: 40 | AS14: =ROW()-6 -> 8
B15: Perpignan | C15: =COUNTIF('Data1984-2026World'!F:F,$B15) -> 1 | D15: =COUNTIF('Data1984-2026World'!G:G,$B15) -> 3 | E15: =C15*$R$24+D15*$S$24 -> 6 | G15: Gloucester | H15: =COUNTIF('Data1984-2026World'!D:D,$G15) -> 0 | I15: =COUNTIF('Data1984-2026World'!E:E,$G15) -> 4 | J15: =H15*$R$24+I15*$S$24 -> 4 | L15: Connacht | M15: =COUNTIF('Data1984-2026World'!B:B,$L15) -> 1 | N15: =COUNTIF('Data1984-2026World'!C:C,$L15) -> 0 | O15: =M15*$R$24+N15*$S$24 -> 3 | Q15: Sharks | R15: =COUNTIF('Data1984-2026World'!O:O,$Q15) -> 0 | S15: =COUNTIF('Data1984-2026World'!P:P,$Q15) -> 4 | T15: =R15*$R$24+S15 -> 4 | V15: =ROW()-6 -> 9 | W15: TOP14 | X15: Fra | Y15: Toulon | Z15: =COUNTIFS('Data1984-2026World'!B$3:B$99,$Y15,'Data1984-2026World'!$A$3:$A$99,">="&$W$3)+COUNTIFS('Data1984-2026World'!D$3:D$99,$Y15,'Data1984-2026World'!$A$3:$A$99,">="&$W$3)+COUNTIFS('Data1984-2026World'!F$3:F$99,$Y15,'Data1984-2026World'!$A$3:$A$99,">="&$W$3)+COUNTIFS('Data1984-2026World'!O$3:O$99,$Y15,'Data1984-2026World'!$A$3:$A$99,">="&$W$3) -> 1 | AA15: =COUNTIFS('Data1984-2026World'!I$3:I$99,$Y15,'Data1984-2026World'!$A$3:$A$99,">="&$W$3) -> 3 | AB15: =COUNTIFS('Data1984-2026World'!M$3:M$99,$Y15,'Data1984-2026World'!$A$3:$A$99,">="&$W$3) -> 1 | AC15: =SUM(Z15:AB15) -> 5 | AD15: =COUNTIFS('Data1984-2026World'!C$3:C$99,$Y15,'Data1984-2026World'!$A$3:$A$99,">="&$W$3)+COUNTIFS('Data1984-2026World'!E$3:E$99,$Y15,'Data1984-2026World'!$A$3:$A$99,">="&$W$3)+COUNTIFS('Data1984-2026World'!G$3:G$99,$Y15,'Data1984-2026World'!$A$3:$A$99,">="&$W$3)+COUNTIFS('Data1984-2026World'!P$3:P$99,$Y15,'Data1984-2026World'!$A$3:$A$99,">="&$W$3) -> 4 | AE15: =COUNTIFS('Data1984-2026World'!J$3:J$99,$Y15,'Data1984-2026World'!$A$3:$A$99,">="&$W$3) -> 0 | AF15: =COUNTIFS('Data1984-2026World'!N$3:N$99,$Y15,'Data1984-2026World'!$A$3:$A$99,">="&$W$3) -> 4 | AG15: =SUM(AD15:AF15) -> 8 | AH15: =COUNTIFS('Data1984-2026World'!K$3:K$99,$Y15,'Data1984-2026World'!$A$3:$A$99,">="&$W$3)+COUNTIFS('Data1984-2026World'!L$3:L$99,$Y15,'Data1984-2026World'!$A$3:$A$99,">="&$W$3) -> 1 | AI15: =AG15+AC15 -> 13 | AJ15: =SUMPRODUCT($Z$3:$AB$3,Z15:AB15)+SUMPRODUCT($AD$3:$AF$3,AD15:AF15)+AH15 -> 40 | AL15: =ROW()-6 -> 9 | AM15: Toulon | AN15: 5 | AO15: Clermont Auvergne | AP15: 12 | AQ15: Northampton | AR15: 40 | AS15: =ROW()-6 -> 9
B16: Montpellier | C16: =COUNTIF('Data1984-2026World'!F:F,$B16) -> 1 | D16: =COUNTIF('Data1984-2026World'!G:G,$B16) -> 3 | E16: =C16*$R$24+D16*$S$24 -> 6 | G16: Newcastle | H16: =COUNTIF('Data1984-2026World'!D:D,$G16) -> 1 | I16: =COUNTIF('Data1984-2026World'!E:E,$G16) -> 0 | J16: =H16*$R$24+I16*$S$24 -> 3 | L16: Cardiff | M16: =COUNTIF('Data1984-2026World'!B:B,$L16) -> 0 | N16: =COUNTIF('Data1984-2026World'!C:C,$L16) -> 2 | O16: =M16*$R$24+N16*$S$24 -> 2 | Q16: Reds | R16: =COUNTIF('Data1984-2026World'!O:O,$Q16) -> 1 | S16: =COUNTIF('Data1984-2026World'!P:P,$Q16) -> 0 | T16: =R16*$R$24+S16 -> 3 | V16: =ROW()-6 -> 10 | W16: Prem | X16: Eng | Y16: Bath | Z16: =COUNTIFS('Data1984-2026World'!B$3:B$99,$Y16,'Data1984-2026World'!$A$3:$A$99,">="&$W$3)+COUNTIFS('Data1984-2026World'!D$3:D$99,$Y16,'Data1984-2026World'!$A$3:$A$99,">="&$W$3)+COUNTIFS('Data1984-2026World'!F$3:F$99,$Y16,'Data1984-2026World'!$A$3:$A$99,">="&$W$3)+COUNTIFS('Data1984-2026World'!O$3:O$99,$Y16,'Data1984-2026World'!$A$3:$A$99,">="&$W$3) -> 2 | AA16: =COUNTIFS('Data1984-2026World'!I$3:I$99,$Y16,'Data1984-2026World'!$A$3:$A$99,">="&$W$3) -> 1 | AB16: =COUNTIFS('Data1984-2026World'!M$3:M$99,$Y16,'Data1984-2026World'!$A$3:$A$99,">="&$W$3) -> 2 | AC16: =SUM(Z16:AB16) -> 5 | AD16: =COUNTIFS('Data1984-2026World'!C$3:C$99,$Y16,'Data1984-2026World'!$A$3:$A$99,">="&$W$3)+COUNTIFS('Data1984-2026World'!E$3:E$99,$Y16,'Data1984-2026World'!$A$3:$A$99,">="&$W$3)+COUNTIFS('Data1984-2026World'!G$3:G$99,$Y16,'Data1984-2026World'!$A$3:$A$99,">="&$W$3)+COUNTIFS('Data1984-2026World'!P$3:P$99,$Y16,'Data1984-2026World'!$A$3:$A$99,">="&$W$3) -> 5 | AE16: =COUNTIFS('Data1984-2026World'!J$3:J$99,$Y16,'Data1984-2026World'!$A$3:$A$99,">="&$W$3) -> 0 | AF16: =COUNTIFS('Data1984-2026World'!N$3:N$99,$Y16,'Data1984-2026World'!$A$3:$A$99,">="&$W$3) -> 3 | AG16: =SUM(AD16:AF16) -> 8 | AH16: =COUNTIFS('Data1984-2026World'!K$3:K$99,$Y16,'Data1984-2026World'!$A$3:$A$99,">="&$W$3)+COUNTIFS('Data1984-2026World'!L$3:L$99,$Y16,'Data1984-2026World'!$A$3:$A$99,">="&$W$3) -> 2 | AI16: =AG16+AC16 -> 13 | AJ16: =SUMPRODUCT($Z$3:$AB$3,Z16:AB16)+SUMPRODUCT($AD$3:$AF$3,AD16:AF16)+AH16 -> 39 | AL16: =ROW()-6 -> 10 | AM16: Bath | AN16: 5 | AO16: Wasps | AP16: 11 | AQ16: Bath | AR16: 39 | AS16: =ROW()-6 -> 10
B17: Bordeaux | C17: =COUNTIF('Data1984-2026World'!F:F,$B17) -> 1 | D17: =COUNTIF('Data1984-2026World'!G:G,$B17) -> 2 | E17: =C17*$R$24+D17*$S$24 -> 5 | G17: London Irish | H17: =COUNTIF('Data1984-2026World'!D:D,$G17) -> 0 | I17: =COUNTIF('Data1984-2026World'!E:E,$G17) -> 1 | J17: =H17*$R$24+I17*$S$24 -> 1 | L17: Edinburgh | M17: =COUNTIF('Data1984-2026World'!B:B,$L17) -> 0 | N17: =COUNTIF('Data1984-2026World'!C:C,$L17) -> 1 | O17: =M17*$R$24+N17*$S$24 -> 1 | Q17: Lions | R17: =COUNTIF('Data1984-2026World'!O:O,$Q17) -> 0 | S17: =COUNTIF('Data1984-2026World'!P:P,$Q17) -> 3 | T17: =R17*$R$24+S17 -> 3 | V17: =ROW()-6 -> 11 | W17: TOP14 | X17: Fra | Y17: Clermont Auvergne | Z17: =COUNTIFS('Data1984-2026World'!B$3:B$99,$Y17,'Data1984-2026World'!$A$3:$A$99,">="&$W$3)+COUNTIFS('Data1984-2026World'!D$3:D$99,$Y17,'Data1984-2026World'!$A$3:$A$99,">="&$W$3)+COUNTIFS('Data1984-2026World'!F$3:F$99,$Y17,'Data1984-2026World'!$A$3:$A$99,">="&$W$3)+COUNTIFS('Data1984-2026World'!O$3:O$99,$Y17,'Data1984-2026World'!$A$3:$A$99,">="&$W$3) -> 2 | AA17: =COUNTIFS('Data1984-2026World'!I$3:I$99,$Y17,'Data1984-2026World'!$A$3:$A$99,">="&$W$3) -> 0 | AB17: =COUNTIFS('Data1984-2026World'!M$3:M$99,$Y17,'Data1984-2026World'!$A$3:$A$99,">="&$W$3) -> 2 | AC17: =SUM(Z17:AB17) -> 4 | AD17: =COUNTIFS('Data1984-2026World'!C$3:C$99,$Y17,'Data1984-2026World'!$A$3:$A$99,">="&$W$3)+COUNTIFS('Data1984-2026World'!E$3:E$99,$Y17,'Data1984-2026World'!$A$3:$A$99,">="&$W$3)+COUNTIFS('Data1984-2026World'!G$3:G$99,$Y17,'Data1984-2026World'!$A$3:$A$99,">="&$W$3)+COUNTIFS('Data1984-2026World'!P$3:P$99,$Y17,'Data1984-2026World'!$A$3:$A$99,">="&$W$3) -> 5 | AE17: =COUNTIFS('Data1984-2026World'!J$3:J$99,$Y17,'Data1984-2026World'!$A$3:$A$99,">="&$W$3) -> 3 | AF17: =COUNTIFS('Data1984-2026World'!N$3:N$99,$Y17,'Data1984-2026World'!$A$3:$A$99,">="&$W$3) -> 0 | AG17: =SUM(AD17:AF17) -> 8 | AH17: =COUNTIFS('Data1984-2026World'!K$3:K$99,$Y17,'Data1984-2026World'!$A$3:$A$99,">="&$W$3)+COUNTIFS('Data1984-2026World'!L$3:L$99,$Y17,'Data1984-2026World'!$A$3:$A$99,">="&$W$3) -> 2 | AI17: =AG17+AC17 -> 12 | AJ17: =SUMPRODUCT($Z$3:$AB$3,Z17:AB17)+SUMPRODUCT($AD$3:$AF$3,AD17:AF17)+AH17 -> 36 | AL17: =ROW()-6 -> 11 | AM17: Harlequins | AN17: 5 | AO17: Northampton | AP17: 10 | AQ17: Clermont Auvergne | AR17: 36 | AS17: =ROW()-6 -> 11
B18: Beziers | C18: =COUNTIF('Data1984-2026World'!F:F,$B18) -> 1 | D18: =COUNTIF('Data1984-2026World'!G:G,$B18) -> 0 | E18: =C18*$R$24+D18*$S$24 -> 3 | G18: Orrell | H18: =COUNTIF('Data1984-2026World'!D:D,$G18) -> 0 | I18: =COUNTIF('Data1984-2026World'!E:E,$G18) -> 1 | J18: =H18*$R$24+I18*$S$24 -> 1 | Q18: Stormers | R18: =COUNTIF('Data1984-2026World'!O:O,$Q18) -> 0 | S18: =COUNTIF('Data1984-2026World'!P:P,$Q18) -> 1 | T18: =R18*$R$24+S18 -> 1 | V18: =ROW()-6 -> 12 | W18: Prem | X18: Eng | Y18: Exeter | Z18: =COUNTIFS('Data1984-2026World'!B$3:B$99,$Y18,'Data1984-2026World'!$A$3:$A$99,">="&$W$3)+COUNTIFS('Data1984-2026World'!D$3:D$99,$Y18,'Data1984-2026World'!$A$3:$A$99,">="&$W$3)+COUNTIFS('Data1984-2026World'!F$3:F$99,$Y18,'Data1984-2026World'!$A$3:$A$99,">="&$W$3)+COUNTIFS('Data1984-2026World'!O$3:O$99,$Y18,'Data1984-2026World'!$A$3:$A$99,">="&$W$3) -> 2 | AA18: =COUNTIFS('Data1984-2026World'!I$3:I$99,$Y18,'Data1984-2026World'!$A$3:$A$99,">="&$W$3) -> 1 | AB18: =COUNTIFS('Data1984-2026World'!M$3:M$99,$Y18,'Data1984-2026World'!$A$3:$A$99,">="&$W$3) -> 0 | AC18: =SUM(Z18:AB18) -> 3 | AD18: =COUNTIFS('Data1984-2026World'!C$3:C$99,$Y18,'Data1984-2026World'!$A$3:$A$99,">="&$W$3)+COUNTIFS('Data1984-2026World'!E$3:E$99,$Y18,'Data1984-2026World'!$A$3:$A$99,">="&$W$3)+COUNTIFS('Data1984-2026World'!G$3:G$99,$Y18,'Data1984-2026World'!$A$3:$A$99,">="&$W$3)+COUNTIFS('Data1984-2026World'!P$3:P$99,$Y18,'Data1984-2026World'!$A$3:$A$99,">="&$W$3) -> 5 | AE18: =COUNTIFS('Data1984-2026World'!J$3:J$99,$Y18,'Data1984-2026World'!$A$3:$A$99,">="&$W$3) -> 0 | AF18: =COUNTIFS('Data1984-2026World'!N$3:N$99,$Y18,'Data1984-2026World'!$A$3:$A$99,">="&$W$3) -> 0 | AG18: =SUM(AD18:AF18) -> 5 | AH18: =COUNTIFS('Data1984-2026World'!K$3:K$99,$Y18,'Data1984-2026World'!$A$3:$A$99,">="&$W$3)+COUNTIFS('Data1984-2026World'!L$3:L$99,$Y18,'Data1984-2026World'!$A$3:$A$99,">="&$W$3) -> 1 | AI18: =AG18+AC18 -> 8 | AJ18: =SUMPRODUCT($Z$3:$AB$3,Z18:AB18)+SUMPRODUCT($AD$3:$AF$3,AD18:AF18)+AH18 -> 29 | AL18: =ROW()-6 -> 12 | AM18: Clermont Auvergne | AN18: 4 | AO18: Exeter | AP18: 8 | AQ18: Exeter | AR18: 29 | AS18: =ROW()-6 -> 12
B19: AS Montferrand | C19: =COUNTIF('Data1984-2026World'!F:F,$B19) -> 0 | D19: =COUNTIF('Data1984-2026World'!G:G,$B19) -> 3 | E19: =C19*$R$24+D19*$S$24 -> 3 | Q19: Jaguares | R19: =COUNTIF('Data1984-2026World'!O:O,$Q19) -> 0 | S19: =COUNTIF('Data1984-2026World'!P:P,$Q19) -> 1 | T19: =R19*$R$24+S19 -> 1 | V19: =ROW()-6 -> 13 | W19: TOP14 | X19: Fra | Y19: Biarritz | Z19: =COUNTIFS('Data1984-2026World'!B$3:B$99,$Y19,'Data1984-2026World'!$A$3:$A$99,">="&$W$3)+COUNTIFS('Data1984-2026World'!D$3:D$99,$Y19,'Data1984-2026World'!$A$3:$A$99,">="&$W$3)+COUNTIFS('Data1984-2026World'!F$3:F$99,$Y19,'Data1984-2026World'!$A$3:$A$99,">="&$W$3)+COUNTIFS('Data1984-2026World'!O$3:O$99,$Y19,'Data1984-2026World'!$A$3:$A$99,">="&$W$3) -> 3 | AA19: =COUNTIFS('Data1984-2026World'!I$3:I$99,$Y19,'Data1984-2026World'!$A$3:$A$99,">="&$W$3) -> 0 | AB19: =COUNTIFS('Data1984-2026World'!M$3:M$99,$Y19,'Data1984-2026World'!$A$3:$A$99,">="&$W$3) -> 1 | AC19: =SUM(Z19:AB19) -> 4 | AD19: =COUNTIFS('Data1984-2026World'!C$3:C$99,$Y19,'Data1984-2026World'!$A$3:$A$99,">="&$W$3)+COUNTIFS('Data1984-2026World'!E$3:E$99,$Y19,'Data1984-2026World'!$A$3:$A$99,">="&$W$3)+COUNTIFS('Data1984-2026World'!G$3:G$99,$Y19,'Data1984-2026World'!$A$3:$A$99,">="&$W$3)+COUNTIFS('Data1984-2026World'!P$3:P$99,$Y19,'Data1984-2026World'!$A$3:$A$99,">="&$W$3) -> 0 | AE19: =COUNTIFS('Data1984-2026World'!J$3:J$99,$Y19,'Data1984-2026World'!$A$3:$A$99,">="&$W$3) -> 2 | AF19: =COUNTIFS('Data1984-2026World'!N$3:N$99,$Y19,'Data1984-2026World'!$A$3:$A$99,">="&$W$3) -> 0 | AG19: =SUM(AD19:AF19) -> 2 | AH19: =COUNTIFS('Data1984-2026World'!K$3:K$99,$Y19,'Data1984-2026World'!$A$3:$A$99,">="&$W$3)+COUNTIFS('Data1984-2026World'!L$3:L$99,$Y19,'Data1984-2026World'!$A$3:$A$99,">="&$W$3) -> 2 | AI19: =AG19+AC19 -> 6 | AJ19: =SUMPRODUCT($Z$3:$AB$3,Z19:AB19)+SUMPRODUCT($AD$3:$AF$3,AD19:AF19)+AH19 -> 27 | AL19: =ROW()-6 -> 13 | AM19: Montpellier | AN19: 4 | AO19: Montpellier | AP19: 7 | AQ19: Biarritz | AR19: 27 | AS19: =ROW()-6 -> 13
B20: Bourgoin | C20: =COUNTIF('Data1984-2026World'!F:F,$B20) -> 0 | D20: =COUNTIF('Data1984-2026World'!G:G,$B20) -> 1 | E20: =C20*$R$24+D20*$S$24 -> 1 | L20: ="Pts Column is calculated as "&R24&" points for winning title, "&S24&" point for runner up. These can be changed >>>" -> Pts Column is calculated as 3 points for winning title, 1 point for runner up. These can be changed >>> | V20: =ROW()-6 -> 14 | W20: URC | X20: Wal | Y20: Ospreys | Z20: =COUNTIFS('Data1984-2026World'!B$3:B$99,$Y20,'Data1984-2026World'!$A$3:$A$99,">="&$W$3)+COUNTIFS('Data1984-2026World'!D$3:D$99,$Y20,'Data1984-2026World'!$A$3:$A$99,">="&$W$3)+COUNTIFS('Data1984-2026World'!F$3:F$99,$Y20,'Data1984-2026World'!$A$3:$A$99,">="&$W$3)+COUNTIFS('Data1984-2026World'!O$3:O$99,$Y20,'Data1984-2026World'!$A$3:$A$99,">="&$W$3) -> 4 | AA20: =COUNTIFS('Data1984-2026World'!I$3:I$99,$Y20,'Data1984-2026World'!$A$3:$A$99,">="&$W$3) -> 0 | AB20: =COUNTIFS('Data1984-2026World'!M$3:M$99,$Y20,'Data1984-2026World'!$A$3:$A$99,">="&$W$3) -> 0 | AC20: =SUM(Z20:AB20) -> 4 | AD20: =COUNTIFS('Data1984-2026World'!C$3:C$99,$Y20,'Data1984-2026World'!$A$3:$A$99,">="&$W$3)+COUNTIFS('Data1984-2026World'!E$3:E$99,$Y20,'Data1984-2026World'!$A$3:$A$99,">="&$W$3)+COUNTIFS('Data1984-2026World'!G$3:G$99,$Y20,'Data1984-2026World'!$A$3:$A$99,">="&$W$3)+COUNTIFS('Data1984-2026World'!P$3:P$99,$Y20,'Data1984-2026World'!$A$3:$A$99,">="&$W$3) -> 1 | AE20: =COUNTIFS('Data1984-2026World'!J$3:J$99,$Y20,'Data1984-2026World'!$A$3:$A$99,">="&$W$3) -> 0 | AF20: =COUNTIFS('Data1984-2026World'!N$3:N$99,$Y20,'Data1984-2026World'!$A$3:$A$99,">="&$W$3) -> 0 | AG20: =SUM(AD20:AF20) -> 1 | AH20: =COUNTIFS('Data1984-2026World'!K$3:K$99,$Y20,'Data1984-2026World'!$A$3:$A$99,">="&$W$3)+COUNTIFS('Data1984-2026World'!L$3:L$99,$Y20,'Data1984-2026World'!$A$3:$A$99,">="&$W$3) -> 0 | AI20: =AG20+AC20 -> 5 | AJ20: =SUMPRODUCT($Z$3:$AB$3,Z20:AB20)+SUMPRODUCT($AD$3:$AF$3,AD20:AF20)+AH20 -> 26 | AL20: =ROW()-6 -> 14 | AM20: Biarritz | AN20: 4 | AO20: Bulls | AP20: 7 | AQ20: Bulls | AR20: 26 | AS20: =ROW()-6 -> 14
B21: Brive | C21: =COUNTIF('Data1984-2026World'!F:F,$B21) -> 0 | D21: =COUNTIF('Data1984-2026World'!G:G,$B21) -> 1 | E21: =C21*$R$24+D21*$S$24 -> 1 | V21: =ROW()-6 -> 15 | W21: URC | X21: SAF | Y21: Bulls | Z21: =COUNTIFS('Data1984-2026World'!B$3:B$99,$Y21,'Data1984-2026World'!$A$3:$A$99,">="&$W$3)+COUNTIFS('Data1984-2026World'!D$3:D$99,$Y21,'Data1984-2026World'!$A$3:$A$99,">="&$W$3)+COUNTIFS('Data1984-2026World'!F$3:F$99,$Y21,'Data1984-2026World'!$A$3:$A$99,">="&$W$3)+COUNTIFS('Data1984-2026World'!O$3:O$99,$Y21,'Data1984-2026World'!$A$3:$A$99,">="&$W$3) -> 3 | AA21: =COUNTIFS('Data1984-2026World'!I$3:I$99,$Y21,'Data1984-2026World'!$A$3:$A$99,">="&$W$3) -> 0 | AB21: =COUNTIFS('Data1984-2026World'!M$3:M$99,$Y21,'Data1984-2026World'!$A$3:$A$99,">="&$W$3) -> 0 | AC21: =SUM(Z21:AB21) -> 3 | AD21: =COUNTIFS('Data1984-2026World'!C$3:C$99,$Y21,'Data1984-2026World'!$A$3:$A$99,">="&$W$3)+COUNTIFS('Data1984-2026World'!E$3:E$99,$Y21,'Data1984-2026World'!$A$3:$A$99,">="&$W$3)+COUNTIFS('Data1984-2026World'!G$3:G$99,$Y21,'Data1984-2026World'!$A$3:$A$99,">="&$W$3)+COUNTIFS('Data1984-2026World'!P$3:P$99,$Y21,'Data1984-2026World'!$A$3:$A$99,">="&$W$3) -> 4 | AE21: =COUNTIFS('Data1984-2026World'!J$3:J$99,$Y21,'Data1984-2026World'!$A$3:$A$99,">="&$W$3) -> 0 | AF21: =COUNTIFS('Data1984-2026World'!N$3:N$99,$Y21,'Data1984-2026World'!$A$3:$A$99,">="&$W$3) -> 0 | AG21: =SUM(AD21:AF21) -> 4 | AH21: =COUNTIFS('Data1984-2026World'!K$3:K$99,$Y21,'Data1984-2026World'!$A$3:$A$99,">="&$W$3)+COUNTIFS('Data1984-2026World'!L$3:L$99,$Y21,'Data1984-2026World'!$A$3:$A$99,">="&$W$3) -> 0 | AI21: =AG21+AC21 -> 7 | AJ21: =SUMPRODUCT($Z$3:$AB$3,Z21:AB21)+SUMPRODUCT($AD$3:$AF$3,AD21:AF21)+AH21 -> 26 | AL21: =ROW()-6 -> 15 | AM21: Ospreys | AN21: 4 | AO21: Ulster | AP21: 7 | AQ21: Ospreys | AR21: 26 | AS21: =ROW()-6 -> 15
B22: Colomiers | C22: =COUNTIF('Data1984-2026World'!F:F,$B22) -> 0 | D22: =COUNTIF('Data1984-2026World'!G:G,$B22) -> 1 | E22: =C22*$R$24+D22*$S$24 -> 1 | V22: =ROW()-6 -> 16 | W22: Prem | X22: Eng | Y22: Harlequins | Z22: =COUNTIFS('Data1984-2026World'!B$3:B$99,$Y22,'Data1984-2026World'!$A$3:$A$99,">="&$W$3)+COUNTIFS('Data1984-2026World'!D$3:D$99,$Y22,'Data1984-2026World'!$A$3:$A$99,">="&$W$3)+COUNTIFS('Data1984-2026World'!F$3:F$99,$Y22,'Data1984-2026World'!$A$3:$A$99,">="&$W$3)+COUNTIFS('Data1984-2026World'!O$3:O$99,$Y22,'Data1984-2026World'!$A$3:$A$99,">="&$W$3) -> 2 | AA22: =COUNTIFS('Data1984-2026World'!I$3:I$99,$Y22,'Data1984-2026World'!$A$3:$A$99,">="&$W$3) -> 0 | AB22: =COUNTIFS('Data1984-2026World'!M$3:M$99,$Y22,'Data1984-2026World'!$A$3:$A$99,">="&$W$3) -> 3 | AC22: =SUM(Z22:AB22) -> 5 | AD22: =COUNTIFS('Data1984-2026World'!C$3:C$99,$Y22,'Data1984-2026World'!$A$3:$A$99,">="&$W$3)+COUNTIFS('Data1984-2026World'!E$3:E$99,$Y22,'Data1984-2026World'!$A$3:$A$99,">="&$W$3)+COUNTIFS('Data1984-2026World'!G$3:G$99,$Y22,'Data1984-2026World'!$A$3:$A$99,">="&$W$3)+COUNTIFS('Data1984-2026World'!P$3:P$99,$Y22,'Data1984-2026World'!$A$3:$A$99,">="&$W$3) -> 0 | AE22: =COUNTIFS('Data1984-2026World'!J$3:J$99,$Y22,'Data1984-2026World'!$A$3:$A$99,">="&$W$3) -> 0 | AF22: =COUNTIFS('Data1984-2026World'!N$3:N$99,$Y22,'Data1984-2026World'!$A$3:$A$99,">="&$W$3) -> 1 | AG22: =SUM(AD22:AF22) -> 1 | AH22: =COUNTIFS('Data1984-2026World'!K$3:K$99,$Y22,'Data1984-2026World'!$A$3:$A$99,">="&$W$3)+COUNTIFS('Data1984-2026World'!L$3:L$99,$Y22,'Data1984-2026World'!$A$3:$A$99,">="&$W$3) -> 1 | AI22: =AG22+AC22 -> 6 | AJ22: =SUMPRODUCT($Z$3:$AB$3,Z22:AB22)+SUMPRODUCT($AD$3:$AF$3,AD22:AF22)+AH22 -> 23 | AL22: =ROW()-6 -> 16 | AM22: Exeter | AN22: 3 | AO22: Gloucester | AP22: 7 | AQ22: Harlequins | AR22: 23 | AS22: =ROW()-6 -> 16
B23: Grenoble | C23: =COUNTIF('Data1984-2026World'!F:F,$B23) -> 0 | D23: =COUNTIF('Data1984-2026World'!G:G,$B23) -> 1 | E23: =C23*$R$24+D23*$S$24 -> 1 | V23: =ROW()-6 -> 17 | W23: TOP14 | X23: Fra | Y23: Montpellier | Z23: =COUNTIFS('Data1984-2026World'!B$3:B$99,$Y23,'Data1984-2026World'!$A$3:$A$99,">="&$W$3)+COUNTIFS('Data1984-2026World'!D$3:D$99,$Y23,'Data1984-2026World'!$A$3:$A$99,">="&$W$3)+COUNTIFS('Data1984-2026World'!F$3:F$99,$Y23,'Data1984-2026World'!$A$3:$A$99,">="&$W$3)+COUNTIFS('Data1984-2026World'!O$3:O$99,$Y23,'Data1984-2026World'!$A$3:$A$99,">="&$W$3) -> 1 | AA23: =COUNTIFS('Data1984-2026World'!I$3:I$99,$Y23,'Data1984-2026World'!$A$3:$A$99,">="&$W$3) -> 0 | AB23: =COUNTIFS('Data1984-2026World'!M$3:M$99,$Y23,'Data1984-2026World'!$A$3:$A$99,">="&$W$3) -> 3 | AC23: =SUM(Z23:AB23) -> 4 | AD23: =COUNTIFS('Data1984-2026World'!C$3:C$99,$Y23,'Data1984-2026World'!$A$3:$A$99,">="&$W$3)+COUNTIFS('Data1984-2026World'!E$3:E$99,$Y23,'Data1984-2026World'!$A$3:$A$99,">="&$W$3)+COUNTIFS('Data1984-2026World'!G$3:G$99,$Y23,'Data1984-2026World'!$A$3:$A$99,">="&$W$3)+COUNTIFS('Data1984-2026World'!P$3:P$99,$Y23,'Data1984-2026World'!$A$3:$A$99,">="&$W$3) -> 3 | AE23: =COUNTIFS('Data1984-2026World'!J$3:J$99,$Y23,'Data1984-2026World'!$A$3:$A$99,">="&$W$3) -> 0 | AF23: =COUNTIFS('Data1984-2026World'!N$3:N$99,$Y23,'Data1984-2026World'!$A$3:$A$99,">="&$W$3) -> 0 | AG23: =SUM(AD23:AF23) -> 3 | AH23: =COUNTIFS('Data1984-2026World'!K$3:K$99,$Y23,'Data1984-2026World'!$A$3:$A$99,">="&$W$3)+COUNTIFS('Data1984-2026World'!L$3:L$99,$Y23,'Data1984-2026World'!$A$3:$A$99,">="&$W$3) -> 0 | AI23: =AG23+AC23 -> 7 | AJ23: =SUMPRODUCT($Z$3:$AB$3,Z23:AB23)+SUMPRODUCT($AD$3:$AF$3,AD23:AF23)+AH23 -> 21 | AL23: =ROW()-6 -> 17 | AM23: Bulls | AN23: 3 | AO23: Harlequins | AP23: 6 | AQ23: Montpellier | AR23: 21 | AS23: =ROW()-6 -> 17
B24: Tarbais | C24: =COUNTIF('Data1984-2026World'!F:F,$B24) -> 0 | D24: =COUNTIF('Data1984-2026World'!G:G,$B24) -> 1 | E24: =C24*$R$24+D24*$S$24 -> 1 | Q24: Points>> | R24: 3 | S24: 1 | V24: =ROW()-6 -> 18 | W24: URC | X24: Ire | Y24: Ulster | Z24: =COUNTIFS('Data1984-2026World'!B$3:B$99,$Y24,'Data1984-2026World'!$A$3:$A$99,">="&$W$3)+COUNTIFS('Data1984-2026World'!D$3:D$99,$Y24,'Data1984-2026World'!$A$3:$A$99,">="&$W$3)+COUNTIFS('Data1984-2026World'!F$3:F$99,$Y24,'Data1984-2026World'!$A$3:$A$99,">="&$W$3)+COUNTIFS('Data1984-2026World'!O$3:O$99,$Y24,'Data1984-2026World'!$A$3:$A$99,">="&$W$3) -> 1 | AA24: =COUNTIFS('Data1984-2026World'!I$3:I$99,$Y24,'Data1984-2026World'!$A$3:$A$99,">="&$W$3) -> 1 | AB24: =COUNTIFS('Data1984-2026World'!M$3:M$99,$Y24,'Data1984-2026World'!$A$3:$A$99,">="&$W$3) -> 0 | AC24: =SUM(Z24:AB24) -> 2 | AD24: =COUNTIFS('Data1984-2026World'!C$3:C$99,$Y24,'Data1984-2026World'!$A$3:$A$99,">="&$W$3)+COUNTIFS('Data1984-2026World'!E$3:E$99,$Y24,'Data1984-2026World'!$A$3:$A$99,">="&$W$3)+COUNTIFS('Data1984-2026World'!G$3:G$99,$Y24,'Data1984-2026World'!$A$3:$A$99,">="&$W$3)+COUNTIFS('Data1984-2026World'!P$3:P$99,$Y24,'Data1984-2026World'!$A$3:$A$99,">="&$W$3) -> 3 | AE24: =COUNTIFS('Data1984-2026World'!J$3:J$99,$Y24,'Data1984-2026World'!$A$3:$A$99,">="&$W$3) -> 1 | AF24: =COUNTIFS('Data1984-2026World'!N$3:N$99,$Y24,'Data1984-2026World'!$A$3:$A$99,">="&$W$3) -> 1 | AG24: =SUM(AD24:AF24) -> 5 | AH24: =COUNTIFS('Data1984-2026World'!K$3:K$99,$Y24,'Data1984-2026World'!$A$3:$A$99,">="&$W$3)+COUNTIFS('Data1984-2026World'!L$3:L$99,$Y24,'Data1984-2026World'!$A$3:$A$99,">="&$W$3) -> 0 | AI24: =AG24+AC24 -> 7 | AJ24: =SUMPRODUCT($Z$3:$AB$3,Z24:AB24)+SUMPRODUCT($AD$3:$AF$3,AD24:AF24)+AH24 -> 21 | AL24: =ROW()-6 -> 18 | AM24: Sale | AN24: 3 | AO24: Biarritz | AP24: 6 | AQ24: Ulster | AR24: 21 | AS24: =ROW()-6 -> 18
V25: =ROW()-6 -> 19 | W25: TOP14 | X25: Fra | Y25: La Rochelle | Z25: =COUNTIFS('Data1984-2026World'!B$3:B$99,$Y25,'Data1984-2026World'!$A$3:$A$99,">="&$W$3)+COUNTIFS('Data1984-2026World'!D$3:D$99,$Y25,'Data1984-2026World'!$A$3:$A$99,">="&$W$3)+COUNTIFS('Data1984-2026World'!F$3:F$99,$Y25,'Data1984-2026World'!$A$3:$A$99,">="&$W$3)+COUNTIFS('Data1984-2026World'!O$3:O$99,$Y25,'Data1984-2026World'!$A$3:$A$99,">="&$W$3) -> 0 | AA25: =COUNTIFS('Data1984-2026World'!I$3:I$99,$Y25,'Data1984-2026World'!$A$3:$A$99,">="&$W$3) -> 2 | AB25: =COUNTIFS('Data1984-2026World'!M$3:M$99,$Y25,'Data1984-2026World'!$A$3:$A$99,">="&$W$3) -> 0 | AC25: =SUM(Z25:AB25) -> 2 | AD25: =COUNTIFS('Data1984-2026World'!C$3:C$99,$Y25,'Data1984-2026World'!$A$3:$A$99,">="&$W$3)+COUNTIFS('Data1984-2026World'!E$3:E$99,$Y25,'Data1984-2026World'!$A$3:$A$99,">="&$W$3)+COUNTIFS('Data1984-2026World'!G$3:G$99,$Y25,'Data1984-2026World'!$A$3:$A$99,">="&$W$3)+COUNTIFS('Data1984-2026World'!P$3:P$99,$Y25,'Data1984-2026World'!$A$3:$A$99,">="&$W$3) -> 2 | AE25: =COUNTIFS('Data1984-2026World'!J$3:J$99,$Y25,'Data1984-2026World'!$A$3:$A$99,">="&$W$3) -> 1 | AF25: =COUNTIFS('Data1984-2026World'!N$3:N$99,$Y25,'Data1984-2026World'!$A$3:$A$99,">="&$W$3) -> 1 | AG25: =SUM(AD25:AF25) -> 4 | AH25: =COUNTIFS('Data1984-2026World'!K$3:K$99,$Y25,'Data1984-2026World'!$A$3:$A$99,">="&$W$3)+COUNTIFS('Data1984-2026World'!L$3:L$99,$Y25,'Data1984-2026World'!$A$3:$A$99,">="&$W$3) -> 0 | AI25: =AG25+AC25 -> 6 | AJ25: =SUMPRODUCT($Z$3:$AB$3,Z25:AB25)+SUMPRODUCT($AD$3:$AF$3,AD25:AF25)+AH25 -> 19 | AL25: =ROW()-6 -> 19 | AO25: Castres | AP25: 6 | AS25: =ROW()-6 -> 19
V26: =ROW()-6 -> 20 | W26: TOP14 | X26: Fra | Y26: Castres | Z26: =COUNTIFS('Data1984-2026World'!B$3:B$99,$Y26,'Data1984-2026World'!$A$3:$A$99,">="&$W$3)+COUNTIFS('Data1984-2026World'!D$3:D$99,$Y26,'Data1984-2026World'!$A$3:$A$99,">="&$W$3)+COUNTIFS('Data1984-2026World'!F$3:F$99,$Y26,'Data1984-2026World'!$A$3:$A$99,">="&$W$3)+COUNTIFS('Data1984-2026World'!O$3:O$99,$Y26,'Data1984-2026World'!$A$3:$A$99,">="&$W$3) -> 2 | AA26: =COUNTIFS('Data1984-2026World'!I$3:I$99,$Y26,'Data1984-2026World'!$A$3:$A$99,">="&$W$3) -> 0 | AB26: =COUNTIFS('Data1984-2026World'!M$3:M$99,$Y26,'Data1984-2026World'!$A$3:$A$99,">="&$W$3) -> 0 | AC26: =SUM(Z26:AB26) -> 2 | AD26: =COUNTIFS('Data1984-2026World'!C$3:C$99,$Y26,'Data1984-2026World'!$A$3:$A$99,">="&$W$3)+COUNTIFS('Data1984-2026World'!E$3:E$99,$Y26,'Data1984-2026World'!$A$3:$A$99,">="&$W$3)+COUNTIFS('Data1984-2026World'!G$3:G$99,$Y26,'Data1984-2026World'!$A$3:$A$99,">="&$W$3)+COUNTIFS('Data1984-2026World'!P$3:P$99,$Y26,'Data1984-2026World'!$A$3:$A$99,">="&$W$3) -> 2 | AE26: =COUNTIFS('Data1984-2026World'!J$3:J$99,$Y26,'Data1984-2026World'!$A$3:$A$99,">="&$W$3) -> 0 | AF26: =COUNTIFS('Data1984-2026World'!N$3:N$99,$Y26,'Data1984-2026World'!$A$3:$A$99,">="&$W$3) -> 2 | AG26: =SUM(AD26:AF26) -> 4 | AH26: =COUNTIFS('Data1984-2026World'!K$3:K$99,$Y26,'Data1984-2026World'!$A$3:$A$99,">="&$W$3)+COUNTIFS('Data1984-2026World'!L$3:L$99,$Y26,'Data1984-2026World'!$A$3:$A$99,">="&$W$3) -> 1 | AI26: =AG26+AC26 -> 6 | AJ26: =SUMPRODUCT($Z$3:$AB$3,Z26:AB26)+SUMPRODUCT($AD$3:$AF$3,AD26:AF26)+AH26 -> 19 | AL26: =ROW()-6 -> 20 | AO26: La Rochelle | AP26: 6 | AS26: =ROW()-6 -> 20
V27: =ROW()-6 -> 21 | W27: URC | X27: Wal | Y27: Scarlets | Z27: =COUNTIFS('Data1984-2026World'!B$3:B$99,$Y27,'Data1984-2026World'!$A$3:$A$99,">="&$W$3)+COUNTIFS('Data1984-2026World'!D$3:D$99,$Y27,'Data1984-2026World'!$A$3:$A$99,">="&$W$3)+COUNTIFS('Data1984-2026World'!F$3:F$99,$Y27,'Data1984-2026World'!$A$3:$A$99,">="&$W$3)+COUNTIFS('Data1984-2026World'!O$3:O$99,$Y27,'Data1984-2026World'!$A$3:$A$99,">="&$W$3) -> 2 | AA27: =COUNTIFS('Data1984-2026World'!I$3:I$99,$Y27,'Data1984-2026World'!$A$3:$A$99,">="&$W$3) -> 0 | AB27: =COUNTIFS('Data1984-2026World'!M$3:M$99,$Y27,'Data1984-2026World'!$A$3:$A$99,">="&$W$3) -> 0 | AC27: =SUM(Z27:AB27) -> 2 | AD27: =COUNTIFS('Data1984-2026World'!C$3:C$99,$Y27,'Data1984-2026World'!$A$3:$A$99,">="&$W$3)+COUNTIFS('Data1984-2026World'!E$3:E$99,$Y27,'Data1984-2026World'!$A$3:$A$99,">="&$W$3)+COUNTIFS('Data1984-2026World'!G$3:G$99,$Y27,'Data1984-2026World'!$A$3:$A$99,">="&$W$3)+COUNTIFS('Data1984-2026World'!P$3:P$99,$Y27,'Data1984-2026World'!$A$3:$A$99,">="&$W$3) -> 1 | AE27: =COUNTIFS('Data1984-2026World'!J$3:J$99,$Y27,'Data1984-2026World'!$A$3:$A$99,">="&$W$3) -> 0 | AF27: =COUNTIFS('Data1984-2026World'!N$3:N$99,$Y27,'Data1984-2026World'!$A$3:$A$99,">="&$W$3) -> 0 | AG27: =SUM(AD27:AF27) -> 1 | AH27: =COUNTIFS('Data1984-2026World'!K$3:K$99,$Y27,'Data1984-2026World'!$A$3:$A$99,">="&$W$3)+COUNTIFS('Data1984-2026World'!L$3:L$99,$Y27,'Data1984-2026World'!$A$3:$A$99,">="&$W$3) -> 4 | AI27: =AG27+AC27 -> 3 | AJ27: =SUMPRODUCT($Z$3:$AB$3,Z27:AB27)+SUMPRODUCT($AD$3:$AF$3,AD27:AF27)+AH27 -> 18
V28: =ROW()-6 -> 22 | W28: URC | X28: Sco | Y28: Glasgow | Z28: =COUNTIFS('Data1984-2026World'!B$3:B$99,$Y28,'Data1984-2026World'!$A$3:$A$99,">="&$W$3)+COUNTIFS('Data1984-2026World'!D$3:D$99,$Y28,'Data1984-2026World'!$A$3:$A$99,">="&$W$3)+COUNTIFS('Data1984-2026World'!F$3:F$99,$Y28,'Data1984-2026World'!$A$3:$A$99,">="&$W$3)+COUNTIFS('Data1984-2026World'!O$3:O$99,$Y28,'Data1984-2026World'!$A$3:$A$99,">="&$W$3) -> 2 | AA28: =COUNTIFS('Data1984-2026World'!I$3:I$99,$Y28,'Data1984-2026World'!$A$3:$A$99,">="&$W$3) -> 0 | AB28: =COUNTIFS('Data1984-2026World'!M$3:M$99,$Y28,'Data1984-2026World'!$A$3:$A$99,">="&$W$3) -> 0 | AC28: =SUM(Z28:AB28) -> 2 | AD28: =COUNTIFS('Data1984-2026World'!C$3:C$99,$Y28,'Data1984-2026World'!$A$3:$A$99,">="&$W$3)+COUNTIFS('Data1984-2026World'!E$3:E$99,$Y28,'Data1984-2026World'!$A$3:$A$99,">="&$W$3)+COUNTIFS('Data1984-2026World'!G$3:G$99,$Y28,'Data1984-2026World'!$A$3:$A$99,">="&$W$3)+COUNTIFS('Data1984-2026World'!P$3:P$99,$Y28,'Data1984-2026World'!$A$3:$A$99,">="&$W$3) -> 2 | AE28: =COUNTIFS('Data1984-2026World'!J$3:J$99,$Y28,'Data1984-2026World'!$A$3:$A$99,">="&$W$3) -> 0 | AF28: =COUNTIFS('Data1984-2026World'!N$3:N$99,$Y28,'Data1984-2026World'!$A$3:$A$99,">="&$W$3) -> 1 | AG28: =SUM(AD28:AF28) -> 3 | AH28: =COUNTIFS('Data1984-2026World'!K$3:K$99,$Y28,'Data1984-2026World'!$A$3:$A$99,">="&$W$3)+COUNTIFS('Data1984-2026World'!L$3:L$99,$Y28,'Data1984-2026World'!$A$3:$A$99,">="&$W$3) -> 0 | AI28: =AG28+AC28 -> 5 | AJ28: =SUMPRODUCT($Z$3:$AB$3,Z28:AB28)+SUMPRODUCT($AD$3:$AF$3,AD28:AF28)+AH28 -> 17 | AM28: Top Euro teams over last 20 years (2007 to 2026)
V29: =ROW()-6 -> 23 | W29: TOP14 | X29: Fra | Y29: Bordeaux | Z29: =COUNTIFS('Data1984-2026World'!B$3:B$99,$Y29,'Data1984-2026World'!$A$3:$A$99,">="&$W$3)+COUNTIFS('Data1984-2026World'!D$3:D$99,$Y29,'Data1984-2026World'!$A$3:$A$99,">="&$W$3)+COUNTIFS('Data1984-2026World'!F$3:F$99,$Y29,'Data1984-2026World'!$A$3:$A$99,">="&$W$3)+COUNTIFS('Data1984-2026World'!O$3:O$99,$Y29,'Data1984-2026World'!$A$3:$A$99,">="&$W$3) -> 0 | AA29: =COUNTIFS('Data1984-2026World'!I$3:I$99,$Y29,'Data1984-2026World'!$A$3:$A$99,">="&$W$3) -> 2 | AB29: =COUNTIFS('Data1984-2026World'!M$3:M$99,$Y29,'Data1984-2026World'!$A$3:$A$99,">="&$W$3) -> 0 | AC29: =SUM(Z29:AB29) -> 2 | AD29: =COUNTIFS('Data1984-2026World'!C$3:C$99,$Y29,'Data1984-2026World'!$A$3:$A$99,">="&$W$3)+COUNTIFS('Data1984-2026World'!E$3:E$99,$Y29,'Data1984-2026World'!$A$3:$A$99,">="&$W$3)+COUNTIFS('Data1984-2026World'!G$3:G$99,$Y29,'Data1984-2026World'!$A$3:$A$99,">="&$W$3)+COUNTIFS('Data1984-2026World'!P$3:P$99,$Y29,'Data1984-2026World'!$A$3:$A$99,">="&$W$3) -> 2 | AE29: =COUNTIFS('Data1984-2026World'!J$3:J$99,$Y29,'Data1984-2026World'!$A$3:$A$99,">="&$W$3) -> 0 | AF29: =COUNTIFS('Data1984-2026World'!N$3:N$99,$Y29,'Data1984-2026World'!$A$3:$A$99,">="&$W$3) -> 0 | AG29: =SUM(AD29:AF29) -> 2 | AH29: =COUNTIFS('Data1984-2026World'!K$3:K$99,$Y29,'Data1984-2026World'!$A$3:$A$99,">="&$W$3)+COUNTIFS('Data1984-2026World'!L$3:L$99,$Y29,'Data1984-2026World'!$A$3:$A$99,">="&$W$3) -> 1 | AI29: =AG29+AC29 -> 4 | AJ29: =SUMPRODUCT($Z$3:$AB$3,Z29:AB29)+SUMPRODUCT($AD$3:$AF$3,AD29:AF29)+AH29 -> 17 | AL29: Rank | AM29: Team | AN29: Wins | AO29: Team | AP29: Top2 | AQ29: Team | AR29: Points | AS29: Rank
V30: =ROW()-6 -> 24 | W30: Prem | X30: Eng | Y30: Sale | Z30: =COUNTIFS('Data1984-2026World'!B$3:B$99,$Y30,'Data1984-2026World'!$A$3:$A$99,">="&$W$3)+COUNTIFS('Data1984-2026World'!D$3:D$99,$Y30,'Data1984-2026World'!$A$3:$A$99,">="&$W$3)+COUNTIFS('Data1984-2026World'!F$3:F$99,$Y30,'Data1984-2026World'!$A$3:$A$99,">="&$W$3)+COUNTIFS('Data1984-2026World'!O$3:O$99,$Y30,'Data1984-2026World'!$A$3:$A$99,">="&$W$3) -> 1 | AA30: =COUNTIFS('Data1984-2026World'!I$3:I$99,$Y30,'Data1984-2026World'!$A$3:$A$99,">="&$W$3) -> 0 | AB30: =COUNTIFS('Data1984-2026World'!M$3:M$99,$Y30,'Data1984-2026World'!$A$3:$A$99,">="&$W$3) -> 2 | AC30: =SUM(Z30:AB30) -> 3 | AD30: =COUNTIFS('Data1984-2026World'!C$3:C$99,$Y30,'Data1984-2026World'!$A$3:$A$99,">="&$W$3)+COUNTIFS('Data1984-2026World'!E$3:E$99,$Y30,'Data1984-2026World'!$A$3:$A$99,">="&$W$3)+COUNTIFS('Data1984-2026World'!G$3:G$99,$Y30,'Data1984-2026World'!$A$3:$A$99,">="&$W$3)+COUNTIFS('Data1984-2026World'!P$3:P$99,$Y30,'Data1984-2026World'!$A$3:$A$99,">="&$W$3) -> 2 | AE30: =COUNTIFS('Data1984-2026World'!J$3:J$99,$Y30,'Data1984-2026World'!$A$3:$A$99,">="&$W$3) -> 0 | AF30: =COUNTIFS('Data1984-2026World'!N$3:N$99,$Y30,'Data1984-2026World'!$A$3:$A$99,">="&$W$3) -> 0 | AG30: =SUM(AD30:AF30) -> 2 | AH30: =COUNTIFS('Data1984-2026World'!K$3:K$99,$Y30,'Data1984-2026World'!$A$3:$A$99,">="&$W$3)+COUNTIFS('Data1984-2026World'!L$3:L$99,$Y30,'Data1984-2026World'!$A$3:$A$99,">="&$W$3) -> 0 | AI30: =AG30+AC30 -> 5 | AJ30: =SUMPRODUCT($Z$3:$AB$3,Z30:AB30)+SUMPRODUCT($AD$3:$AF$3,AD30:AF30)+AH30 -> 16 | AL30: =ROW()-28 -> 2 | AM30: Leinster | AN30: 14 | AO30: Leinster | AP30: 23 | AQ30: Leinster | AR30: 104 | AS30: =ROW()-28 -> 2
V31: =ROW()-6 -> 25 | W31: TOP14 | X31: Fra | Y31: Perpignan | Z31: =COUNTIFS('Data1984-2026World'!B$3:B$99,$Y31,'Data1984-2026World'!$A$3:$A$99,">="&$W$3)+COUNTIFS('Data1984-2026World'!D$3:D$99,$Y31,'Data1984-2026World'!$A$3:$A$99,">="&$W$3)+COUNTIFS('Data1984-2026World'!F$3:F$99,$Y31,'Data1984-2026World'!$A$3:$A$99,">="&$W$3)+COUNTIFS('Data1984-2026World'!O$3:O$99,$Y31,'Data1984-2026World'!$A$3:$A$99,">="&$W$3) -> 1 | AA31: =COUNTIFS('Data1984-2026World'!I$3:I$99,$Y31,'Data1984-2026World'!$A$3:$A$99,">="&$W$3) -> 0 | AB31: =COUNTIFS('Data1984-2026World'!M$3:M$99,$Y31,'Data1984-2026World'!$A$3:$A$99,">="&$W$3) -> 0 | AC31: =SUM(Z31:AB31) -> 1 | AD31: =COUNTIFS('Data1984-2026World'!C$3:C$99,$Y31,'Data1984-2026World'!$A$3:$A$99,">="&$W$3)+COUNTIFS('Data1984-2026World'!E$3:E$99,$Y31,'Data1984-2026World'!$A$3:$A$99,">="&$W$3)+COUNTIFS('Data1984-2026World'!G$3:G$99,$Y31,'Data1984-2026World'!$A$3:$A$99,">="&$W$3)+COUNTIFS('Data1984-2026World'!P$3:P$99,$Y31,'Data1984-2026World'!$A$3:$A$99,">="&$W$3) -> 3 | AE31: =COUNTIFS('Data1984-2026World'!J$3:J$99,$Y31,'Data1984-2026World'!$A$3:$A$99,">="&$W$3) -> 1 | AF31: =COUNTIFS('Data1984-2026World'!N$3:N$99,$Y31,'Data1984-2026World'!$A$3:$A$99,">="&$W$3) -> 0 | AG31: =SUM(AD31:AF31) -> 4 | AH31: =COUNTIFS('Data1984-2026World'!K$3:K$99,$Y31,'Data1984-2026World'!$A$3:$A$99,">="&$W$3)+COUNTIFS('Data1984-2026World'!L$3:L$99,$Y31,'Data1984-2026World'!$A$3:$A$99,">="&$W$3) -> 2 | AI31: =AG31+AC31 -> 5 | AJ31: =SUMPRODUCT($Z$3:$AB$3,Z31:AB31)+SUMPRODUCT($AD$3:$AF$3,AD31:AF31)+AH31 -> 16 | AL31: =ROW()-28 -> 3 | AM31: Toulouse | AN31: 12 | AO31: Toulouse | AP31: 13 | AQ31: Toulouse | AR31: 80 | AS31: =ROW()-28 -> 3
V32: =ROW()-6 -> 26 | W32: Prem | X32: Eng | Y32: Gloucester | Z32: =COUNTIFS('Data1984-2026World'!B$3:B$99,$Y32,'Data1984-2026World'!$A$3:$A$99,">="&$W$3)+COUNTIFS('Data1984-2026World'!D$3:D$99,$Y32,'Data1984-2026World'!$A$3:$A$99,">="&$W$3)+COUNTIFS('Data1984-2026World'!F$3:F$99,$Y32,'Data1984-2026World'!$A$3:$A$99,">="&$W$3)+COUNTIFS('Data1984-2026World'!O$3:O$99,$Y32,'Data1984-2026World'!$A$3:$A$99,">="&$W$3) -> 0 | AA32: =COUNTIFS('Data1984-2026World'!I$3:I$99,$Y32,'Data1984-2026World'!$A$3:$A$99,">="&$W$3) -> 0 | AB32: =COUNTIFS('Data1984-2026World'!M$3:M$99,$Y32,'Data1984-2026World'!$A$3:$A$99,">="&$W$3) -> 2 | AC32: =SUM(Z32:AB32) -> 2 | AD32: =COUNTIFS('Data1984-2026World'!C$3:C$99,$Y32,'Data1984-2026World'!$A$3:$A$99,">="&$W$3)+COUNTIFS('Data1984-2026World'!E$3:E$99,$Y32,'Data1984-2026World'!$A$3:$A$99,">="&$W$3)+COUNTIFS('Data1984-2026World'!G$3:G$99,$Y32,'Data1984-2026World'!$A$3:$A$99,">="&$W$3)+COUNTIFS('Data1984-2026World'!P$3:P$99,$Y32,'Data1984-2026World'!$A$3:$A$99,">="&$W$3) -> 2 | AE32: =COUNTIFS('Data1984-2026World'!J$3:J$99,$Y32,'Data1984-2026World'!$A$3:$A$99,">="&$W$3) -> 0 | AF32: =COUNTIFS('Data1984-2026World'!N$3:N$99,$Y32,'Data1984-2026World'!$A$3:$A$99,">="&$W$3) -> 3 | AG32: =SUM(AD32:AF32) -> 5 | AH32: =COUNTIFS('Data1984-2026World'!K$3:K$99,$Y32,'Data1984-2026World'!$A$3:$A$99,">="&$W$3)+COUNTIFS('Data1984-2026World'!L$3:L$99,$Y32,'Data1984-2026World'!$A$3:$A$99,">="&$W$3) -> 1 | AI32: =AG32+AC32 -> 7 | AJ32: =SUMPRODUCT($Z$3:$AB$3,Z32:AB32)+SUMPRODUCT($AD$3:$AF$3,AD32:AF32)+AH32 -> 14 | AL32: =ROW()-28 -> 4 | AM32: Saracens | AN32: 9 | AO32: Saracens | AP32: 13 | AQ32: Saracens | AR32: 66 | AS32: =ROW()-28 -> 4
V33: =ROW()-6 -> 27 | W33: URC | X33: Wal | Y33: Cardiff | Z33: =COUNTIFS('Data1984-2026World'!B$3:B$99,$Y33,'Data1984-2026World'!$A$3:$A$99,">="&$W$3)+COUNTIFS('Data1984-2026World'!D$3:D$99,$Y33,'Data1984-2026World'!$A$3:$A$99,">="&$W$3)+COUNTIFS('Data1984-2026World'!F$3:F$99,$Y33,'Data1984-2026World'!$A$3:$A$99,">="&$W$3)+COUNTIFS('Data1984-2026World'!O$3:O$99,$Y33,'Data1984-2026World'!$A$3:$A$99,">="&$W$3) -> 0 | AA33: =COUNTIFS('Data1984-2026World'!I$3:I$99,$Y33,'Data1984-2026World'!$A$3:$A$99,">="&$W$3) -> 0 | AB33: =COUNTIFS('Data1984-2026World'!M$3:M$99,$Y33,'Data1984-2026World'!$A$3:$A$99,">="&$W$3) -> 2 | AC33: =SUM(Z33:AB33) -> 2 | AD33: =COUNTIFS('Data1984-2026World'!C$3:C$99,$Y33,'Data1984-2026World'!$A$3:$A$99,">="&$W$3)+COUNTIFS('Data1984-2026World'!E$3:E$99,$Y33,'Data1984-2026World'!$A$3:$A$99,">="&$W$3)+COUNTIFS('Data1984-2026World'!G$3:G$99,$Y33,'Data1984-2026World'!$A$3:$A$99,">="&$W$3)+COUNTIFS('Data1984-2026World'!P$3:P$99,$Y33,'Data1984-2026World'!$A$3:$A$99,">="&$W$3) -> 2 | AE33: =COUNTIFS('Data1984-2026World'!J$3:J$99,$Y33,'Data1984-2026World'!$A$3:$A$99,">="&$W$3) -> 1 | AF33: =COUNTIFS('Data1984-2026World'!N$3:N$99,$Y33,'Data1984-2026World'!$A$3:$A$99,">="&$W$3) -> 0 | AG33: =SUM(AD33:AF33) -> 3 | AH33: =COUNTIFS('Data1984-2026World'!K$3:K$99,$Y33,'Data1984-2026World'!$A$3:$A$99,">="&$W$3)+COUNTIFS('Data1984-2026World'!L$3:L$99,$Y33,'Data1984-2026World'!$A$3:$A$99,">="&$W$3) -> 2 | AI33: =AG33+AC33 -> 5 | AJ33: =SUMPRODUCT($Z$3:$AB$3,Z33:AB33)+SUMPRODUCT($AD$3:$AF$3,AD33:AF33)+AH33 -> 14 | AL33: =ROW()-28 -> 5 | AM33: Toulon | AN33: 5 | AO33: Toulon | AP33: 13 | AQ33: Leicester | AR33: 44 | AS33: =ROW()-28 -> 5
V34: =ROW()-6 -> 28 | W34: TOP14 | X34: Fra | Y34: Racing 92 | Z34: =COUNTIFS('Data1984-2026World'!B$3:B$99,$Y34,'Data1984-2026World'!$A$3:$A$99,">="&$W$3)+COUNTIFS('Data1984-2026World'!D$3:D$99,$Y34,'Data1984-2026World'!$A$3:$A$99,">="&$W$3)+COUNTIFS('Data1984-2026World'!F$3:F$99,$Y34,'Data1984-2026World'!$A$3:$A$99,">="&$W$3)+COUNTIFS('Data1984-2026World'!O$3:O$99,$Y34,'Data1984-2026World'!$A$3:$A$99,">="&$W$3) -> 1 | AA34: =COUNTIFS('Data1984-2026World'!I$3:I$99,$Y34,'Data1984-2026World'!$A$3:$A$99,">="&$W$3) -> 0 | AB34: =COUNTIFS('Data1984-2026World'!M$3:M$99,$Y34,'Data1984-2026World'!$A$3:$A$99,">="&$W$3) -> 0 | AC34: =SUM(Z34:AB34) -> 1 | AD34: =COUNTIFS('Data1984-2026World'!C$3:C$99,$Y34,'Data1984-2026World'!$A$3:$A$99,">="&$W$3)+COUNTIFS('Data1984-2026World'!E$3:E$99,$Y34,'Data1984-2026World'!$A$3:$A$99,">="&$W$3)+COUNTIFS('Data1984-2026World'!G$3:G$99,$Y34,'Data1984-2026World'!$A$3:$A$99,">="&$W$3)+COUNTIFS('Data1984-2026World'!P$3:P$99,$Y34,'Data1984-2026World'!$A$3:$A$99,">="&$W$3) -> 0 | AE34: =COUNTIFS('Data1984-2026World'!J$3:J$99,$Y34,'Data1984-2026World'!$A$3:$A$99,">="&$W$3) -> 3 | AF34: =COUNTIFS('Data1984-2026World'!N$3:N$99,$Y34,'Data1984-2026World'!$A$3:$A$99,">="&$W$3) -> 0 | AG34: =SUM(AD34:AF34) -> 3 | AH34: =COUNTIFS('Data1984-2026World'!K$3:K$99,$Y34,'Data1984-2026World'!$A$3:$A$99,">="&$W$3)+COUNTIFS('Data1984-2026World'!L$3:L$99,$Y34,'Data1984-2026World'!$A$3:$A$99,">="&$W$3) -> 1 | AI34: =AG34+AC34 -> 4 | AJ34: =SUMPRODUCT($Z$3:$AB$3,Z34:AB34)+SUMPRODUCT($AD$3:$AF$3,AD34:AF34)+AH34 -> 13 | AL34: =ROW()-28 -> 6 | AM34: Leicester | AN34: 5 | AO34: Leicester | AP34: 12 | AQ34: Toulon | AR34: 40 | AS34: =ROW()-28 -> 6
V35: =ROW()-6 -> 29 | W35: URC | X35: SAF | Y35: Sharks | Z35: =COUNTIFS('Data1984-2026World'!B$3:B$99,$Y35,'Data1984-2026World'!$A$3:$A$99,">="&$W$3)+COUNTIFS('Data1984-2026World'!D$3:D$99,$Y35,'Data1984-2026World'!$A$3:$A$99,">="&$W$3)+COUNTIFS('Data1984-2026World'!F$3:F$99,$Y35,'Data1984-2026World'!$A$3:$A$99,">="&$W$3)+COUNTIFS('Data1984-2026World'!O$3:O$99,$Y35,'Data1984-2026World'!$A$3:$A$99,">="&$W$3) -> 0 | AA35: =COUNTIFS('Data1984-2026World'!I$3:I$99,$Y35,'Data1984-2026World'!$A$3:$A$99,">="&$W$3) -> 0 | AB35: =COUNTIFS('Data1984-2026World'!M$3:M$99,$Y35,'Data1984-2026World'!$A$3:$A$99,">="&$W$3) -> 1 | AC35: =SUM(Z35:AB35) -> 1 | AD35: =COUNTIFS('Data1984-2026World'!C$3:C$99,$Y35,'Data1984-2026World'!$A$3:$A$99,">="&$W$3)+COUNTIFS('Data1984-2026World'!E$3:E$99,$Y35,'Data1984-2026World'!$A$3:$A$99,">="&$W$3)+COUNTIFS('Data1984-2026World'!G$3:G$99,$Y35,'Data1984-2026World'!$A$3:$A$99,">="&$W$3)+COUNTIFS('Data1984-2026World'!P$3:P$99,$Y35,'Data1984-2026World'!$A$3:$A$99,">="&$W$3) -> 4 | AE35: =COUNTIFS('Data1984-2026World'!J$3:J$99,$Y35,'Data1984-2026World'!$A$3:$A$99,">="&$W$3) -> 0 | AF35: =COUNTIFS('Data1984-2026World'!N$3:N$99,$Y35,'Data1984-2026World'!$A$3:$A$99,">="&$W$3) -> 0 | AG35: =SUM(AD35:AF35) -> 4 | AH35: =COUNTIFS('Data1984-2026World'!K$3:K$99,$Y35,'Data1984-2026World'!$A$3:$A$99,">="&$W$3)+COUNTIFS('Data1984-2026World'!L$3:L$99,$Y35,'Data1984-2026World'!$A$3:$A$99,">="&$W$3) -> 0 | AI35: =AG35+AC35 -> 5 | AJ35: =SUMPRODUCT($Z$3:$AB$3,Z35:AB35)+SUMPRODUCT($AD$3:$AF$3,AD35:AF35)+AH35 -> 11 | AL35: =ROW()-28 -> 7 | AM35: Northampton | AN35: 5 | AO35: Clermont Auvergne | AP35: 12 | AQ35: Munster | AR35: 37 | AS35: =ROW()-28 -> 7
V36: =ROW()-6 -> 30 | W36: URC | X36: SAF | Y36: Stormers | Z36: =COUNTIFS('Data1984-2026World'!B$3:B$99,$Y36,'Data1984-2026World'!$A$3:$A$99,">="&$W$3)+COUNTIFS('Data1984-2026World'!D$3:D$99,$Y36,'Data1984-2026World'!$A$3:$A$99,">="&$W$3)+COUNTIFS('Data1984-2026World'!F$3:F$99,$Y36,'Data1984-2026World'!$A$3:$A$99,">="&$W$3)+COUNTIFS('Data1984-2026World'!O$3:O$99,$Y36,'Data1984-2026World'!$A$3:$A$99,">="&$W$3) -> 1 | AA36: =COUNTIFS('Data1984-2026World'!I$3:I$99,$Y36,'Data1984-2026World'!$A$3:$A$99,">="&$W$3) -> 0 | AB36: =COUNTIFS('Data1984-2026World'!M$3:M$99,$Y36,'Data1984-2026World'!$A$3:$A$99,">="&$W$3) -> 0 | AC36: =SUM(Z36:AB36) -> 1 | AD36: =COUNTIFS('Data1984-2026World'!C$3:C$99,$Y36,'Data1984-2026World'!$A$3:$A$99,">="&$W$3)+COUNTIFS('Data1984-2026World'!E$3:E$99,$Y36,'Data1984-2026World'!$A$3:$A$99,">="&$W$3)+COUNTIFS('Data1984-2026World'!G$3:G$99,$Y36,'Data1984-2026World'!$A$3:$A$99,">="&$W$3)+COUNTIFS('Data1984-2026World'!P$3:P$99,$Y36,'Data1984-2026World'!$A$3:$A$99,">="&$W$3) -> 2 | AE36: =COUNTIFS('Data1984-2026World'!J$3:J$99,$Y36,'Data1984-2026World'!$A$3:$A$99,">="&$W$3) -> 0 | AF36: =COUNTIFS('Data1984-2026World'!N$3:N$99,$Y36,'Data1984-2026World'!$A$3:$A$99,">="&$W$3) -> 0 | AG36: =SUM(AD36:AF36) -> 2 | AH36: =COUNTIFS('Data1984-2026World'!K$3:K$99,$Y36,'Data1984-2026World'!$A$3:$A$99,">="&$W$3)+COUNTIFS('Data1984-2026World'!L$3:L$99,$Y36,'Data1984-2026World'!$A$3:$A$99,">="&$W$3) -> 0 | AI36: =AG36+AC36 -> 3 | AJ36: =SUMPRODUCT($Z$3:$AB$3,Z36:AB36)+SUMPRODUCT($AD$3:$AF$3,AD36:AF36)+AH36 -> 10 | AL36: =ROW()-28 -> 8 | AM36: Clermont Auvergne | AN36: 4 | AO36: Northampton | AP36: 8 | AQ36: Clermont Auvergne | AR36: 36 | AS36: =ROW()-28 -> 8
V37: =ROW()-6 -> 31 | W37: TOP14 | X37: Fra | Y37: Brive | Z37: =COUNTIFS('Data1984-2026World'!B$3:B$99,$Y37,'Data1984-2026World'!$A$3:$A$99,">="&$W$3)+COUNTIFS('Data1984-2026World'!D$3:D$99,$Y37,'Data1984-2026World'!$A$3:$A$99,">="&$W$3)+COUNTIFS('Data1984-2026World'!F$3:F$99,$Y37,'Data1984-2026World'!$A$3:$A$99,">="&$W$3)+COUNTIFS('Data1984-2026World'!O$3:O$99,$Y37,'Data1984-2026World'!$A$3:$A$99,">="&$W$3) -> 0 | AA37: =COUNTIFS('Data1984-2026World'!I$3:I$99,$Y37,'Data1984-2026World'!$A$3:$A$99,">="&$W$3) -> 1 | AB37: =COUNTIFS('Data1984-2026World'!M$3:M$99,$Y37,'Data1984-2026World'!$A$3:$A$99,">="&$W$3) -> 0 | AC37: =SUM(Z37:AB37) -> 1 | AD37: =COUNTIFS('Data1984-2026World'!C$3:C$99,$Y37,'Data1984-2026World'!$A$3:$A$99,">="&$W$3)+COUNTIFS('Data1984-2026World'!E$3:E$99,$Y37,'Data1984-2026World'!$A$3:$A$99,">="&$W$3)+COUNTIFS('Data1984-2026World'!G$3:G$99,$Y37,'Data1984-2026World'!$A$3:$A$99,">="&$W$3)+COUNTIFS('Data1984-2026World'!P$3:P$99,$Y37,'Data1984-2026World'!$A$3:$A$99,">="&$W$3) -> 1 | AE37: =COUNTIFS('Data1984-2026World'!J$3:J$99,$Y37,'Data1984-2026World'!$A$3:$A$99,">="&$W$3) -> 1 | AF37: =COUNTIFS('Data1984-2026World'!N$3:N$99,$Y37,'Data1984-2026World'!$A$3:$A$99,">="&$W$3) -> 0 | AG37: =SUM(AD37:AF37) -> 2 | AH37: =COUNTIFS('Data1984-2026World'!K$3:K$99,$Y37,'Data1984-2026World'!$A$3:$A$99,">="&$W$3)+COUNTIFS('Data1984-2026World'!L$3:L$99,$Y37,'Data1984-2026World'!$A$3:$A$99,">="&$W$3) -> 0 | AI37: =AG37+AC37 -> 3 | AJ37: =SUMPRODUCT($Z$3:$AB$3,Z37:AB37)+SUMPRODUCT($AD$3:$AF$3,AD37:AF37)+AH37 -> 10 | AL37: =ROW()-28 -> 9 | AM37: Munster | AN37: 4 | AO37: Exeter | AP37: 8 | AQ37: Northampton | AR37: 32 | AS37: =ROW()-28 -> 9
V38: =ROW()-6 -> 32 | W38: TOP14 | X38: Fra | Y38: AS Montferrand | Z38: =COUNTIFS('Data1984-2026World'!B$3:B$99,$Y38,'Data1984-2026World'!$A$3:$A$99,">="&$W$3)+COUNTIFS('Data1984-2026World'!D$3:D$99,$Y38,'Data1984-2026World'!$A$3:$A$99,">="&$W$3)+COUNTIFS('Data1984-2026World'!F$3:F$99,$Y38,'Data1984-2026World'!$A$3:$A$99,">="&$W$3)+COUNTIFS('Data1984-2026World'!O$3:O$99,$Y38,'Data1984-2026World'!$A$3:$A$99,">="&$W$3) -> 0 | AA38: =COUNTIFS('Data1984-2026World'!I$3:I$99,$Y38,'Data1984-2026World'!$A$3:$A$99,">="&$W$3) -> 0 | AB38: =COUNTIFS('Data1984-2026World'!M$3:M$99,$Y38,'Data1984-2026World'!$A$3:$A$99,">="&$W$3) -> 1 | AC38: =SUM(Z38:AB38) -> 1 | AD38: =COUNTIFS('Data1984-2026World'!C$3:C$99,$Y38,'Data1984-2026World'!$A$3:$A$99,">="&$W$3)+COUNTIFS('Data1984-2026World'!E$3:E$99,$Y38,'Data1984-2026World'!$A$3:$A$99,">="&$W$3)+COUNTIFS('Data1984-2026World'!G$3:G$99,$Y38,'Data1984-2026World'!$A$3:$A$99,">="&$W$3)+COUNTIFS('Data1984-2026World'!P$3:P$99,$Y38,'Data1984-2026World'!$A$3:$A$99,">="&$W$3) -> 2 | AE38: =COUNTIFS('Data1984-2026World'!J$3:J$99,$Y38,'Data1984-2026World'!$A$3:$A$99,">="&$W$3) -> 0 | AF38: =COUNTIFS('Data1984-2026World'!N$3:N$99,$Y38,'Data1984-2026World'!$A$3:$A$99,">="&$W$3) -> 1 | AG38: =SUM(AD38:AF38) -> 3 | AH38: =COUNTIFS('Data1984-2026World'!K$3:K$99,$Y38,'Data1984-2026World'!$A$3:$A$99,">="&$W$3)+COUNTIFS('Data1984-2026World'!L$3:L$99,$Y38,'Data1984-2026World'!$A$3:$A$99,">="&$W$3) -> 0 | AI38: =AG38+AC38 -> 4 | AJ38: =SUMPRODUCT($Z$3:$AB$3,Z38:AB38)+SUMPRODUCT($AD$3:$AF$3,AD38:AF38)+AH38 -> 8 | AL38: =ROW()-28 -> 10 | AM38: Montpellier | AN38: 4 | AO38: Munster | AP38: 7 | AQ38: Exeter | AR38: 29 | AS38: =ROW()-28 -> 10
V39: =ROW()-6 -> 33 | W39: TOP14 | X39: Fra | Y39: Bourgoin | Z39: =COUNTIFS('Data1984-2026World'!B$3:B$99,$Y39,'Data1984-2026World'!$A$3:$A$99,">="&$W$3)+COUNTIFS('Data1984-2026World'!D$3:D$99,$Y39,'Data1984-2026World'!$A$3:$A$99,">="&$W$3)+COUNTIFS('Data1984-2026World'!F$3:F$99,$Y39,'Data1984-2026World'!$A$3:$A$99,">="&$W$3)+COUNTIFS('Data1984-2026World'!O$3:O$99,$Y39,'Data1984-2026World'!$A$3:$A$99,">="&$W$3) -> 0 | AA39: =COUNTIFS('Data1984-2026World'!I$3:I$99,$Y39,'Data1984-2026World'!$A$3:$A$99,">="&$W$3) -> 0 | AB39: =COUNTIFS('Data1984-2026World'!M$3:M$99,$Y39,'Data1984-2026World'!$A$3:$A$99,">="&$W$3) -> 1 | AC39: =SUM(Z39:AB39) -> 1 | AD39: =COUNTIFS('Data1984-2026World'!C$3:C$99,$Y39,'Data1984-2026World'!$A$3:$A$99,">="&$W$3)+COUNTIFS('Data1984-2026World'!E$3:E$99,$Y39,'Data1984-2026World'!$A$3:$A$99,">="&$W$3)+COUNTIFS('Data1984-2026World'!G$3:G$99,$Y39,'Data1984-2026World'!$A$3:$A$99,">="&$W$3)+COUNTIFS('Data1984-2026World'!P$3:P$99,$Y39,'Data1984-2026World'!$A$3:$A$99,">="&$W$3) -> 1 | AE39: =COUNTIFS('Data1984-2026World'!J$3:J$99,$Y39,'Data1984-2026World'!$A$3:$A$99,">="&$W$3) -> 0 | AF39: =COUNTIFS('Data1984-2026World'!N$3:N$99,$Y39,'Data1984-2026World'!$A$3:$A$99,">="&$W$3) -> 2 | AG39: =SUM(AD39:AF39) -> 3 | AH39: =COUNTIFS('Data1984-2026World'!K$3:K$99,$Y39,'Data1984-2026World'!$A$3:$A$99,">="&$W$3)+COUNTIFS('Data1984-2026World'!L$3:L$99,$Y39,'Data1984-2026World'!$A$3:$A$99,">="&$W$3) -> 0 | AI39: =AG39+AC39 -> 4 | AJ39: =SUMPRODUCT($Z$3:$AB$3,Z39:AB39)+SUMPRODUCT($AD$3:$AF$3,AD39:AF39)+AH39 -> 7 | AL39: =ROW()-28 -> 11 | AM39: Exeter | AN39: 3 | AO39: Montpellier | AP39: 7 | AQ39: Bulls | AR39: 26 | AS39: =ROW()-28 -> 11
V40: =ROW()-6 -> 34 | W40: TOP14 | X40: Fra | Y40: Colomiers | Z40: =COUNTIFS('Data1984-2026World'!B$3:B$99,$Y40,'Data1984-2026World'!$A$3:$A$99,">="&$W$3)+COUNTIFS('Data1984-2026World'!D$3:D$99,$Y40,'Data1984-2026World'!$A$3:$A$99,">="&$W$3)+COUNTIFS('Data1984-2026World'!F$3:F$99,$Y40,'Data1984-2026World'!$A$3:$A$99,">="&$W$3)+COUNTIFS('Data1984-2026World'!O$3:O$99,$Y40,'Data1984-2026World'!$A$3:$A$99,">="&$W$3) -> 0 | AA40: =COUNTIFS('Data1984-2026World'!I$3:I$99,$Y40,'Data1984-2026World'!$A$3:$A$99,">="&$W$3) -> 0 | AB40: =COUNTIFS('Data1984-2026World'!M$3:M$99,$Y40,'Data1984-2026World'!$A$3:$A$99,">="&$W$3) -> 1 | AC40: =SUM(Z40:AB40) -> 1 | AD40: =COUNTIFS('Data1984-2026World'!C$3:C$99,$Y40,'Data1984-2026World'!$A$3:$A$99,">="&$W$3)+COUNTIFS('Data1984-2026World'!E$3:E$99,$Y40,'Data1984-2026World'!$A$3:$A$99,">="&$W$3)+COUNTIFS('Data1984-2026World'!G$3:G$99,$Y40,'Data1984-2026World'!$A$3:$A$99,">="&$W$3)+COUNTIFS('Data1984-2026World'!P$3:P$99,$Y40,'Data1984-2026World'!$A$3:$A$99,">="&$W$3) -> 1 | AE40: =COUNTIFS('Data1984-2026World'!J$3:J$99,$Y40,'Data1984-2026World'!$A$3:$A$99,">="&$W$3) -> 1 | AF40: =COUNTIFS('Data1984-2026World'!N$3:N$99,$Y40,'Data1984-2026World'!$A$3:$A$99,">="&$W$3) -> 0 | AG40: =SUM(AD40:AF40) -> 2 | AH40: =COUNTIFS('Data1984-2026World'!K$3:K$99,$Y40,'Data1984-2026World'!$A$3:$A$99,">="&$W$3)+COUNTIFS('Data1984-2026World'!L$3:L$99,$Y40,'Data1984-2026World'!$A$3:$A$99,">="&$W$3) -> 0 | AI40: =AG40+AC40 -> 3 | AJ40: =SUMPRODUCT($Z$3:$AB$3,Z40:AB40)+SUMPRODUCT($AD$3:$AF$3,AD40:AF40)+AH40 -> 7 | AL40: =ROW()-28 -> 12 | AM40: Bulls | AN40: 3 | AO40: Bulls | AP40: 7 | AQ40: Montpellier | AR40: 21 | AS40: =ROW()-28 -> 12
V41: =ROW()-6 -> 35 | W41: URC | X41: Ire | Y41: Connacht | Z41: =COUNTIFS('Data1984-2026World'!B$3:B$99,$Y41,'Data1984-2026World'!$A$3:$A$99,">="&$W$3)+COUNTIFS('Data1984-2026World'!D$3:D$99,$Y41,'Data1984-2026World'!$A$3:$A$99,">="&$W$3)+COUNTIFS('Data1984-2026World'!F$3:F$99,$Y41,'Data1984-2026World'!$A$3:$A$99,">="&$W$3)+COUNTIFS('Data1984-2026World'!O$3:O$99,$Y41,'Data1984-2026World'!$A$3:$A$99,">="&$W$3) -> 1 | AA41: =COUNTIFS('Data1984-2026World'!I$3:I$99,$Y41,'Data1984-2026World'!$A$3:$A$99,">="&$W$3) -> 0 | AB41: =COUNTIFS('Data1984-2026World'!M$3:M$99,$Y41,'Data1984-2026World'!$A$3:$A$99,">="&$W$3) -> 0 | AC41: =SUM(Z41:AB41) -> 1 | AD41: =COUNTIFS('Data1984-2026World'!C$3:C$99,$Y41,'Data1984-2026World'!$A$3:$A$99,">="&$W$3)+COUNTIFS('Data1984-2026World'!E$3:E$99,$Y41,'Data1984-2026World'!$A$3:$A$99,">="&$W$3)+COUNTIFS('Data1984-2026World'!G$3:G$99,$Y41,'Data1984-2026World'!$A$3:$A$99,">="&$W$3)+COUNTIFS('Data1984-2026World'!P$3:P$99,$Y41,'Data1984-2026World'!$A$3:$A$99,">="&$W$3) -> 0 | AE41: =COUNTIFS('Data1984-2026World'!J$3:J$99,$Y41,'Data1984-2026World'!$A$3:$A$99,">="&$W$3) -> 0 | AF41: =COUNTIFS('Data1984-2026World'!N$3:N$99,$Y41,'Data1984-2026World'!$A$3:$A$99,">="&$W$3) -> 0 | AG41: =SUM(AD41:AF41) -> 0 | AH41: =COUNTIFS('Data1984-2026World'!K$3:K$99,$Y41,'Data1984-2026World'!$A$3:$A$99,">="&$W$3)+COUNTIFS('Data1984-2026World'!L$3:L$99,$Y41,'Data1984-2026World'!$A$3:$A$99,">="&$W$3) -> 0 | AI41: =AG41+AC41 -> 1 | AJ41: =SUMPRODUCT($Z$3:$AB$3,Z41:AB41)+SUMPRODUCT($AD$3:$AF$3,AD41:AF41)+AH41 -> 6 | AL41: =ROW()-28 -> 13 | AM41: Bath | AN41: 3 | AO41: Bath | AP41: 7 | AQ41: Bath | AR41: 19 | AS41: =ROW()-28 -> 13
... V44: =ROW()-6 -> 38 | W44: TOP14 | X44: Fra | Y44: Pau | Z44: =COUNTIFS('Data1984-2026World'!B$3:B$99,$Y44,'Data1984-2026World'!$A$3:$A$99,">="&$W$3)+COUNTIFS('Data1984-2026World'!D$3:D$99,$Y44,'Data1984-2026World'!$A$3:$A$99,">="&$W$3)+COUNTIFS('Data1984-2026World'!F$3:F$99,$Y44,'Data1984-2026World'!$A$3:$A$99,">="&$W$3)+COUNTIFS('Data1984-2026World'!O$3:O$99,$Y44,'Data1984-2026World'!$A$3:$A$99,">="&$W$3) -> 0 | AA44: =COUNTIFS('Data1984-2026World'!I$3:I$99,$Y44,'Data1984-2026World'!$A$3:$A$99,">="&$W$3) -> 0 | AB44: =COUNTIFS('Data1984-2026World'!M$3:M$99,$Y44,'Data1984-2026World'!$A$3:$A$99,">="&$W$3) -> 1 | AC44: =SUM(Z44:AB44) -> 1 | AD44: =COUNTIFS('Data1984-2026World'!C$3:C$99,$Y44,'Data1984-2026World'!$A$3:$A$99,">="&$W$3)+COUNTIFS('Data1984-2026World'!E$3:E$99,$Y44,'Data1984-2026World'!$A$3:$A$99,">="&$W$3)+COUNTIFS('Data1984-2026World'!G$3:G$99,$Y44,'Data1984-2026World'!$A$3:$A$99,">="&$W$3)+COUNTIFS('Data1984-2026World'!P$3:P$99,$Y44,'Data1984-2026World'!$A$3:$A$99,">="&$W$3) -> 0 | AE44: =COUNTIFS('Data1984-2026World'!J$3:J$99,$Y44,'Data1984-2026World'!$A$3:$A$99,">="&$W$3) -> 0 | AF44: =COUNTIFS('Data1984-2026World'!N$3:N$99,$Y44,'Data1984-2026World'!$A$3:$A$99,">="&$W$3) -> 1 | AG44: =SUM(AD44:AF44) -> 1 | AH44: =COUNTIFS('Data1984-2026World'!K$3:K$99,$Y44,'Data1984-2026World'!$A$3:$A$99,">="&$W$3)+COUNTIFS('Data1984-2026World'!L$3:L$99,$Y44,'Data1984-2026World'!$A$3:$A$99,">="&$W$3) -> 1 | AI44: =AG44+AC44 -> 2 | AJ44: =SUMPRODUCT($Z$3:$AB$3,Z44:AB44)+SUMPRODUCT($AD$3:$AF$3,AD44:AF44)+AH44 -> 5 | AL44: =ROW()-28 -> 16 | AM44: Ospreys | AN44: 3 | AO44: Glasgow | AP44: 5 | AQ44: Stade Francais | AR44: 17 | AS44: =ROW()-28 -> 16
V45: =ROW()-6 -> 39 | W45: TOP14 | X45: Fra | Y45: Lyon | Z45: =COUNTIFS('Data1984-2026World'!B$3:B$99,$Y45,'Data1984-2026World'!$A$3:$A$99,">="&$W$3)+COUNTIFS('Data1984-2026World'!D$3:D$99,$Y45,'Data1984-2026World'!$A$3:$A$99,">="&$W$3)+COUNTIFS('Data1984-2026World'!F$3:F$99,$Y45,'Data1984-2026World'!$A$3:$A$99,">="&$W$3)+COUNTIFS('Data1984-2026World'!O$3:O$99,$Y45,'Data1984-2026World'!$A$3:$A$99,">="&$W$3) -> 0 | AA45: =COUNTIFS('Data1984-2026World'!I$3:I$99,$Y45,'Data1984-2026World'!$A$3:$A$99,">="&$W$3) -> 0 | AB45: =COUNTIFS('Data1984-2026World'!M$3:M$99,$Y45,'Data1984-2026World'!$A$3:$A$99,">="&$W$3) -> 1 | AC45: =SUM(Z45:AB45) -> 1 | AD45: =COUNTIFS('Data1984-2026World'!C$3:C$99,$Y45,'Data1984-2026World'!$A$3:$A$99,">="&$W$3)+COUNTIFS('Data1984-2026World'!E$3:E$99,$Y45,'Data1984-2026World'!$A$3:$A$99,">="&$W$3)+COUNTIFS('Data1984-2026World'!G$3:G$99,$Y45,'Data1984-2026World'!$A$3:$A$99,">="&$W$3)+COUNTIFS('Data1984-2026World'!P$3:P$99,$Y45,'Data1984-2026World'!$A$3:$A$99,">="&$W$3) -> 0 | AE45: =COUNTIFS('Data1984-2026World'!J$3:J$99,$Y45,'Data1984-2026World'!$A$3:$A$99,">="&$W$3) -> 0 | AF45: =COUNTIFS('Data1984-2026World'!N$3:N$99,$Y45,'Data1984-2026World'!$A$3:$A$99,">="&$W$3) -> 1 | AG45: =SUM(AD45:AF45) -> 1 | AH45: =COUNTIFS('Data1984-2026World'!K$3:K$99,$Y45,'Data1984-2026World'!$A$3:$A$99,">="&$W$3)+COUNTIFS('Data1984-2026World'!L$3:L$99,$Y45,'Data1984-2026World'!$A$3:$A$99,">="&$W$3) -> 0 | AI45: =AG45+AC45 -> 2 | AJ45: =SUMPRODUCT($Z$3:$AB$3,Z45:AB45)+SUMPRODUCT($AD$3:$AF$3,AD45:AF45)+AH45 -> 4 | AL45: =ROW()-28 -> 17 | AO45: Gloucester | AP45: 5 | AQ45: Glasgow | AR45: 17 | AS45: =ROW()-28 -> 17
V46: =ROW()-6 -> 40 | W46: URC | X46: Sco | Y46: Edinburgh | Z46: =COUNTIFS('Data1984-2026World'!B$3:B$99,$Y46,'Data1984-2026World'!$A$3:$A$99,">="&$W$3)+COUNTIFS('Data1984-2026World'!D$3:D$99,$Y46,'Data1984-2026World'!$A$3:$A$99,">="&$W$3)+COUNTIFS('Data1984-2026World'!F$3:F$99,$Y46,'Data1984-2026World'!$A$3:$A$99,">="&$W$3)+COUNTIFS('Data1984-2026World'!O$3:O$99,$Y46,'Data1984-2026World'!$A$3:$A$99,">="&$W$3) -> 0 | AA46: =COUNTIFS('Data1984-2026World'!I$3:I$99,$Y46,'Data1984-2026World'!$A$3:$A$99,">="&$W$3) -> 0 | AB46: =COUNTIFS('Data1984-2026World'!M$3:M$99,$Y46,'Data1984-2026World'!$A$3:$A$99,">="&$W$3) -> 0 | AC46: =SUM(Z46:AB46) -> 0 | AD46: =COUNTIFS('Data1984-2026World'!C$3:C$99,$Y46,'Data1984-2026World'!$A$3:$A$99,">="&$W$3)+COUNTIFS('Data1984-2026World'!E$3:E$99,$Y46,'Data1984-2026World'!$A$3:$A$99,">="&$W$3)+COUNTIFS('Data1984-2026World'!G$3:G$99,$Y46,'Data1984-2026World'!$A$3:$A$99,">="&$W$3)+COUNTIFS('Data1984-2026World'!P$3:P$99,$Y46,'Data1984-2026World'!$A$3:$A$99,">="&$W$3) -> 1 | AE46: =COUNTIFS('Data1984-2026World'!J$3:J$99,$Y46,'Data1984-2026World'!$A$3:$A$99,">="&$W$3) -> 0 | AF46: =COUNTIFS('Data1984-2026World'!N$3:N$99,$Y46,'Data1984-2026World'!$A$3:$A$99,">="&$W$3) -> 1 | AG46: =SUM(AD46:AF46) -> 2 | AH46: =COUNTIFS('Data1984-2026World'!K$3:K$99,$Y46,'Data1984-2026World'!$A$3:$A$99,">="&$W$3)+COUNTIFS('Data1984-2026World'!L$3:L$99,$Y46,'Data1984-2026World'!$A$3:$A$99,">="&$W$3) -> 1 | AI46: =AG46+AC46 -> 2 | AJ46: =SUMPRODUCT($Z$3:$AB$3,Z46:AB46)+SUMPRODUCT($AD$3:$AF$3,AD46:AF46)+AH46 -> 4 | AL46: =ROW()-28 -> 18 | AQ46: Harlequins | AR46: 17 | AS46: =ROW()-28 -> 18
V47: =ROW()-6 -> 41 | W47: Prem | X47: Eng | Y47: London Irish | Z47: =COUNTIFS('Data1984-2026World'!B$3:B$99,$Y47,'Data1984-2026World'!$A$3:$A$99,">="&$W$3)+COUNTIFS('Data1984-2026World'!D$3:D$99,$Y47,'Data1984-2026World'!$A$3:$A$99,">="&$W$3)+COUNTIFS('Data1984-2026World'!F$3:F$99,$Y47,'Data1984-2026World'!$A$3:$A$99,">="&$W$3)+COUNTIFS('Data1984-2026World'!O$3:O$99,$Y47,'Data1984-2026World'!$A$3:$A$99,">="&$W$3) -> 0 | AA47: =COUNTIFS('Data1984-2026World'!I$3:I$99,$Y47,'Data1984-2026World'!$A$3:$A$99,">="&$W$3) -> 0 | AB47: =COUNTIFS('Data1984-2026World'!M$3:M$99,$Y47,'Data1984-2026World'!$A$3:$A$99,">="&$W$3) -> 0 | AC47: =SUM(Z47:AB47) -> 0 | AD47: =COUNTIFS('Data1984-2026World'!C$3:C$99,$Y47,'Data1984-2026World'!$A$3:$A$99,">="&$W$3)+COUNTIFS('Data1984-2026World'!E$3:E$99,$Y47,'Data1984-2026World'!$A$3:$A$99,">="&$W$3)+COUNTIFS('Data1984-2026World'!G$3:G$99,$Y47,'Data1984-2026World'!$A$3:$A$99,">="&$W$3)+COUNTIFS('Data1984-2026World'!P$3:P$99,$Y47,'Data1984-2026World'!$A$3:$A$99,">="&$W$3) -> 1 | AE47: =COUNTIFS('Data1984-2026World'!J$3:J$99,$Y47,'Data1984-2026World'!$A$3:$A$99,">="&$W$3) -> 0 | AF47: =COUNTIFS('Data1984-2026World'!N$3:N$99,$Y47,'Data1984-2026World'!$A$3:$A$99,">="&$W$3) -> 1 | AG47: =SUM(AD47:AF47) -> 2 | AH47: =COUNTIFS('Data1984-2026World'!K$3:K$99,$Y47,'Data1984-2026World'!$A$3:$A$99,">="&$W$3)+COUNTIFS('Data1984-2026World'!L$3:L$99,$Y47,'Data1984-2026World'!$A$3:$A$99,">="&$W$3) -> 1 | AI47: =AG47+AC47 -> 2 | AJ47: =SUMPRODUCT($Z$3:$AB$3,Z47:AB47)+SUMPRODUCT($AD$3:$AF$3,AD47:AF47)+AH47 -> 4 | AL47: =ROW()-28 -> 19 | AQ47: Wasps | AR47: 17 | AS47: =ROW()-28 -> 19
V48: =ROW()-6 -> 42 | W48: Prem | X48: Eng | Y48: Bristol | Z48: =COUNTIFS('Data1984-2026World'!B$3:B$99,$Y48,'Data1984-2026World'!$A$3:$A$99,">="&$W$3)+COUNTIFS('Data1984-2026World'!D$3:D$99,$Y48,'Data1984-2026World'!$A$3:$A$99,">="&$W$3)+COUNTIFS('Data1984-2026World'!F$3:F$99,$Y48,'Data1984-2026World'!$A$3:$A$99,">="&$W$3)+COUNTIFS('Data1984-2026World'!O$3:O$99,$Y48,'Data1984-2026World'!$A$3:$A$99,">="&$W$3) -> 0 | AA48: =COUNTIFS('Data1984-2026World'!I$3:I$99,$Y48,'Data1984-2026World'!$A$3:$A$99,">="&$W$3) -> 0 | AB48: =COUNTIFS('Data1984-2026World'!M$3:M$99,$Y48,'Data1984-2026World'!$A$3:$A$99,">="&$W$3) -> 1 | AC48: =SUM(Z48:AB48) -> 1 | AD48: =COUNTIFS('Data1984-2026World'!C$3:C$99,$Y48,'Data1984-2026World'!$A$3:$A$99,">="&$W$3)+COUNTIFS('Data1984-2026World'!E$3:E$99,$Y48,'Data1984-2026World'!$A$3:$A$99,">="&$W$3)+COUNTIFS('Data1984-2026World'!G$3:G$99,$Y48,'Data1984-2026World'!$A$3:$A$99,">="&$W$3)+COUNTIFS('Data1984-2026World'!P$3:P$99,$Y48,'Data1984-2026World'!$A$3:$A$99,">="&$W$3) -> 0 | AE48: =COUNTIFS('Data1984-2026World'!J$3:J$99,$Y48,'Data1984-2026World'!$A$3:$A$99,">="&$W$3) -> 0 | AF48: =COUNTIFS('Data1984-2026World'!N$3:N$99,$Y48,'Data1984-2026World'!$A$3:$A$99,">="&$W$3) -> 0 | AG48: =SUM(AD48:AF48) -> 0 | AH48: =COUNTIFS('Data1984-2026World'!K$3:K$99,$Y48,'Data1984-2026World'!$A$3:$A$99,">="&$W$3)+COUNTIFS('Data1984-2026World'!L$3:L$99,$Y48,'Data1984-2026World'!$A$3:$A$99,">="&$W$3) -> 0 | AI48: =AG48+AC48 -> 1 | AJ48: =SUMPRODUCT($Z$3:$AB$3,Z48:AB48)+SUMPRODUCT($AD$3:$AF$3,AD48:AF48)+AH48 -> 3 | AL48: =ROW()-28 -> 20 | AQ48: Bordeaux | AR48: 17 | AS48: =ROW()-28 -> 20
V49: =ROW()-6 -> 43 | W49: TOP14 | X49: Fra | Y49: Agen | Z49: =COUNTIFS('Data1984-2026World'!B$3:B$99,$Y49,'Data1984-2026World'!$A$3:$A$99,">="&$W$3)+COUNTIFS('Data1984-2026World'!D$3:D$99,$Y49,'Data1984-2026World'!$A$3:$A$99,">="&$W$3)+COUNTIFS('Data1984-2026World'!F$3:F$99,$Y49,'Data1984-2026World'!$A$3:$A$99,">="&$W$3)+COUNTIFS('Data1984-2026World'!O$3:O$99,$Y49,'Data1984-2026World'!$A$3:$A$99,">="&$W$3) -> 0 | AA49: =COUNTIFS('Data1984-2026World'!I$3:I$99,$Y49,'Data1984-2026World'!$A$3:$A$99,">="&$W$3) -> 0 | AB49: =COUNTIFS('Data1984-2026World'!M$3:M$99,$Y49,'Data1984-2026World'!$A$3:$A$99,">="&$W$3) -> 0 | AC49: =SUM(Z49:AB49) -> 0 | AD49: =COUNTIFS('Data1984-2026World'!C$3:C$99,$Y49,'Data1984-2026World'!$A$3:$A$99,">="&$W$3)+COUNTIFS('Data1984-2026World'!E$3:E$99,$Y49,'Data1984-2026World'!$A$3:$A$99,">="&$W$3)+COUNTIFS('Data1984-2026World'!G$3:G$99,$Y49,'Data1984-2026World'!$A$3:$A$99,">="&$W$3)+COUNTIFS('Data1984-2026World'!P$3:P$99,$Y49,'Data1984-2026World'!$A$3:$A$99,">="&$W$3) -> 1 | AE49: =COUNTIFS('Data1984-2026World'!J$3:J$99,$Y49,'Data1984-2026World'!$A$3:$A$99,">="&$W$3) -> 0 | AF49: =COUNTIFS('Data1984-2026World'!N$3:N$99,$Y49,'Data1984-2026World'!$A$3:$A$99,">="&$W$3) -> 1 | AG49: =SUM(AD49:AF49) -> 2 | AH49: =COUNTIFS('Data1984-2026World'!K$3:K$99,$Y49,'Data1984-2026World'!$A$3:$A$99,">="&$W$3)+COUNTIFS('Data1984-2026World'!L$3:L$99,$Y49,'Data1984-2026World'!$A$3:$A$99,">="&$W$3) -> 0 | AI49: =AG49+AC49 -> 2 | AJ49: =SUMPRODUCT($Z$3:$AB$3,Z49:AB49)+SUMPRODUCT($AD$3:$AF$3,AD49:AF49)+AH49 -> 3 | AL49: =ROW()-28 -> 21 | AQ49: Castres | AR49: 16 | AS49: =ROW()-28 -> 21
V50: =ROW()-6 -> 44 | W50: Prem | X50: Eng | Y50: Worcester | Z50: =COUNTIFS('Data1984-2026World'!B$3:B$99,$Y50,'Data1984-2026World'!$A$3:$A$99,">="&$W$3)+COUNTIFS('Data1984-2026World'!D$3:D$99,$Y50,'Data1984-2026World'!$A$3:$A$99,">="&$W$3)+COUNTIFS('Data1984-2026World'!F$3:F$99,$Y50,'Data1984-2026World'!$A$3:$A$99,">="&$W$3)+COUNTIFS('Data1984-2026World'!O$3:O$99,$Y50,'Data1984-2026World'!$A$3:$A$99,">="&$W$3) -> 0 | AA50: =COUNTIFS('Data1984-2026World'!I$3:I$99,$Y50,'Data1984-2026World'!$A$3:$A$99,">="&$W$3) -> 0 | AB50: =COUNTIFS('Data1984-2026World'!M$3:M$99,$Y50,'Data1984-2026World'!$A$3:$A$99,">="&$W$3) -> 0 | AC50: =SUM(Z50:AB50) -> 0 | AD50: =COUNTIFS('Data1984-2026World'!C$3:C$99,$Y50,'Data1984-2026World'!$A$3:$A$99,">="&$W$3)+COUNTIFS('Data1984-2026World'!E$3:E$99,$Y50,'Data1984-2026World'!$A$3:$A$99,">="&$W$3)+COUNTIFS('Data1984-2026World'!G$3:G$99,$Y50,'Data1984-2026World'!$A$3:$A$99,">="&$W$3)+COUNTIFS('Data1984-2026World'!P$3:P$99,$Y50,'Data1984-2026World'!$A$3:$A$99,">="&$W$3) -> 0 | AE50: =COUNTIFS('Data1984-2026World'!J$3:J$99,$Y50,'Data1984-2026World'!$A$3:$A$99,">="&$W$3) -> 0 | AF50: =COUNTIFS('Data1984-2026World'!N$3:N$99,$Y50,'Data1984-2026World'!$A$3:$A$99,">="&$W$3) -> 1 | AG50: =SUM(AD50:AF50) -> 1 | AH50: =COUNTIFS('Data1984-2026World'!K$3:K$99,$Y50,'Data1984-2026World'!$A$3:$A$99,">="&$W$3)+COUNTIFS('Data1984-2026World'!L$3:L$99,$Y50,'Data1984-2026World'!$A$3:$A$99,">="&$W$3) -> 0 | AI50: =AG50+AC50 -> 1 | AJ50: =SUMPRODUCT($Z$3:$AB$3,Z50:AB50)+SUMPRODUCT($AD$3:$AF$3,AD50:AF50)+AH50 -> 1
V51: =ROW()-6 -> 45 | W51: TOP14 | X51: Fra | Y51: Narbonne | Z51: =COUNTIFS('Data1984-2026World'!B$3:B$99,$Y51,'Data1984-2026World'!$A$3:$A$99,">="&$W$3)+COUNTIFS('Data1984-2026World'!D$3:D$99,$Y51,'Data1984-2026World'!$A$3:$A$99,">="&$W$3)+COUNTIFS('Data1984-2026World'!F$3:F$99,$Y51,'Data1984-2026World'!$A$3:$A$99,">="&$W$3)+COUNTIFS('Data1984-2026World'!O$3:O$99,$Y51,'Data1984-2026World'!$A$3:$A$99,">="&$W$3) -> 0 | AA51: =COUNTIFS('Data1984-2026World'!I$3:I$99,$Y51,'Data1984-2026World'!$A$3:$A$99,">="&$W$3) -> 0 | AB51: =COUNTIFS('Data1984-2026World'!M$3:M$99,$Y51,'Data1984-2026World'!$A$3:$A$99,">="&$W$3) -> 0 | AC51: =SUM(Z51:AB51) -> 0 | AD51: =COUNTIFS('Data1984-2026World'!C$3:C$99,$Y51,'Data1984-2026World'!$A$3:$A$99,">="&$W$3)+COUNTIFS('Data1984-2026World'!E$3:E$99,$Y51,'Data1984-2026World'!$A$3:$A$99,">="&$W$3)+COUNTIFS('Data1984-2026World'!G$3:G$99,$Y51,'Data1984-2026World'!$A$3:$A$99,">="&$W$3)+COUNTIFS('Data1984-2026World'!P$3:P$99,$Y51,'Data1984-2026World'!$A$3:$A$99,">="&$W$3) -> 0 | AE51: =COUNTIFS('Data1984-2026World'!J$3:J$99,$Y51,'Data1984-2026World'!$A$3:$A$99,">="&$W$3) -> 0 | AF51: =COUNTIFS('Data1984-2026World'!N$3:N$99,$Y51,'Data1984-2026World'!$A$3:$A$99,">="&$W$3) -> 1 | AG51: =SUM(AD51:AF51) -> 1 | AH51: =COUNTIFS('Data1984-2026World'!K$3:K$99,$Y51,'Data1984-2026World'!$A$3:$A$99,">="&$W$3)+COUNTIFS('Data1984-2026World'!L$3:L$99,$Y51,'Data1984-2026World'!$A$3:$A$99,">="&$W$3) -> 0 | AI51: =AG51+AC51 -> 1 | AJ51: =SUMPRODUCT($Z$3:$AB$3,Z51:AB51)+SUMPRODUCT($AD$3:$AF$3,AD51:AF51)+AH51 -> 1
V52: =ROW()-6 -> 46 | W52: URC | X52: Wal | Y52: Pontypridd | Z52: =COUNTIFS('Data1984-2026World'!B$3:B$99,$Y52,'Data1984-2026World'!$A$3:$A$99,">="&$W$3)+COUNTIFS('Data1984-2026World'!D$3:D$99,$Y52,'Data1984-2026World'!$A$3:$A$99,">="&$W$3)+COUNTIFS('Data1984-2026World'!F$3:F$99,$Y52,'Data1984-2026World'!$A$3:$A$99,">="&$W$3)+COUNTIFS('Data1984-2026World'!O$3:O$99,$Y52,'Data1984-2026World'!$A$3:$A$99,">="&$W$3) -> 0 | AA52: =COUNTIFS('Data1984-2026World'!I$3:I$99,$Y52,'Data1984-2026World'!$A$3:$A$99,">="&$W$3) -> 0 | AB52: =COUNTIFS('Data1984-2026World'!M$3:M$99,$Y52,'Data1984-2026World'!$A$3:$A$99,">="&$W$3) -> 0 | AC52: =SUM(Z52:AB52) -> 0 | AD52: =COUNTIFS('Data1984-2026World'!C$3:C$99,$Y52,'Data1984-2026World'!$A$3:$A$99,">="&$W$3)+COUNTIFS('Data1984-2026World'!E$3:E$99,$Y52,'Data1984-2026World'!$A$3:$A$99,">="&$W$3)+COUNTIFS('Data1984-2026World'!G$3:G$99,$Y52,'Data1984-2026World'!$A$3:$A$99,">="&$W$3)+COUNTIFS('Data1984-2026World'!P$3:P$99,$Y52,'Data1984-2026World'!$A$3:$A$99,">="&$W$3) -> 0 | AE52: =COUNTIFS('Data1984-2026World'!J$3:J$99,$Y52,'Data1984-2026World'!$A$3:$A$99,">="&$W$3) -> 0 | AF52: =COUNTIFS('Data1984-2026World'!N$3:N$99,$Y52,'Data1984-2026World'!$A$3:$A$99,">="&$W$3) -> 1 | AG52: =SUM(AD52:AF52) -> 1 | AH52: =COUNTIFS('Data1984-2026World'!K$3:K$99,$Y52,'Data1984-2026World'!$A$3:$A$99,">="&$W$3)+COUNTIFS('Data1984-2026World'!L$3:L$99,$Y52,'Data1984-2026World'!$A$3:$A$99,">="&$W$3) -> 0 | AI52: =AG52+AC52 -> 1 | AJ52: =SUMPRODUCT($Z$3:$AB$3,Z52:AB52)+SUMPRODUCT($AD$3:$AF$3,AD52:AF52)+AH52 -> 1
V53: =ROW()-6 -> 47 | W53: TOP14 | X53: Fra | Y53: Beziers | Z53: =COUNTIFS('Data1984-2026World'!B$3:B$99,$Y53,'Data1984-2026World'!$A$3:$A$99,">="&$W$3)+COUNTIFS('Data1984-2026World'!D$3:D$99,$Y53,'Data1984-2026World'!$A$3:$A$99,">="&$W$3)+COUNTIFS('Data1984-2026World'!F$3:F$99,$Y53,'Data1984-2026World'!$A$3:$A$99,">="&$W$3)+COUNTIFS('Data1984-2026World'!O$3:O$99,$Y53,'Data1984-2026World'!$A$3:$A$99,">="&$W$3) -> 0 | AA53: =COUNTIFS('Data1984-2026World'!I$3:I$99,$Y53,'Data1984-2026World'!$A$3:$A$99,">="&$W$3) -> 0 | AB53: =COUNTIFS('Data1984-2026World'!M$3:M$99,$Y53,'Data1984-2026World'!$A$3:$A$99,">="&$W$3) -> 0 | AC53: =SUM(Z53:AB53) -> 0 | AD53: =COUNTIFS('Data1984-2026World'!C$3:C$99,$Y53,'Data1984-2026World'!$A$3:$A$99,">="&$W$3)+COUNTIFS('Data1984-2026World'!E$3:E$99,$Y53,'Data1984-2026World'!$A$3:$A$99,">="&$W$3)+COUNTIFS('Data1984-2026World'!G$3:G$99,$Y53,'Data1984-2026World'!$A$3:$A$99,">="&$W$3)+COUNTIFS('Data1984-2026World'!P$3:P$99,$Y53,'Data1984-2026World'!$A$3:$A$99,">="&$W$3) -> 0 | AE53: =COUNTIFS('Data1984-2026World'!J$3:J$99,$Y53,'Data1984-2026World'!$A$3:$A$99,">="&$W$3) -> 0 | AF53: =COUNTIFS('Data1984-2026World'!N$3:N$99,$Y53,'Data1984-2026World'!$A$3:$A$99,">="&$W$3) -> 0 | AG53: =SUM(AD53:AF53) -> 0 | AH53: =COUNTIFS('Data1984-2026World'!K$3:K$99,$Y53,'Data1984-2026World'!$A$3:$A$99,">="&$W$3)+COUNTIFS('Data1984-2026World'!L$3:L$99,$Y53,'Data1984-2026World'!$A$3:$A$99,">="&$W$3) -> 0 | AI53: =AG53+AC53 -> 0 | AJ53: =SUMPRODUCT($Z$3:$AB$3,Z53:AB53)+SUMPRODUCT($AD$3:$AF$3,AD53:AF53)+AH53 -> 0
V54: =ROW()-6 -> 48 | W54: Prem | X54: Eng | Y54: Orrell | Z54: =COUNTIFS('Data1984-2026World'!B$3:B$99,$Y54,'Data1984-2026World'!$A$3:$A$99,">="&$W$3)+COUNTIFS('Data1984-2026World'!D$3:D$99,$Y54,'Data1984-2026World'!$A$3:$A$99,">="&$W$3)+COUNTIFS('Data1984-2026World'!F$3:F$99,$Y54,'Data1984-2026World'!$A$3:$A$99,">="&$W$3)+COUNTIFS('Data1984-2026World'!O$3:O$99,$Y54,'Data1984-2026World'!$A$3:$A$99,">="&$W$3) -> 0 | AA54: =COUNTIFS('Data1984-2026World'!I$3:I$99,$Y54,'Data1984-2026World'!$A$3:$A$99,">="&$W$3) -> 0 | AB54: =COUNTIFS('Data1984-2026World'!M$3:M$99,$Y54,'Data1984-2026World'!$A$3:$A$99,">="&$W$3) -> 0 | AC54: =SUM(Z54:AB54) -> 0 | AD54: =COUNTIFS('Data1984-2026World'!C$3:C$99,$Y54,'Data1984-2026World'!$A$3:$A$99,">="&$W$3)+COUNTIFS('Data1984-2026World'!E$3:E$99,$Y54,'Data1984-2026World'!$A$3:$A$99,">="&$W$3)+COUNTIFS('Data1984-2026World'!G$3:G$99,$Y54,'Data1984-2026World'!$A$3:$A$99,">="&$W$3)+COUNTIFS('Data1984-2026World'!P$3:P$99,$Y54,'Data1984-2026World'!$A$3:$A$99,">="&$W$3) -> 0 | AE54: =COUNTIFS('Data1984-2026World'!J$3:J$99,$Y54,'Data1984-2026World'!$A$3:$A$99,">="&$W$3) -> 0 | AF54: =COUNTIFS('Data1984-2026World'!N$3:N$99,$Y54,'Data1984-2026World'!$A$3:$A$99,">="&$W$3) -> 0 | AG54: =SUM(AD54:AF54) -> 0 | AH54: =COUNTIFS('Data1984-2026World'!K$3:K$99,$Y54,'Data1984-2026World'!$A$3:$A$99,">="&$W$3)+COUNTIFS('Data1984-2026World'!L$3:L$99,$Y54,'Data1984-2026World'!$A$3:$A$99,">="&$W$3) -> 0 | AI54: =AG54+AC54 -> 0 | AJ54: =SUMPRODUCT($Z$3:$AB$3,Z54:AB54)+SUMPRODUCT($AD$3:$AF$3,AD54:AF54)+AH54 -> 0
V55: =ROW()-6 -> 49 | W55: TOP14 | X55: Fra | Y55: Grenoble | Z55: =COUNTIFS('Data1984-2026World'!B$3:B$99,$Y55,'Data1984-2026World'!$A$3:$A$99,">="&$W$3)+COUNTIFS('Data1984-2026World'!D$3:D$99,$Y55,'Data1984-2026World'!$A$3:$A$99,">="&$W$3)+COUNTIFS('Data1984-2026World'!F$3:F$99,$Y55,'Data1984-2026World'!$A$3:$A$99,">="&$W$3)+COUNTIFS('Data1984-2026World'!O$3:O$99,$Y55,'Data1984-2026World'!$A$3:$A$99,">="&$W$3) -> 0 | AA55: =COUNTIFS('Data1984-2026World'!I$3:I$99,$Y55,'Data1984-2026World'!$A$3:$A$99,">="&$W$3) -> 0 | AB55: =COUNTIFS('Data1984-2026World'!M$3:M$99,$Y55,'Data1984-2026World'!$A$3:$A$99,">="&$W$3) -> 0 | AC55: =SUM(Z55:AB55) -> 0 | AD55: =COUNTIFS('Data1984-2026World'!C$3:C$99,$Y55,'Data1984-2026World'!$A$3:$A$99,">="&$W$3)+COUNTIFS('Data1984-2026World'!E$3:E$99,$Y55,'Data1984-2026World'!$A$3:$A$99,">="&$W$3)+COUNTIFS('Data1984-2026World'!G$3:G$99,$Y55,'Data1984-2026World'!$A$3:$A$99,">="&$W$3)+COUNTIFS('Data1984-2026World'!P$3:P$99,$Y55,'Data1984-2026World'!$A$3:$A$99,">="&$W$3) -> 0 | AE55: =COUNTIFS('Data1984-2026World'!J$3:J$99,$Y55,'Data1984-2026World'!$A$3:$A$99,">="&$W$3) -> 0 | AF55: =COUNTIFS('Data1984-2026World'!N$3:N$99,$Y55,'Data1984-2026World'!$A$3:$A$99,">="&$W$3) -> 0 | AG55: =SUM(AD55:AF55) -> 0 | AH55: =COUNTIFS('Data1984-2026World'!K$3:K$99,$Y55,'Data1984-2026World'!$A$3:$A$99,">="&$W$3)+COUNTIFS('Data1984-2026World'!L$3:L$99,$Y55,'Data1984-2026World'!$A$3:$A$99,">="&$W$3) -> 0 | AI55: =AG55+AC55 -> 0 | AJ55: =SUMPRODUCT($Z$3:$AB$3,Z55:AB55)+SUMPRODUCT($AD$3:$AF$3,AD55:AF55)+AH55 -> 0
V56: =ROW()-6 -> 50 | W56: TOP14 | X56: Fra | Y56: Tarbais | Z56: =COUNTIFS('Data1984-2026World'!B$3:B$99,$Y56,'Data1984-2026World'!$A$3:$A$99,">="&$W$3)+COUNTIFS('Data1984-2026World'!D$3:D$99,$Y56,'Data1984-2026World'!$A$3:$A$99,">="&$W$3)+COUNTIFS('Data1984-2026World'!F$3:F$99,$Y56,'Data1984-2026World'!$A$3:$A$99,">="&$W$3)+COUNTIFS('Data1984-2026World'!O$3:O$99,$Y56,'Data1984-2026World'!$A$3:$A$99,">="&$W$3) -> 0 | AA56: =COUNTIFS('Data1984-2026World'!I$3:I$99,$Y56,'Data1984-2026World'!$A$3:$A$99,">="&$W$3) -> 0 | AB56: =COUNTIFS('Data1984-2026World'!M$3:M$99,$Y56,'Data1984-2026World'!$A$3:$A$99,">="&$W$3) -> 0 | AC56: =SUM(Z56:AB56) -> 0 | AD56: =COUNTIFS('Data1984-2026World'!C$3:C$99,$Y56,'Data1984-2026World'!$A$3:$A$99,">="&$W$3)+COUNTIFS('Data1984-2026World'!E$3:E$99,$Y56,'Data1984-2026World'!$A$3:$A$99,">="&$W$3)+COUNTIFS('Data1984-2026World'!G$3:G$99,$Y56,'Data1984-2026World'!$A$3:$A$99,">="&$W$3)+COUNTIFS('Data1984-2026World'!P$3:P$99,$Y56,'Data1984-2026World'!$A$3:$A$99,">="&$W$3) -> 0 | AE56: =COUNTIFS('Data1984-2026World'!J$3:J$99,$Y56,'Data1984-2026World'!$A$3:$A$99,">="&$W$3) -> 0 | AF56: =COUNTIFS('Data1984-2026World'!N$3:N$99,$Y56,'Data1984-2026World'!$A$3:$A$99,">="&$W$3) -> 0 | AG56: =SUM(AD56:AF56) -> 0 | AH56: =COUNTIFS('Data1984-2026World'!K$3:K$99,$Y56,'Data1984-2026World'!$A$3:$A$99,">="&$W$3)+COUNTIFS('Data1984-2026World'!L$3:L$99,$Y56,'Data1984-2026World'!$A$3:$A$99,">="&$W$3) -> 0 | AI56: =AG56+AC56 -> 0 | AJ56: =SUMPRODUCT($Z$3:$AB$3,Z56:AB56)+SUMPRODUCT($AD$3:$AF$3,AD56:AF56)+AH56 -> 0

Sheet WorldCups
B2: 10 Rugby World Cups (Mens) | I2: Summary | K2: Winner | L2: Runner Up | M2: Semi Final | N2: Quarter Final | O2: Group/PlayOff | P2: Did Not Qualify | Q2: Total Points | W2: Stage | X2: Year | Y2: 6N | Z2: SH | AA2: Winner | AB2: Matchup | AC2: Argentina | AE2: Matchup | AF2: Total | AG2: Pool | AH2: KO | AI2: 1st
W3: 0.Grp | X3: 1987 | Y3: Argentina | Z3: New Zealand | AA3: New Zealand | AB3: =Y3&" v "&Z3 -> Argentina v New Zealand | AC3: =IF(ISERROR(SEARCH($AC$2,AB3)),0,1) -> 1 | AE3: France v New Zealand | AF3: =COUNTIF(AB:AB,AE3) -> 8 | AG3: =COUNTIFS(AB:AB,AE3,W:W,"Pool") -> 0 | AH3: =AF3-AG3 -> 8 | AI3: =COUNTIFS(AA:AA,LEFT(AE3,SEARCH(" v ",AE3)-1),AB:AB,AE3) -> 3
B4: Where | C4: Year | D4: Winner | E4: Runner Up | F4: Semi Finalists | I4: =ROW()-3 -> 1 | J4: New Zealand | K4: 3 | L4: 2 | M4: 4 | N4: 1 | O4: 0 | P4: 0 | Q4: =SUMPRODUCT(K4:P4,$K$21:$P$21) -> 41 | W4: 0.Grp | X4: 1987 | Y4: England | Z4: Australia | AA4: Australia | AB4: =Y4&" v "&Z4 -> England v Australia | AC4: =IF(ISERROR(SEARCH($AC$2,AB4)),0,1) -> 0 | AE4: Wales v Australia | AF4: =COUNTIF(AB:AB,AE4) -> 8 | AG4: =COUNTIFS(AB:AB,AE4,W:W,"Pool") -> 0 | AH4: =AF4-AG4 -> 8 | AI4: =COUNTIFS(AA:AA,LEFT(AE4,SEARCH(" v ",AE4)-1),AB:AB,AE4) -> 3
B5: New Zealand | C5: 1987 | D5: New Zealand | E5: France | F5: Wales | G5: Australia | I5: =ROW()-3 -> 2 | J5: South Africa | K5: 4 | L5: 0 | M5: 2 | N5: 2 | O5: 0 | P5: 2 | Q5: =SUMPRODUCT(K5:P5,$K$21:$P$21) -> 38 | W5: 0.Grp | X5: 1987 | Y5: Italy | Z5: New Zealand | AA5: New Zealand | AB5: =Y5&" v "&Z5 -> Italy v New Zealand | AC5: =IF(ISERROR(SEARCH($AC$2,AB5)),0,1) -> 0 | AE5: England v Australia | AF5: =COUNTIF(AB:AB,AE5) -> 7 | AG5: =COUNTIFS(AB:AB,AE5,W:W,"Pool") -> 0 | AH5: =AF5-AG5 -> 7 | AI5: =COUNTIFS(AA:AA,LEFT(AE5,SEARCH(" v ",AE5)-1),AB:AB,AE5) -> 4
B6: England | C6: 1991 | D6: Australia | E6: England | F6: New Zealand | G6: Scotland | I6: =ROW()-3 -> 3 | J6: Australia | K6: 2 | L6: 2 | M6: 2 | N6: 3 | O6: 1 | P6: 0 | Q6: =SUMPRODUCT(K6:P6,$K$21:$P$21) -> 31 | W6: 0.Grp | X6: 1987 | Y6: Italy | Z6: Argentina | AA6: Argentina | AB6: =Y6&" v "&Z6 -> Italy v Argentina | AC6: =IF(ISERROR(SEARCH($AC$2,AB6)),0,1) -> 1 | AE6: South Africa v New Zealand | AF6: =COUNTIF(AB:AB,AE6) -> 6 | AG6: =COUNTIFS(AB:AB,AE6,W:W,"Pool") -> 0 | AH6: =AF6-AG6 -> 6 | AI6: =COUNTIFS(AA:AA,LEFT(AE6,SEARCH(" v ",AE6)-1),AB:AB,AE6) -> 3
B7: South Africa | C7: 1995 | D7: South Africa | E7: New Zealand | F7: France | G7: England | I7: =ROW()-3 -> 4 | J7: England | K7: 1 | L7: 3 | M7: 2 | N7: 3 | O7: 1 | P7: 0 | Q7: =SUMPRODUCT(K7:P7,$K$21:$P$21) -> 27 | W7: 0.Grp | X7: 1987 | Y7: Scotland | Z7: France | AA7: Draw | AB7: =Y7&" v "&Z7 -> Scotland v France | AC7: =IF(ISERROR(SEARCH($AC$2,AB7)),0,1) -> 0 | AE7: England v South Africa | AF7: =COUNTIF(AB:AB,AE7) -> 6 | AG7: =COUNTIFS(AB:AB,AE7,W:W,"Pool") -> 0 | AH7: =AF7-AG7 -> 6 | AI7: =COUNTIFS(AA:AA,LEFT(AE7,SEARCH(" v ",AE7)-1),AB:AB,AE7) -> 1
B8: Wales | C8: 1999 | D8: Australia | E8: France | F8: New Zealand | G8: South Africa | I8: =ROW()-3 -> 5 | J8: France | K8: 0 | L8: 3 | M8: 3 | N8: 4 | O8: 0 | P8: 0 | Q8: =SUMPRODUCT(K8:P8,$K$21:$P$21) -> 22 | W8: 0.Grp | X8: 1987 | Y8: Wales | Z8: Ireland | AA8: Wales | AB8: =Y8&" v "&Z8 -> Wales v Ireland | AC8: =IF(ISERROR(SEARCH($AC$2,AB8)),0,1) -> 0 | AE8: Italy v New Zealand | AF8: =COUNTIF(AB:AB,AE8) -> 6 | AG8: =COUNTIFS(AB:AB,AE8,W:W,"Pool") -> 0 | AH8: =AF8-AG8 -> 6 | AI8: =COUNTIFS(AA:AA,LEFT(AE8,SEARCH(" v ",AE8)-1),AB:AB,AE8) -> 0
B9: Australia | C9: 2003 | D9: England | E9: Australia | F9: New Zealand | G9: France | I9: =ROW()-3 -> 6 | J9: Wales | K9: 0 | L9: 0 | M9: 3 | N9: 4 | O9: 3 | P9: 0 | Q9: =SUMPRODUCT(K9:P9,$K$21:$P$21) -> 10 | W9: 2.QF | X9: 1987 | Y9: England | Z9: Wales | AA9: Wales | AB9: =Y9&" v "&Z9 -> England v Wales | AC9: =IF(ISERROR(SEARCH($AC$2,AB9)),0,1) -> 0 | AE9: England v France | AF9: =COUNTIF(AB:AB,AE9) -> 5 | AG9: =COUNTIFS(AB:AB,AE9,W:W,"Pool") -> 0 | AH9: =AF9-AG9 -> 5 | AI9: =COUNTIFS(AA:AA,LEFT(AE9,SEARCH(" v ",AE9)-1),AB:AB,AE9) -> 3
B10: France | C10: 2007 | D10: South Africa | E10: England | F10: Argentina | G10: France | I10: =ROW()-3 -> 7 | J10: Argentina | K10: 0 | L10: 0 | M10: 3 | N10: 2 | O10: 5 | P10: 0 | Q10: =SUMPRODUCT(K10:P10,$K$21:$P$21) -> 8 | W10: 2.QF | X10: 1987 | Y10: France | Z10: Fiji | AA10: France | AB10: =Y10&" v "&Z10 -> France v Fiji | AC10: =IF(ISERROR(SEARCH($AC$2,AB10)),0,1) -> 0 | AE10: Scotland v New Zealand | AF10: =COUNTIF(AB:AB,AE10) -> 5 | AG10: =COUNTIFS(AB:AB,AE10,W:W,"Pool") -> 0 | AH10: =AF10-AG10 -> 5 | AI10: =COUNTIFS(AA:AA,LEFT(AE10,SEARCH(" v ",AE10)-1),AB:AB,AE10) -> 0
B11: New Zealand | C11: 2011 | D11: New Zealand | E11: France | F11: Australia | G11: Wales | I11: =ROW()-3 -> 8 | J11: Scotland | K11: 0 | L11: 0 | M11: 1 | N11: 6 | O11: 3 | P11: 0 | Q11: =SUMPRODUCT(K11:P11,$K$21:$P$21) -> 8 | W11: 2.QF | X11: 1987 | Y11: Ireland | Z11: Australia | AA11: Australia | AB11: =Y11&" v "&Z11 -> Ireland v Australia | AC11: =IF(ISERROR(SEARCH($AC$2,AB11)),0,1) -> 0 | AE11: Ireland v Australia | AF11: =COUNTIF(AB:AB,AE11) -> 5 | AG11: =COUNTIFS(AB:AB,AE11,W:W,"Pool") -> 0 | AH11: =AF11-AG11 -> 5 | AI11: =COUNTIFS(AA:AA,LEFT(AE11,SEARCH(" v ",AE11)-1),AB:AB,AE11) -> 1
B12: England | C12: 2015 | D12: New Zealand | E12: Australia | F12: South Africa | G12: Argentina | I12: =ROW()-3 -> 9 | J12: Ireland | K12: 0 | L12: 0 | M12: 0 | N12: 8 | O12: 2 | P12: 0 | Q12: =SUMPRODUCT(K12:P12,$K$21:$P$21) -> 8 | W12: 2.QF | X12: 1987 | Y12: Scotland | Z12: New Zealand | AA12: New Zealand | AB12: =Y12&" v "&Z12 -> Scotland v New Zealand | AC12: =IF(ISERROR(SEARCH($AC$2,AB12)),0,1) -> 0 | AE12: England v Argentina | AF12: =COUNTIF(AB:AB,AE12) -> 5 | AG12: =COUNTIFS(AB:AB,AE12,W:W,"Pool") -> 0 | AH12: =AF12-AG12 -> 5 | AI12: =COUNTIFS(AA:AA,LEFT(AE12,SEARCH(" v ",AE12)-1),AB:AB,AE12) -> 5
B13: Japan | C13: 2019 | D13: South Africa | E13: England | F13: New Zealand | G13: Wales | I13: =ROW()-3 -> 10 | J13: Fiji | K13: 0 | L13: 0 | M13: 0 | N13: 3 | O13: 7 | P13: 0 | Q13: =SUMPRODUCT(K13:P13,$K$21:$P$21) -> 3 | W13: 3.SF | X13: 1987 | Y13: France | Z13: Australia | AA13: France | AB13: =Y13&" v "&Z13 -> France v Australia | AC13: =IF(ISERROR(SEARCH($AC$2,AB13)),0,1) -> 0 | AE13: Australia v New Zealand | AF13: =COUNTIF(AB:AB,AE13) -> 4 | AG13: =COUNTIFS(AB:AB,AE13,W:W,"Pool") -> 0 | AH13: =AF13-AG13 -> 4 | AI13: =COUNTIFS(AA:AA,LEFT(AE13,SEARCH(" v ",AE13)-1),AB:AB,AE13) -> 2
B14: France | C14: 2023 | D14: South Africa | E14: New Zealand | F14: England | G14: Argentina | I14: =ROW()-3 -> 11 | J14: Samoa | K14: 0 | L14: 0 | M14: 0 | N14: 2 | O14: 8 | P14: 0 | Q14: =SUMPRODUCT(K14:P14,$K$21:$P$21) -> 2 | W14: 3.SF | X14: 1987 | Y14: Wales | Z14: New Zealand | AA14: New Zealand | AB14: =Y14&" v "&Z14 -> Wales v New Zealand | AC14: =IF(ISERROR(SEARCH($AC$2,AB14)),0,1) -> 0 | AE14: Argentina v New Zealand | AF14: =COUNTIF(AB:AB,AE14) -> 4 | AG14: =COUNTIFS(AB:AB,AE14,W:W,"Pool") -> 0 | AH14: =AF14-AG14 -> 4 | AI14: =COUNTIFS(AA:AA,LEFT(AE14,SEARCH(" v ",AE14)-1),AB:AB,AE14) -> 0
B15: Australia | C15: 2027 | I15: =ROW()-3 -> 12 | J15: Japan | K15: 0 | L15: 0 | M15: 0 | N15: 1 | O15: 9 | P15: 0 | Q15: =SUMPRODUCT(K15:P15,$K$21:$P$21) -> 1 | W15: 4.3P | X15: 1987 | Y15: Wales | Z15: Australia | AA15: Wales | AB15: =Y15&" v "&Z15 -> Wales v Australia | AC15: =IF(ISERROR(SEARCH($AC$2,AB15)),0,1) -> 0 | AE15: England v New Zealand | AF15: =COUNTIF(AB:AB,AE15) -> 4 | AG15: =COUNTIFS(AB:AB,AE15,W:W,"Pool") -> 0 | AH15: =AF15-AG15 -> 4 | AI15: =COUNTIFS(AA:AA,LEFT(AE15,SEARCH(" v ",AE15)-1),AB:AB,AE15) -> 1
C16: 2031 | I16: =ROW()-3 -> 13 | J16: Canada | K16: 0 | L16: 0 | M16: 0 | N16: 1 | O16: 8 | P16: 1 | Q16: =SUMPRODUCT(K16:P16,$K$21:$P$21) -> 1 | W16: 5.F | X16: 1987 | Y16: France | Z16: New Zealand | AA16: New Zealand | AB16: =Y16&" v "&Z16 -> France v New Zealand | AC16: =IF(ISERROR(SEARCH($AC$2,AB16)),0,1) -> 0 | AE16: France v Argentina | AF16: =COUNTIF(AB:AB,AE16) -> 4 | AG16: =COUNTIFS(AB:AB,AE16,W:W,"Pool") -> 0 | AH16: =AF16-AG16 -> 4 | AI16: =COUNTIFS(AA:AA,LEFT(AE16,SEARCH(" v ",AE16)-1),AB:AB,AE16) -> 2
W17: 0.Grp | X17: 1991 | Y17: Argentina | Z17: Australia | AA17: Australia | AB17: =Y17&" v "&Z17 -> Argentina v Australia | AC17: =IF(ISERROR(SEARCH($AC$2,AB17)),0,1) -> 1 | AE17: Ireland v Argentina | AF17: =COUNTIF(AB:AB,AE17) -> 4 | AG17: =COUNTIFS(AB:AB,AE17,W:W,"Pool") -> 0 | AH17: =AF17-AG17 -> 4 | AI17: =COUNTIFS(AA:AA,LEFT(AE17,SEARCH(" v ",AE17)-1),AB:AB,AE17) -> 1
W18: 0.Grp | X18: 1991 | Y18: England | Z18: New Zealand | AA18: New Zealand | AB18: =Y18&" v "&Z18 -> England v New Zealand | AC18: =IF(ISERROR(SEARCH($AC$2,AB18)),0,1) -> 0 | AE18: Ireland v France | AF18: =COUNTIF(AB:AB,AE18) -> 4 | AG18: =COUNTIFS(AB:AB,AE18,W:W,"Pool") -> 0 | AH18: =AF18-AG18 -> 4 | AI18: =COUNTIFS(AA:AA,LEFT(AE18,SEARCH(" v ",AE18)-1),AB:AB,AE18) -> 1
I19: All countries that have reached a quarter final are shown in the list above | W19: 0.Grp | X19: 1991 | Y19: England | Z19: Italy | AA19: England | AB19: =Y19&" v "&Z19 -> England v Italy | AC19: =IF(ISERROR(SEARCH($AC$2,AB19)),0,1) -> 0 | AE19: Wales v New Zealand | AF19: =COUNTIF(AB:AB,AE19) -> 4 | AG19: =COUNTIFS(AB:AB,AE19,W:W,"Pool") -> 0 | AH19: =AF19-AG19 -> 4 | AI19: =COUNTIFS(AA:AA,LEFT(AE19,SEARCH(" v ",AE19)-1),AB:AB,AE19) -> 0
W20: 0.Grp | X20: 1991 | Y20: Italy | Z20: New Zealand | AA20: New Zealand | AB20: =Y20&" v "&Z20 -> Italy v New Zealand | AC20: =IF(ISERROR(SEARCH($AC$2,AB20)),0,1) -> 0 | AE20: England v Wales | AF20: =COUNTIF(AB:AB,AE20) -> 3 | AG20: =COUNTIFS(AB:AB,AE20,W:W,"Pool") -> 0 | AH20: =AF20-AG20 -> 3 | AI20: =COUNTIFS(AA:AA,LEFT(AE20,SEARCH(" v ",AE20)-1),AB:AB,AE20) -> 1
J21: Points | K21: 8 | L21: 4 | M21: 2 | N21: 1 | O21: 0 | P21: 0 | Q21: <<< You can change these points if you wish | W21: 0.Grp | X21: 1991 | Y21: Scotland | Z21: Ireland | AA21: Scotland | AB21: =Y21&" v "&Z21 -> Scotland v Ireland | AC21: =IF(ISERROR(SEARCH($AC$2,AB21)),0,1) -> 0 | AE21: Ireland v New Zealand | AF21: =COUNTIF(AB:AB,AE21) -> 3 | AG21: =COUNTIFS(AB:AB,AE21,W:W,"Pool") -> 0 | AH21: =AF21-AG21 -> 3 | AI21: =COUNTIFS(AA:AA,LEFT(AE21,SEARCH(" v ",AE21)-1),AB:AB,AE21) -> 0
W22: 0.Grp | X22: 1991 | Y22: Wales | Z22: Australia | AA22: Australia | AB22: =Y22&" v "&Z22 -> Wales v Australia | AC22: =IF(ISERROR(SEARCH($AC$2,AB22)),0,1) -> 0 | AE22: South Africa v Australia | AF22: =COUNTIF(AB:AB,AE22) -> 3 | AG22: =COUNTIFS(AB:AB,AE22,W:W,"Pool") -> 0 | AH22: =AF22-AG22 -> 3 | AI22: =COUNTIFS(AA:AA,LEFT(AE22,SEARCH(" v ",AE22)-1),AB:AB,AE22) -> 1
W23: 0.Grp | X23: 1991 | Y23: Wales | Z23: Argentina | AA23: Wales | AB23: =Y23&" v "&Z23 -> Wales v Argentina | AC23: =IF(ISERROR(SEARCH($AC$2,AB23)),0,1) -> 1 | AE23: Wales v South Africa | AF23: =COUNTIF(AB:AB,AE23) -> 3 | AG23: =COUNTIFS(AB:AB,AE23,W:W,"Pool") -> 0 | AH23: =AF23-AG23 -> 3 | AI23: =COUNTIFS(AA:AA,LEFT(AE23,SEARCH(" v ",AE23)-1),AB:AB,AE23) -> 0
W24: 2.QF | X24: 1991 | Y24: Canada | Z24: New Zealand | AA24: New Zealand | AB24: =Y24&" v "&Z24 -> Canada v New Zealand | AC24: =IF(ISERROR(SEARCH($AC$2,AB24)),0,1) -> 0 | AE24: Argentina v Australia | AF24: =COUNTIF(AB:AB,AE24) -> 3 | AG24: =COUNTIFS(AB:AB,AE24,W:W,"Pool") -> 0 | AH24: =AF24-AG24 -> 3 | AI24: =COUNTIFS(AA:AA,LEFT(AE24,SEARCH(" v ",AE24)-1),AB:AB,AE24) -> 0
W25: 2.QF | X25: 1991 | Y25: England | Z25: France | AA25: England | AB25: =Y25&" v "&Z25 -> England v France | AC25: =IF(ISERROR(SEARCH($AC$2,AB25)),0,1) -> 0 | AE25: Wales v Argentina | AF25: =COUNTIF(AB:AB,AE25) -> 3 | AG25: =COUNTIFS(AB:AB,AE25,W:W,"Pool") -> 0 | AH25: =AF25-AG25 -> 3 | AI25: =COUNTIFS(AA:AA,LEFT(AE25,SEARCH(" v ",AE25)-1),AB:AB,AE25) -> 2
W26: 2.QF | X26: 1991 | Y26: Ireland | Z26: Australia | AA26: Australia | AB26: =Y26&" v "&Z26 -> Ireland v Australia | AC26: =IF(ISERROR(SEARCH($AC$2,AB26)),0,1) -> 0 | AE26: Wales v Ireland | AF26: =COUNTIF(AB:AB,AE26) -> 3 | AG26: =COUNTIFS(AB:AB,AE26,W:W,"Pool") -> 0 | AH26: =AF26-AG26 -> 3 | AI26: =COUNTIFS(AA:AA,LEFT(AE26,SEARCH(" v ",AE26)-1),AB:AB,AE26) -> 2
W27: 2.QF | X27: 1991 | Y27: Scotland | Z27: Samoa | AA27: Scotland | AB27: =Y27&" v "&Z27 -> Scotland v Samoa | AC27: =IF(ISERROR(SEARCH($AC$2,AB27)),0,1) -> 0 | AE27: England v Italy | AF27: =COUNTIF(AB:AB,AE27) -> 3 | AG27: =COUNTIFS(AB:AB,AE27,W:W,"Pool") -> 0 | AH27: =AF27-AG27 -> 3 | AI27: =COUNTIFS(AA:AA,LEFT(AE27,SEARCH(" v ",AE27)-1),AB:AB,AE27) -> 3
W28: 3.SF | X28: 1991 | Y28: Australia | Z28: New Zealand | AA28: Australia | AB28: =Y28&" v "&Z28 -> Australia v New Zealand | AC28: =IF(ISERROR(SEARCH($AC$2,AB28)),0,1) -> 0 | AE28: Scotland v France | AF28: =COUNTIF(AB:AB,AE28) -> 3 | AG28: =COUNTIFS(AB:AB,AE28,W:W,"Pool") -> 0 | AH28: =AF28-AG28 -> 3 | AI28: =COUNTIFS(AA:AA,LEFT(AE28,SEARCH(" v ",AE28)-1),AB:AB,AE28) -> 0
W29: 3.SF | X29: 1991 | Y29: England | Z29: Scotland | AA29: England | AB29: =Y29&" v "&Z29 -> England v Scotland | AC29: =IF(ISERROR(SEARCH($AC$2,AB29)),0,1) -> 0 | AE29: Scotland v South Africa | AF29: =COUNTIF(AB:AB,AE29) -> 3 | AG29: =COUNTIFS(AB:AB,AE29,W:W,"Pool") -> 0 | AH29: =AF29-AG29 -> 3 | AI29: =COUNTIFS(AA:AA,LEFT(AE29,SEARCH(" v ",AE29)-1),AB:AB,AE29) -> 0
W30: 4.3P | X30: 1991 | Y30: Scotland | Z30: New Zealand | AA30: New Zealand | AB30: =Y30&" v "&Z30 -> Scotland v New Zealand | AC30: =IF(ISERROR(SEARCH($AC$2,AB30)),0,1) -> 0 | AE30: France v Australia | AF30: =COUNTIF(AB:AB,AE30) -> 2 | AG30: =COUNTIFS(AB:AB,AE30,W:W,"Pool") -> 0 | AH30: =AF30-AG30 -> 2 | AI30: =COUNTIFS(AA:AA,LEFT(AE30,SEARCH(" v ",AE30)-1),AB:AB,AE30) -> 1
W31: 5.F | X31: 1991 | Y31: England | Z31: Australia | AA31: Australia | AB31: =Y31&" v "&Z31 -> England v Australia | AC31: =IF(ISERROR(SEARCH($AC$2,AB31)),0,1) -> 0 | AE31: France v South Africa | AF31: =COUNTIF(AB:AB,AE31) -> 2 | AG31: =COUNTIFS(AB:AB,AE31,W:W,"Pool") -> 0 | AH31: =AF31-AG31 -> 2 | AI31: =COUNTIFS(AA:AA,LEFT(AE31,SEARCH(" v ",AE31)-1),AB:AB,AE31) -> 0
W32: 0.Grp | X32: 1995 | Y32: England | Z32: Italy | AA32: England | AB32: =Y32&" v "&Z32 -> England v Italy | AC32: =IF(ISERROR(SEARCH($AC$2,AB32)),0,1) -> 0 | AE32: Scotland v Australia | AF32: =COUNTIF(AB:AB,AE32) -> 2 | AG32: =COUNTIFS(AB:AB,AE32,W:W,"Pool") -> 0 | AH32: =AF32-AG32 -> 2 | AI32: =COUNTIFS(AA:AA,LEFT(AE32,SEARCH(" v ",AE32)-1),AB:AB,AE32) -> 0
W33: 0.Grp | X33: 1995 | Y33: England | Z33: Argentina | AA33: England | AB33: =Y33&" v "&Z33 -> England v Argentina | AC33: =IF(ISERROR(SEARCH($AC$2,AB33)),0,1) -> 1 | AE33: South Africa v Argentina | AF33: =COUNTIF(AB:AB,AE33) -> 2 | AG33: =COUNTIFS(AB:AB,AE33,W:W,"Pool") -> 0 | AH33: =AF33-AG33 -> 2 | AI33: =COUNTIFS(AA:AA,LEFT(AE33,SEARCH(" v ",AE33)-1),AB:AB,AE33) -> 2
... W44: 3.SF | X44: 1995 | Y44: England | Z44: New Zealand | AA44: New Zealand | AB44: =Y44&" v "&Z44 -> England v New Zealand | AC44: =IF(ISERROR(SEARCH($AC$2,AB44)),0,1) -> 0 | AE44: Wales v Italy | AF44: =COUNTIF(AB:AB,AE44) -> 1 | AG44: =COUNTIFS(AB:AB,AE44,W:W,"Pool") -> 0 | AH44: =AF44-AG44 -> 1 | AI44: =COUNTIFS(AA:AA,LEFT(AE44,SEARCH(" v ",AE44)-1),AB:AB,AE44) -> 1
W45: 3.SF | X45: 1995 | Y45: France | Z45: South Africa | AA45: South Africa | AB45: =Y45&" v "&Z45 -> France v South Africa | AC45: =IF(ISERROR(SEARCH($AC$2,AB45)),0,1) -> 0
W46: 4.3P | X46: 1995 | Y46: England | Z46: France | AA46: France | AB46: =Y46&" v "&Z46 -> England v France | AC46: =IF(ISERROR(SEARCH($AC$2,AB46)),0,1) -> 0
W47: 5.F | X47: 1995 | Y47: South Africa | Z47: New Zealand | AA47: South Africa | AB47: =Y47&" v "&Z47 -> South Africa v New Zealand | AC47: =IF(ISERROR(SEARCH($AC$2,AB47)),0,1) -> 0
W48: 0.Grp | X48: 1999 | Y48: England | Z48: New Zealand | AA48: New Zealand | AB48: =Y48&" v "&Z48 -> England v New Zealand | AC48: =IF(ISERROR(SEARCH($AC$2,AB48)),0,1) -> 0
W49: 0.Grp | X49: 1999 | Y49: England | Z49: Italy | AA49: England | AB49: =Y49&" v "&Z49 -> England v Italy | AC49: =IF(ISERROR(SEARCH($AC$2,AB49)),0,1) -> 0
W50: 0.Grp | X50: 1999 | Y50: Ireland | Z50: Australia | AA50: Australia | AB50: =Y50&" v "&Z50 -> Ireland v Australia | AC50: =IF(ISERROR(SEARCH($AC$2,AB50)),0,1) -> 0
W51: 0.Grp | X51: 1999 | Y51: Italy | Z51: New Zealand | AA51: New Zealand | AB51: =Y51&" v "&Z51 -> Italy v New Zealand | AC51: =IF(ISERROR(SEARCH($AC$2,AB51)),0,1) -> 0
W52: 0.Grp | X52: 1999 | Y52: Scotland | Z52: South Africa | AA52: South Africa | AB52: =Y52&" v "&Z52 -> Scotland v South Africa | AC52: =IF(ISERROR(SEARCH($AC$2,AB52)),0,1) -> 0
W53: 0.Grp | X53: 1999 | Y53: Wales | Z53: Argentina | AA53: Wales | AB53: =Y53&" v "&Z53 -> Wales v Argentina | AC53: =IF(ISERROR(SEARCH($AC$2,AB53)),0,1) -> 1
W54: 1.PO | X54: 1999 | Y54: England | Z54: Fiji | AA54: England | AB54: =Y54&" v "&Z54 -> England v Fiji | AC54: =IF(ISERROR(SEARCH($AC$2,AB54)),0,1) -> 0
W55: 1.PO | X55: 1999 | Y55: Ireland | Z55: Argentina | AA55: Argentina | AB55: =Y55&" v "&Z55 -> Ireland v Argentina | AC55: =IF(ISERROR(SEARCH($AC$2,AB55)),0,1) -> 1
W56: 1.PO | X56: 1999 | Y56: Scotland | Z56: Samoa | AA56: Scotland | AB56: =Y56&" v "&Z56 -> Scotland v Samoa | AC56: =IF(ISERROR(SEARCH($AC$2,AB56)),0,1) -> 0
... W155: 5.F | X155: 2023 | Y155: South Africa | Z155: New Zealand | AA155: South Africa | AB155: =Y155&" v "&Z155 -> South Africa v New Zealand | AC155: =IF(ISERROR(SEARCH($AC$2,AB155)),0,1) -> 0

Sheet EuroFinals
A1: From | B1: 1996 | P1: Champions | R1: Challenge
A2: To | B2: 2025 | P2: Win | Q2: RU | R2: Win | S2: RU
O3: 1996 | P3: =OFFSET(RankingsWorld!$X$6,MATCH('Data1984-2026World'!I16,RankingsWorld!$Y$7:$Y$61,0),0) -> Fra | Q3: =OFFSET(RankingsWorld!$X$6,MATCH('Data1984-2026World'!J16,RankingsWorld!$Y$7:$Y$61,0),0) -> Wal
B4: Euro Finals 1996-2025 | E4: Runner Up | L4: #Wins | O4: =O3+1 -> 1997 | P4: =OFFSET(RankingsWorld!$X$6,MATCH('Data1984-2026World'!I17,RankingsWorld!$Y$7:$Y$61,0),0) -> Fra | Q4: =OFFSET(RankingsWorld!$X$6,MATCH('Data1984-2026World'!J17,RankingsWorld!$Y$7:$Y$61,0),0) -> Eng | R4: =OFFSET(RankingsWorld!$X$6,MATCH('Data1984-2026World'!M17,RankingsWorld!$Y$7:$Y$61,0),0) -> Fra | S4: =OFFSET(RankingsWorld!$X$6,MATCH('Data1984-2026World'!N17,RankingsWorld!$Y$7:$Y$61,0),0) -> Fra
E5: Eng | F5: Fra | G5: Ire | H5: Wal | I5: Sco | J5: SAF | O5: =O4+1 -> 1998 | P5: =OFFSET(RankingsWorld!$X$6,MATCH('Data1984-2026World'!I18,RankingsWorld!$Y$7:$Y$61,0),0) -> Eng | Q5: =OFFSET(RankingsWorld!$X$6,MATCH('Data1984-2026World'!J18,RankingsWorld!$Y$7:$Y$61,0),0) -> Fra | R5: =OFFSET(RankingsWorld!$X$6,MATCH('Data1984-2026World'!M18,RankingsWorld!$Y$7:$Y$61,0),0) -> Fra | S5: =OFFSET(RankingsWorld!$X$6,MATCH('Data1984-2026World'!N18,RankingsWorld!$Y$7:$Y$61,0),0) -> Fra
O6: =O5+1 -> 1999 | P6: =OFFSET(RankingsWorld!$X$6,MATCH('Data1984-2026World'!I19,RankingsWorld!$Y$7:$Y$61,0),0) -> Ire | Q6: =OFFSET(RankingsWorld!$X$6,MATCH('Data1984-2026World'!J19,RankingsWorld!$Y$7:$Y$61,0),0) -> Fra | R6: =OFFSET(RankingsWorld!$X$6,MATCH('Data1984-2026World'!M19,RankingsWorld!$Y$7:$Y$61,0),0) -> Fra | S6: =OFFSET(RankingsWorld!$X$6,MATCH('Data1984-2026World'!N19,RankingsWorld!$Y$7:$Y$61,0),0) -> Fra
B7: Winner | C7: Eng | E7: =COUNTIFS($R:$R,$C7,$S:$S,E$5,$O:$O,">="&$B$1,$O:$O,"<="&$B$2)+COUNTIFS($P:$P,$C7,$Q:$Q,E$5,$O:$O,">="&$B$1,$O:$O,"<="&$B$2) -> 5 | F7: =COUNTIFS($R:$R,$C7,$S:$S,F$5,$O:$O,">="&$B$1,$O:$O,"<="&$B$2)+COUNTIFS($P:$P,$C7,$Q:$Q,F$5,$O:$O,">="&$B$1,$O:$O,"<="&$B$2) -> 13 | G7: =COUNTIFS($R:$R,$C7,$S:$S,G$5,$O:$O,">="&$B$1,$O:$O,"<="&$B$2)+COUNTIFS($P:$P,$C7,$Q:$Q,G$5,$O:$O,">="&$B$1,$O:$O,"<="&$B$2) -> 3 | H7: =COUNTIFS($R:$R,$C7,$S:$S,H$5,$O:$O,">="&$B$1,$O:$O,"<="&$B$2)+COUNTIFS($P:$P,$C7,$Q:$Q,H$5,$O:$O,">="&$B$1,$O:$O,"<="&$B$2) -> 1 | I7: =COUNTIFS($R:$R,$C7,$S:$S,I$5,$O:$O,">="&$B$1,$O:$O,"<="&$B$2)+COUNTIFS($P:$P,$C7,$Q:$Q,I$5,$O:$O,">="&$B$1,$O:$O,"<="&$B$2) -> 1 | J7: =COUNTIFS($R:$R,$C7,$S:$S,J$5,$O:$O,">="&$B$1,$O:$O,"<="&$B$2)+COUNTIFS($P:$P,$C7,$Q:$Q,J$5,$O:$O,">="&$B$1,$O:$O,"<="&$B$2) -> 0 | L7: =SUM(E7:J7) -> 23 | O7: =O6+1 -> 2000 | P7: =OFFSET(RankingsWorld!$X$6,MATCH('Data1984-2026World'!I20,RankingsWorld!$Y$7:$Y$61,0),0) -> Eng | Q7: =OFFSET(RankingsWorld!$X$6,MATCH('Data1984-2026World'!J20,RankingsWorld!$Y$7:$Y$61,0),0) -> Ire | R7: =OFFSET(RankingsWorld!$X$6,MATCH('Data1984-2026World'!M20,RankingsWorld!$Y$7:$Y$61,0),0) -> Fra | S7: =OFFSET(RankingsWorld!$X$6,MATCH('Data1984-2026World'!N20,RankingsWorld!$Y$7:$Y$61,0),0) -> Fra
C8: Fra | E8: =COUNTIFS($R:$R,$C8,$S:$S,E$5,$O:$O,">="&$B$1,$O:$O,"<="&$B$2)+COUNTIFS($P:$P,$C8,$Q:$Q,E$5,$O:$O,">="&$B$1,$O:$O,"<="&$B$2) -> 7 | F8: =COUNTIFS($R:$R,$C8,$S:$S,F$5,$O:$O,">="&$B$1,$O:$O,"<="&$B$2)+COUNTIFS($P:$P,$C8,$Q:$Q,F$5,$O:$O,">="&$B$1,$O:$O,"<="&$B$2) -> 13 | G8: =COUNTIFS($R:$R,$C8,$S:$S,G$5,$O:$O,">="&$B$1,$O:$O,"<="&$B$2)+COUNTIFS($P:$P,$C8,$Q:$Q,G$5,$O:$O,">="&$B$1,$O:$O,"<="&$B$2) -> 3 | H8: =COUNTIFS($R:$R,$C8,$S:$S,H$5,$O:$O,">="&$B$1,$O:$O,"<="&$B$2)+COUNTIFS($P:$P,$C8,$Q:$Q,H$5,$O:$O,">="&$B$1,$O:$O,"<="&$B$2) -> 1 | I8: =COUNTIFS($R:$R,$C8,$S:$S,I$5,$O:$O,">="&$B$1,$O:$O,"<="&$B$2)+COUNTIFS($P:$P,$C8,$Q:$Q,I$5,$O:$O,">="&$B$1,$O:$O,"<="&$B$2) -> 1 | J8: =COUNTIFS($R:$R,$C8,$S:$S,J$5,$O:$O,">="&$B$1,$O:$O,"<="&$B$2)+COUNTIFS($P:$P,$C8,$Q:$Q,J$5,$O:$O,">="&$B$1,$O:$O,"<="&$B$2) -> 0 | L8: =SUM(E8:J8) -> 25 | O8: =O7+1 -> 2001 | P8: =OFFSET(RankingsWorld!$X$6,MATCH('Data1984-2026World'!I21,RankingsWorld!$Y$7:$Y$61,0),0) -> Eng | Q8: =OFFSET(RankingsWorld!$X$6,MATCH('Data1984-2026World'!J21,RankingsWorld!$Y$7:$Y$61,0),0) -> Fra | R8: =OFFSET(RankingsWorld!$X$6,MATCH('Data1984-2026World'!M21,RankingsWorld!$Y$7:$Y$61,0),0) -> Eng | S8: =OFFSET(RankingsWorld!$X$6,MATCH('Data1984-2026World'!N21,RankingsWorld!$Y$7:$Y$61,0),0) -> Fra
C9: Ire | E9: =COUNTIFS($R:$R,$C9,$S:$S,E$5,$O:$O,">="&$B$1,$O:$O,"<="&$B$2)+COUNTIFS($P:$P,$C9,$Q:$Q,E$5,$O:$O,">="&$B$1,$O:$O,"<="&$B$2) -> 2 | F9: =COUNTIFS($R:$R,$C9,$S:$S,F$5,$O:$O,">="&$B$1,$O:$O,"<="&$B$2)+COUNTIFS($P:$P,$C9,$Q:$Q,F$5,$O:$O,">="&$B$1,$O:$O,"<="&$B$2) -> 5 | G9: =COUNTIFS($R:$R,$C9,$S:$S,G$5,$O:$O,">="&$B$1,$O:$O,"<="&$B$2)+COUNTIFS($P:$P,$C9,$Q:$Q,G$5,$O:$O,">="&$B$1,$O:$O,"<="&$B$2) -> 1 | H9: =COUNTIFS($R:$R,$C9,$S:$S,H$5,$O:$O,">="&$B$1,$O:$O,"<="&$B$2)+COUNTIFS($P:$P,$C9,$Q:$Q,H$5,$O:$O,">="&$B$1,$O:$O,"<="&$B$2) -> 0 | I9: =COUNTIFS($R:$R,$C9,$S:$S,I$5,$O:$O,">="&$B$1,$O:$O,"<="&$B$2)+COUNTIFS($P:$P,$C9,$Q:$Q,I$5,$O:$O,">="&$B$1,$O:$O,"<="&$B$2) -> 0 | J9: =COUNTIFS($R:$R,$C9,$S:$S,J$5,$O:$O,">="&$B$1,$O:$O,"<="&$B$2)+COUNTIFS($P:$P,$C9,$Q:$Q,J$5,$O:$O,">="&$B$1,$O:$O,"<="&$B$2) -> 0 | L9: =SUM(E9:J9) -> 8 | O9: =O8+1 -> 2002 | P9: =OFFSET(RankingsWorld!$X$6,MATCH('Data1984-2026World'!I22,RankingsWorld!$Y$7:$Y$61,0),0) -> Eng | Q9: =OFFSET(RankingsWorld!$X$6,MATCH('Data1984-2026World'!J22,RankingsWorld!$Y$7:$Y$61,0),0) -> Ire | R9: =OFFSET(RankingsWorld!$X$6,MATCH('Data1984-2026World'!M22,RankingsWorld!$Y$7:$Y$61,0),0) -> Eng | S9: =OFFSET(RankingsWorld!$X$6,MATCH('Data1984-2026World'!N22,RankingsWorld!$Y$7:$Y$61,0),0) -> Wal
C10: Wal | E10: =COUNTIFS($R:$R,$C10,$S:$S,E$5,$O:$O,">="&$B$1,$O:$O,"<="&$B$2)+COUNTIFS($P:$P,$C10,$Q:$Q,E$5,$O:$O,">="&$B$1,$O:$O,"<="&$B$2) -> 1 | F10: =COUNTIFS($R:$R,$C10,$S:$S,F$5,$O:$O,">="&$B$1,$O:$O,"<="&$B$2)+COUNTIFS($P:$P,$C10,$Q:$Q,F$5,$O:$O,">="&$B$1,$O:$O,"<="&$B$2) -> 1 | G10: =COUNTIFS($R:$R,$C10,$S:$S,G$5,$O:$O,">="&$B$1,$O:$O,"<="&$B$2)+COUNTIFS($P:$P,$C10,$Q:$Q,G$5,$O:$O,">="&$B$1,$O:$O,"<="&$B$2) -> 0 | H10: =COUNTIFS($R:$R,$C10,$S:$S,H$5,$O:$O,">="&$B$1,$O:$O,"<="&$B$2)+COUNTIFS($P:$P,$C10,$Q:$Q,H$5,$O:$O,">="&$B$1,$O:$O,"<="&$B$2) -> 0 | I10: =COUNTIFS($R:$R,$C10,$S:$S,I$5,$O:$O,">="&$B$1,$O:$O,"<="&$B$2)+COUNTIFS($P:$P,$C10,$Q:$Q,I$5,$O:$O,">="&$B$1,$O:$O,"<="&$B$2) -> 0 | J10: =COUNTIFS($R:$R,$C10,$S:$S,J$5,$O:$O,">="&$B$1,$O:$O,"<="&$B$2)+COUNTIFS($P:$P,$C10,$Q:$Q,J$5,$O:$O,">="&$B$1,$O:$O,"<="&$B$2) -> 0 | L10: =SUM(E10:J10) -> 2 | O10: =O9+1 -> 2003 | P10: =OFFSET(RankingsWorld!$X$6,MATCH('Data1984-2026World'!I23,RankingsWorld!$Y$7:$Y$61,0),0) -> Fra | Q10: =OFFSET(RankingsWorld!$X$6,MATCH('Data1984-2026World'!J23,RankingsWorld!$Y$7:$Y$61,0),0) -> Fra | R10: =OFFSET(RankingsWorld!$X$6,MATCH('Data1984-2026World'!M23,RankingsWorld!$Y$7:$Y$61,0),0) -> Eng | S10: =OFFSET(RankingsWorld!$X$6,MATCH('Data1984-2026World'!N23,RankingsWorld!$Y$7:$Y$61,0),0) -> Eng
C11: Sco | E11: =COUNTIFS($R:$R,$C11,$S:$S,E$5,$O:$O,">="&$B$1,$O:$O,"<="&$B$2)+COUNTIFS($P:$P,$C11,$Q:$Q,E$5,$O:$O,">="&$B$1,$O:$O,"<="&$B$2) -> 0 | F11: =COUNTIFS($R:$R,$C11,$S:$S,F$5,$O:$O,">="&$B$1,$O:$O,"<="&$B$2)+COUNTIFS($P:$P,$C11,$Q:$Q,F$5,$O:$O,">="&$B$1,$O:$O,"<="&$B$2) -> 0 | G11: =COUNTIFS($R:$R,$C11,$S:$S,G$5,$O:$O,">="&$B$1,$O:$O,"<="&$B$2)+COUNTIFS($P:$P,$C11,$Q:$Q,G$5,$O:$O,">="&$B$1,$O:$O,"<="&$B$2) -> 0 | H11: =COUNTIFS($R:$R,$C11,$S:$S,H$5,$O:$O,">="&$B$1,$O:$O,"<="&$B$2)+COUNTIFS($P:$P,$C11,$Q:$Q,H$5,$O:$O,">="&$B$1,$O:$O,"<="&$B$2) -> 0 | I11: =COUNTIFS($R:$R,$C11,$S:$S,I$5,$O:$O,">="&$B$1,$O:$O,"<="&$B$2)+COUNTIFS($P:$P,$C11,$Q:$Q,I$5,$O:$O,">="&$B$1,$O:$O,"<="&$B$2) -> 0 | J11: =COUNTIFS($R:$R,$C11,$S:$S,J$5,$O:$O,">="&$B$1,$O:$O,"<="&$B$2)+COUNTIFS($P:$P,$C11,$Q:$Q,J$5,$O:$O,">="&$B$1,$O:$O,"<="&$B$2) -> 0 | L11: =SUM(E11:J11) -> 0 | O11: =O10+1 -> 2004 | P11: =OFFSET(RankingsWorld!$X$6,MATCH('Data1984-2026World'!I24,RankingsWorld!$Y$7:$Y$61,0),0) -> Eng | Q11: =OFFSET(RankingsWorld!$X$6,MATCH('Data1984-2026World'!J24,RankingsWorld!$Y$7:$Y$61,0),0) -> Fra | R11: =OFFSET(RankingsWorld!$X$6,MATCH('Data1984-2026World'!M24,RankingsWorld!$Y$7:$Y$61,0),0) -> Eng | S11: =OFFSET(RankingsWorld!$X$6,MATCH('Data1984-2026World'!N24,RankingsWorld!$Y$7:$Y$61,0),0) -> Fra
C12: SAF | E12: =COUNTIFS($R:$R,$C12,$S:$S,E$5,$O:$O,">="&$B$1,$O:$O,"<="&$B$2)+COUNTIFS($P:$P,$C12,$Q:$Q,E$5,$O:$O,">="&$B$1,$O:$O,"<="&$B$2) -> 1 | F12: =COUNTIFS($R:$R,$C12,$S:$S,F$5,$O:$O,">="&$B$1,$O:$O,"<="&$B$2)+COUNTIFS($P:$P,$C12,$Q:$Q,F$5,$O:$O,">="&$B$1,$O:$O,"<="&$B$2) -> 0 | G12: =COUNTIFS($R:$R,$C12,$S:$S,G$5,$O:$O,">="&$B$1,$O:$O,"<="&$B$2)+COUNTIFS($P:$P,$C12,$Q:$Q,G$5,$O:$O,">="&$B$1,$O:$O,"<="&$B$2) -> 0 | H12: =COUNTIFS($R:$R,$C12,$S:$S,H$5,$O:$O,">="&$B$1,$O:$O,"<="&$B$2)+COUNTIFS($P:$P,$C12,$Q:$Q,H$5,$O:$O,">="&$B$1,$O:$O,"<="&$B$2) -> 0 | I12: =COUNTIFS($R:$R,$C12,$S:$S,I$5,$O:$O,">="&$B$1,$O:$O,"<="&$B$2)+COUNTIFS($P:$P,$C12,$Q:$Q,I$5,$O:$O,">="&$B$1,$O:$O,"<="&$B$2) -> 0 | J12: =COUNTIFS($R:$R,$C12,$S:$S,J$5,$O:$O,">="&$B$1,$O:$O,"<="&$B$2)+COUNTIFS($P:$P,$C12,$Q:$Q,J$5,$O:$O,">="&$B$1,$O:$O,"<="&$B$2) -> 0 | L12: =SUM(E12:J12) -> 1 | O12: =O11+1 -> 2005 | P12: =OFFSET(RankingsWorld!$X$6,MATCH('Data1984-2026World'!I25,RankingsWorld!$Y$7:$Y$61,0),0) -> Fra | Q12: =OFFSET(RankingsWorld!$X$6,MATCH('Data1984-2026World'!J25,RankingsWorld!$Y$7:$Y$61,0),0) -> Fra | R12: =OFFSET(RankingsWorld!$X$6,MATCH('Data1984-2026World'!M25,RankingsWorld!$Y$7:$Y$61,0),0) -> Eng | S12: =OFFSET(RankingsWorld!$X$6,MATCH('Data1984-2026World'!N25,RankingsWorld!$Y$7:$Y$61,0),0) -> Fra
O13: =O12+1 -> 2006 | P13: =OFFSET(RankingsWorld!$X$6,MATCH('Data1984-2026World'!I26,RankingsWorld!$Y$7:$Y$61,0),0) -> Ire | Q13: =OFFSET(RankingsWorld!$X$6,MATCH('Data1984-2026World'!J26,RankingsWorld!$Y$7:$Y$61,0),0) -> Fra | R13: =OFFSET(RankingsWorld!$X$6,MATCH('Data1984-2026World'!M26,RankingsWorld!$Y$7:$Y$61,0),0) -> Eng | S13: =OFFSET(RankingsWorld!$X$6,MATCH('Data1984-2026World'!N26,RankingsWorld!$Y$7:$Y$61,0),0) -> Eng
B14: #Losses | E14: =SUM(E7:E12) -> 16 | F14: =SUM(F7:F12) -> 32 | G14: =SUM(G7:G12) -> 7 | H14: =SUM(H7:H12) -> 2 | I14: =SUM(I7:I12) -> 2 | J14: =SUM(J7:J12) -> 0 | L14: =SUM(E14:I14) -> 59 | O14: =O13+1 -> 2007 | P14: =OFFSET(RankingsWorld!$X$6,MATCH('Data1984-2026World'!I27,RankingsWorld!$Y$7:$Y$61,0),0) -> Eng | Q14: =OFFSET(RankingsWorld!$X$6,MATCH('Data1984-2026World'!J27,RankingsWorld!$Y$7:$Y$61,0),0) -> Eng | R14: =OFFSET(RankingsWorld!$X$6,MATCH('Data1984-2026World'!M27,RankingsWorld!$Y$7:$Y$61,0),0) -> Fra | S14: =OFFSET(RankingsWorld!$X$6,MATCH('Data1984-2026World'!N27,RankingsWorld!$Y$7:$Y$61,0),0) -> Eng
O15: =O14+1 -> 2008 | P15: =OFFSET(RankingsWorld!$X$6,MATCH('Data1984-2026World'!I28,RankingsWorld!$Y$7:$Y$61,0),0) -> Ire | Q15: =OFFSET(RankingsWorld!$X$6,MATCH('Data1984-2026World'!J28,RankingsWorld!$Y$7:$Y$61,0),0) -> Fra | R15: =OFFSET(RankingsWorld!$X$6,MATCH('Data1984-2026World'!M28,RankingsWorld!$Y$7:$Y$61,0),0) -> Eng | S15: =OFFSET(RankingsWorld!$X$6,MATCH('Data1984-2026World'!N28,RankingsWorld!$Y$7:$Y$61,0),0) -> Eng
C16: ACT | E16: Eng | F16: Fra | G16: Ire | H16: WSS | I16: Tot | O16: =O15+1 -> 2009 | P16: =OFFSET(RankingsWorld!$X$6,MATCH('Data1984-2026World'!I29,RankingsWorld!$Y$7:$Y$61,0),0) -> Ire | Q16: =OFFSET(RankingsWorld!$X$6,MATCH('Data1984-2026World'!J29,RankingsWorld!$Y$7:$Y$61,0),0) -> Eng | R16: =OFFSET(RankingsWorld!$X$6,MATCH('Data1984-2026World'!M29,RankingsWorld!$Y$7:$Y$61,0),0) -> Eng | S16: =OFFSET(RankingsWorld!$X$6,MATCH('Data1984-2026World'!N29,RankingsWorld!$Y$7:$Y$61,0),0) -> Fra
O17: =O16+1 -> 2010 | P17: =OFFSET(RankingsWorld!$X$6,MATCH('Data1984-2026World'!I30,RankingsWorld!$Y$7:$Y$61,0),0) -> Fra | Q17: =OFFSET(RankingsWorld!$X$6,MATCH('Data1984-2026World'!J30,RankingsWorld!$Y$7:$Y$61,0),0) -> Fra | R17: =OFFSET(RankingsWorld!$X$6,MATCH('Data1984-2026World'!M30,RankingsWorld!$Y$7:$Y$61,0),0) -> Wal | S17: =OFFSET(RankingsWorld!$X$6,MATCH('Data1984-2026World'!N30,RankingsWorld!$Y$7:$Y$61,0),0) -> Fra
C18: Eng | E18: =E7 -> 5 | F18: =F7 -> 13 | G18: =G7 -> 3 | H18: =H7+I7+J7 -> 2 | I18: =SUM(E18:H18) -> 23 | O18: =O17+1 -> 2011 | P18: =OFFSET(RankingsWorld!$X$6,MATCH('Data1984-2026World'!I31,RankingsWorld!$Y$7:$Y$61,0),0) -> Ire | Q18: =OFFSET(RankingsWorld!$X$6,MATCH('Data1984-2026World'!J31,RankingsWorld!$Y$7:$Y$61,0),0) -> Eng | R18: =OFFSET(RankingsWorld!$X$6,MATCH('Data1984-2026World'!M31,RankingsWorld!$Y$7:$Y$61,0),0) -> Eng | S18: =OFFSET(RankingsWorld!$X$6,MATCH('Data1984-2026World'!N31,RankingsWorld!$Y$7:$Y$61,0),0) -> Fra
C19: Fra | E19: =E8 -> 7 | F19: =F8 -> 13 | G19: =G8 -> 3 | H19: =H8+I8+J8 -> 2 | I19: =SUM(E19:H19) -> 25 | O19: =O18+1 -> 2012 | P19: =OFFSET(RankingsWorld!$X$6,MATCH('Data1984-2026World'!I32,RankingsWorld!$Y$7:$Y$61,0),0) -> Ire | Q19: =OFFSET(RankingsWorld!$X$6,MATCH('Data1984-2026World'!J32,RankingsWorld!$Y$7:$Y$61,0),0) -> Ire | R19: =OFFSET(RankingsWorld!$X$6,MATCH('Data1984-2026World'!M32,RankingsWorld!$Y$7:$Y$61,0),0) -> Fra | S19: =OFFSET(RankingsWorld!$X$6,MATCH('Data1984-2026World'!N32,RankingsWorld!$Y$7:$Y$61,0),0) -> Fra
C20: Ire | E20: =E9 -> 2 | F20: =F9 -> 5 | G20: =G9 -> 1 | H20: =H9+I9+J9 -> 0 | I20: =SUM(E20:H20) -> 8 | O20: =O19+1 -> 2013 | P20: =OFFSET(RankingsWorld!$X$6,MATCH('Data1984-2026World'!I33,RankingsWorld!$Y$7:$Y$61,0),0) -> Fra | Q20: =OFFSET(RankingsWorld!$X$6,MATCH('Data1984-2026World'!J33,RankingsWorld!$Y$7:$Y$61,0),0) -> Fra | R20: =OFFSET(RankingsWorld!$X$6,MATCH('Data1984-2026World'!M33,RankingsWorld!$Y$7:$Y$61,0),0) -> Ire | S20: =OFFSET(RankingsWorld!$X$6,MATCH('Data1984-2026World'!N33,RankingsWorld!$Y$7:$Y$61,0),0) -> Fra
C21: WSS | E21: =E10+E11+E12 -> 2 | F21: =F10+F11+F12 -> 1 | G21: =G10+G11+G12 -> 0 | H21: =SUM(H10:J12) -> 0 | I21: =SUM(E21:H21) -> 3 | O21: =O20+1 -> 2014 | P21: =OFFSET(RankingsWorld!$X$6,MATCH('Data1984-2026World'!I34,RankingsWorld!$Y$7:$Y$61,0),0) -> Fra | Q21: =OFFSET(RankingsWorld!$X$6,MATCH('Data1984-2026World'!J34,RankingsWorld!$Y$7:$Y$61,0),0) -> Eng | R21: =OFFSET(RankingsWorld!$X$6,MATCH('Data1984-2026World'!M34,RankingsWorld!$Y$7:$Y$61,0),0) -> Eng | S21: =OFFSET(RankingsWorld!$X$6,MATCH('Data1984-2026World'!N34,RankingsWorld!$Y$7:$Y$61,0),0) -> Eng
C22: Tot | E22: =SUM(E18:E21) -> 16 | F22: =SUM(F18:F21) -> 32 | G22: =SUM(G18:G21) -> 7 | H22: =SUM(H18:H21) -> 4 | I22: =SUM(E22:H22) -> 59 | O22: =O21+1 -> 2015 | P22: =OFFSET(RankingsWorld!$X$6,MATCH('Data1984-2026World'!I35,RankingsWorld!$Y$7:$Y$61,0),0) -> Fra | Q22: =OFFSET(RankingsWorld!$X$6,MATCH('Data1984-2026World'!J35,RankingsWorld!$Y$7:$Y$61,0),0) -> Fra | R22: =OFFSET(RankingsWorld!$X$6,MATCH('Data1984-2026World'!M35,RankingsWorld!$Y$7:$Y$61,0),0) -> Eng | S22: =OFFSET(RankingsWorld!$X$6,MATCH('Data1984-2026World'!N35,RankingsWorld!$Y$7:$Y$61,0),0) -> Sco
O23: =O22+1 -> 2016 | P23: =OFFSET(RankingsWorld!$X$6,MATCH('Data1984-2026World'!I36,RankingsWorld!$Y$7:$Y$61,0),0) -> Eng | Q23: =OFFSET(RankingsWorld!$X$6,MATCH('Data1984-2026World'!J36,RankingsWorld!$Y$7:$Y$61,0),0) -> Fra | R23: =OFFSET(RankingsWorld!$X$6,MATCH('Data1984-2026World'!M36,RankingsWorld!$Y$7:$Y$61,0),0) -> Fra | S23: =OFFSET(RankingsWorld!$X$6,MATCH('Data1984-2026World'!N36,RankingsWorld!$Y$7:$Y$61,0),0) -> Eng
C24: EXP | E24: Eng | F24: Fra | G24: Ire | H24: WSS | O24: =O23+1 -> 2017 | P24: =OFFSET(RankingsWorld!$X$6,MATCH('Data1984-2026World'!I37,RankingsWorld!$Y$7:$Y$61,0),0) -> Eng | Q24: =OFFSET(RankingsWorld!$X$6,MATCH('Data1984-2026World'!J37,RankingsWorld!$Y$7:$Y$61,0),0) -> Fra | R24: =OFFSET(RankingsWorld!$X$6,MATCH('Data1984-2026World'!M37,RankingsWorld!$Y$7:$Y$61,0),0) -> Fra | S24: =OFFSET(RankingsWorld!$X$6,MATCH('Data1984-2026World'!N37,RankingsWorld!$Y$7:$Y$61,0),0) -> Eng
O25: =O24+1 -> 2018 | P25: =OFFSET(RankingsWorld!$X$6,MATCH('Data1984-2026World'!I38,RankingsWorld!$Y$7:$Y$61,0),0) -> Ire | Q25: =OFFSET(RankingsWorld!$X$6,MATCH('Data1984-2026World'!J38,RankingsWorld!$Y$7:$Y$61,0),0) -> Fra | R25: =OFFSET(RankingsWorld!$X$6,MATCH('Data1984-2026World'!M38,RankingsWorld!$Y$7:$Y$61,0),0) -> Wal | S25: =OFFSET(RankingsWorld!$X$6,MATCH('Data1984-2026World'!N38,RankingsWorld!$Y$7:$Y$61,0),0) -> Eng
C26: Eng | E26: =$I18*E$22/$I$22 -> 6.2372881 | F26: =$I18*F$22/$I$22 -> 12.474576 | G26: =$I18*G$22/$I$22 -> 2.7288136 | H26: =$I18*H$22/$I$22 -> 1.559322 | O26: =O25+1 -> 2019 | P26: =OFFSET(RankingsWorld!$X$6,MATCH('Data1984-2026World'!I39,RankingsWorld!$Y$7:$Y$61,0),0) -> Eng | Q26: =OFFSET(RankingsWorld!$X$6,MATCH('Data1984-2026World'!J39,RankingsWorld!$Y$7:$Y$61,0),0) -> Ire | R26: =OFFSET(RankingsWorld!$X$6,MATCH('Data1984-2026World'!M39,RankingsWorld!$Y$7:$Y$61,0),0) -> Fra | S26: =OFFSET(RankingsWorld!$X$6,MATCH('Data1984-2026World'!N39,RankingsWorld!$Y$7:$Y$61,0),0) -> Fra
C27: Fra | E27: =$I19*E$22/$I$22 -> 6.779661 | F27: =$I19*F$22/$I$22 -> 13.559322 | G27: =$I19*G$22/$I$22 -> 2.9661017 | H27: =$I19*H$22/$I$22 -> 1.6949153 | O27: =O26+1 -> 2020 | P27: =OFFSET(RankingsWorld!$X$6,MATCH('Data1984-2026World'!I40,RankingsWorld!$Y$7:$Y$61,0),0) -> Eng | Q27: =OFFSET(RankingsWorld!$X$6,MATCH('Data1984-2026World'!J40,RankingsWorld!$Y$7:$Y$61,0),0) -> Fra | R27: =OFFSET(RankingsWorld!$X$6,MATCH('Data1984-2026World'!M40,RankingsWorld!$Y$7:$Y$61,0),0) -> Eng | S27: =OFFSET(RankingsWorld!$X$6,MATCH('Data1984-2026World'!N40,RankingsWorld!$Y$7:$Y$61,0),0) -> Fra
C28: Ire | E28: =$I20*E$22/$I$22 -> 2.1694915 | F28: =$I20*F$22/$I$22 -> 4.3389831 | G28: =$I20*G$22/$I$22 -> 0.94915254 | H28: =$I20*H$22/$I$22 -> 0.54237288 | O28: 2021 | P28: =OFFSET(RankingsWorld!$X$6,MATCH('Data1984-2026World'!I42,RankingsWorld!$Y$7:$Y$61,0),0) -> Fra | Q28: =OFFSET(RankingsWorld!$X$6,MATCH('Data1984-2026World'!J42,RankingsWorld!$Y$7:$Y$61,0),0) -> Fra | R28: =OFFSET(RankingsWorld!$X$6,MATCH('Data1984-2026World'!M42,RankingsWorld!$Y$7:$Y$61,0),0) -> Fra | S28: =OFFSET(RankingsWorld!$X$6,MATCH('Data1984-2026World'!N42,RankingsWorld!$Y$7:$Y$61,0),0) -> Eng
C29: WSS | E29: =$I21*E$22/$I$22 -> 0.81355932 | F29: =$I21*F$22/$I$22 -> 1.6271186 | G29: =$I21*G$22/$I$22 -> 0.3559322 | H29: =$I21*H$22/$I$22 -> 0.20338983 | O29: =O28+1 -> 2022 | P29: =OFFSET(RankingsWorld!$X$6,MATCH('Data1984-2026World'!I43,RankingsWorld!$Y$7:$Y$61,0),0) -> Fra | Q29: =OFFSET(RankingsWorld!$X$6,MATCH('Data1984-2026World'!J43,RankingsWorld!$Y$7:$Y$61,0),0) -> Ire | R29: =OFFSET(RankingsWorld!$X$6,MATCH('Data1984-2026World'!M43,RankingsWorld!$Y$7:$Y$61,0),0) -> Fra | S29: =OFFSET(RankingsWorld!$X$6,MATCH('Data1984-2026World'!N43,RankingsWorld!$Y$7:$Y$61,0),0) -> Fra
O30: =O29+1 -> 2023 | P30: =OFFSET(RankingsWorld!$X$6,MATCH('Data1984-2026World'!I44,RankingsWorld!$Y$7:$Y$61,0),0) -> Fra | Q30: =OFFSET(RankingsWorld!$X$6,MATCH('Data1984-2026World'!J44,RankingsWorld!$Y$7:$Y$61,0),0) -> Ire | R30: =OFFSET(RankingsWorld!$X$6,MATCH('Data1984-2026World'!M44,RankingsWorld!$Y$7:$Y$61,0),0) -> Fra | S30: =OFFSET(RankingsWorld!$X$6,MATCH('Data1984-2026World'!N44,RankingsWorld!$Y$7:$Y$61,0),0) -> Sco
C31: C^2 | E31: Eng | F31: Fra | G31: Ire | H31: WSS | O31: =O30+1 -> 2024 | P31: =OFFSET(RankingsWorld!$X$6,MATCH('Data1984-2026World'!I45,RankingsWorld!$Y$7:$Y$61,0),0) -> Fra | Q31: =OFFSET(RankingsWorld!$X$6,MATCH('Data1984-2026World'!J45,RankingsWorld!$Y$7:$Y$61,0),0) -> Ire | R31: =OFFSET(RankingsWorld!$X$6,MATCH('Data1984-2026World'!M45,RankingsWorld!$Y$7:$Y$61,0),0) -> SAF | S31: =OFFSET(RankingsWorld!$X$6,MATCH('Data1984-2026World'!N45,RankingsWorld!$Y$7:$Y$61,0),0) -> Eng
O32: =O31+1 -> 2025 | P32: =OFFSET(RankingsWorld!$X$6,MATCH('Data1984-2026World'!I46,RankingsWorld!$Y$7:$Y$61,0),0) -> Fra | Q32: =OFFSET(RankingsWorld!$X$6,MATCH('Data1984-2026World'!J46,RankingsWorld!$Y$7:$Y$61,0),0) -> Eng | R32: =OFFSET(RankingsWorld!$X$6,MATCH('Data1984-2026World'!M46,RankingsWorld!$Y$7:$Y$61,0),0) -> Eng | S32: =OFFSET(RankingsWorld!$X$6,MATCH('Data1984-2026World'!N46,RankingsWorld!$Y$7:$Y$61,0),0) -> Fra
C33: Eng | E33: =(E7-E26)^2/E26 -> 0.24544031 | F33: =(F7-F26)^2/F26 -> 0.022130619 | G33: =(G7-G26)^2/G26 -> 0.026950205 | H33: =(H7-H26)^2/H26 -> 0.20062638 | I33: =SUM(E33:H33) -> 0.49514752 | O33: =O32+1 -> 2026 | P33: =OFFSET(RankingsWorld!$X$6,MATCH('Data1984-2026World'!I47,RankingsWorld!$Y$7:$Y$61,0),0) -> Fra | Q33: =OFFSET(RankingsWorld!$X$6,MATCH('Data1984-2026World'!J47,RankingsWorld!$Y$7:$Y$61,0),0) -> Ire | R33: =OFFSET(RankingsWorld!$X$6,MATCH('Data1984-2026World'!M47,RankingsWorld!$Y$7:$Y$61,0),0) -> Fra | S33: =OFFSET(RankingsWorld!$X$6,MATCH('Data1984-2026World'!N47,RankingsWorld!$Y$7:$Y$61,0),0) -> Ire
C34: Fra | E34: =(E8-E27)^2/E27 -> 0.0071610169 | F34: =(F8-F27)^2/F27 -> 0.023072034 | G34: =(G8-G27)^2/G27 -> 0.0003874092 | H34: =(H8-H27)^2/H27 -> 0.28491525 | I34: =SUM(E34:H34) -> 0.31553571 | O34: =O33+1 -> 2027 | P34: =OFFSET(RankingsWorld!$X$6,MATCH('Data1984-2026World'!I48,RankingsWorld!$Y$7:$Y$61,0),0) -> #N/A | Q34: =OFFSET(RankingsWorld!$X$6,MATCH('Data1984-2026World'!J48,RankingsWorld!$Y$7:$Y$61,0),0) -> #N/A | R34: =OFFSET(RankingsWorld!$X$6,MATCH('Data1984-2026World'!M48,RankingsWorld!$Y$7:$Y$61,0),0) -> #N/A | S34: =OFFSET(RankingsWorld!$X$6,MATCH('Data1984-2026World'!N48,RankingsWorld!$Y$7:$Y$61,0),0) -> #N/A
C35: Ire | E35: =(E9-E28)^2/E28 -> 0.013241525 | F35: =(F9-F28)^2/F28 -> 0.1007018 | G35: =(G9-G28)^2/G28 -> 0.0027239709 | H35: =(H9-H28)^2/H28 -> 0.54237288 | I35: =SUM(E35:H35) -> 0.65904018 | O35: =O34+1 -> 2028 | P35: =OFFSET(RankingsWorld!$X$6,MATCH('Data1984-2026World'!I49,RankingsWorld!$Y$7:$Y$61,0),0) -> #N/A | Q35: =OFFSET(RankingsWorld!$X$6,MATCH('Data1984-2026World'!J49,RankingsWorld!$Y$7:$Y$61,0),0) -> #N/A | R35: =OFFSET(RankingsWorld!$X$6,MATCH('Data1984-2026World'!M49,RankingsWorld!$Y$7:$Y$61,0),0) -> #N/A | S35: =OFFSET(RankingsWorld!$X$6,MATCH('Data1984-2026World'!N49,RankingsWorld!$Y$7:$Y$61,0),0) -> #N/A
C36: WSS | E36: =(E10-E29)^2/E29 -> 0.042725989 | F36: =(F10-F29)^2/F29 -> 0.24170198 | G36: =(G10-G29)^2/G29 -> 0.3559322 | H36: =(H10-H29)^2/H29 -> 0.20338983 | I36: =SUM(E36:H36) -> 0.84375
E37: =SUM(E33:E36) -> 0.30856884 | F37: =SUM(F33:F36) -> 0.38760643 | G37: =SUM(G33:G36) -> 0.38599379 | H37: =SUM(H33:H36) -> 1.2313043 | I37: =SUM(E33:H36) -> 2.3134734
I38: 9
I39: =CHIDIST(I37,I38) -> 0.98548646
C41: ACT | E41: Prem | F41: T14 | G41: URC | H41: Tot
C43: Prem | E43: =E18 -> 5 | F43: =F18 -> 13 | G43: =SUM(G7:J7) -> 5 | H43: =SUM(E43:G43) -> 23
C44: T14 | E44: =E19 -> 7 | F44: =F19 -> 13 | G44: =SUM(G8:J8) -> 5 | H44: =SUM(E44:G44) -> 25
C45: URC | E45: =SUM(E9:E12) -> 4 | F45: =SUM(F9:F12) -> 6 | G45: =SUM(G9:J12) -> 1 | H45: =SUM(E45:G45) -> 11
C46: Tot | E46: =SUM(E43:E45) -> 16 | F46: =SUM(F43:F45) -> 32 | G46: =SUM(G43:G45) -> 11 | H46: =SUM(E46:G46) -> 59
C48: EXP | E48: Prem | F48: T14 | G48: URC
C50: Prem | E50: =$H43*E$46/$I$22 -> 6.2372881 | F50: =$H43*F$46/$I$22 -> 12.474576 | G50: =$H43*G$46/$I$22 -> 4.2881356
C51: T14 | E51: =$H44*E$46/$I$22 -> 6.779661 | F51: =$H44*F$46/$I$22 -> 13.559322 | G51: =$H44*G$46/$I$22 -> 4.6610169
C52: URC | E52: =$H45*E$46/$I$22 -> 2.9830508 | F52: =$H45*F$46/$I$22 -> 5.9661017 | G52: =$H45*G$46/$I$22 -> 2.0508475
C54: C^2 | E54: Prem | F54: T14 | G54: URC
C56: Prem | E56: =(E43-E50)^2/E50 -> 0.24544031 | F56: =(F43-F50)^2/F50 -> 0.022130619 | G56: =(G43-G50)^2/G50 -> 0.11817512
C57: T14 | E57: =(E44-E51)^2/E51 -> 0.0071610169 | F57: =(F44-F51)^2/F51 -> 0.023072034 | G57: =(G44-G51)^2/G51 -> 0.024653313
C58: URC | E58: =(E45-E52)^2/E52 -> 0.34668721 | F58: =(F45-F52)^2/F52 -> 0.00019260401 | G58: =(G45-G52)^2/G52 -> 0.53845076
H59: =SUM(E56:G58) -> 1.325963
H60: 4
H61: =CHIDIST(H59,H60) -> 0.85695538
E63: # | F63: P(Fra)
C64: Celt V Fra | E64: =F45+G44 -> 11 | F64: =G44 -> 5 | G64: =BINOMDIST(F64,E64,0.5,1) -> 0.5 | H64: =BINOMDIST(6,23,0.5,1) -> 0.017344832
C65: Eng V Fra | E65: =E44+F43 -> 20 | F65: =E44 -> 7 | G65: =BINOMDIST(F65,E65,0.5,1) -> 0.13158798
C66: Eng V Celt | E66: =E45+G43 -> 9 | F66: =G43 -> 5
C67: Same | E67: =E43+F44+G45 -> 19
